BEGIN:VCALENDAR
VERSION:2.0
PRODID:-//De Leon Community Calendar - ECPv6.15.20//NONSGML v1.0//EN
CALSCALE:GREGORIAN
METHOD:PUBLISH
X-WR-CALNAME:De Leon Community Calendar
X-ORIGINAL-URL:https://deleoncommunitycalendar.com
X-WR-CALDESC:Events for De Leon Community Calendar
REFRESH-INTERVAL;VALUE=DURATION:PT1H
X-Robots-Tag:noindex
X-PUBLISHED-TTL:PT1H
BEGIN:VTIMEZONE
TZID:America/Chicago
BEGIN:DAYLIGHT
TZOFFSETFROM:-0600
TZOFFSETTO:-0500
TZNAME:CDT
DTSTART:20250309T080000
END:DAYLIGHT
BEGIN:STANDARD
TZOFFSETFROM:-0500
TZOFFSETTO:-0600
TZNAME:CST
DTSTART:20251102T070000
END:STANDARD
BEGIN:DAYLIGHT
TZOFFSETFROM:-0600
TZOFFSETTO:-0500
TZNAME:CDT
DTSTART:20260308T080000
END:DAYLIGHT
BEGIN:STANDARD
TZOFFSETFROM:-0500
TZOFFSETTO:-0600
TZNAME:CST
DTSTART:20261101T070000
END:STANDARD
BEGIN:DAYLIGHT
TZOFFSETFROM:-0600
TZOFFSETTO:-0500
TZNAME:CDT
DTSTART:20270314T080000
END:DAYLIGHT
BEGIN:STANDARD
TZOFFSETFROM:-0500
TZOFFSETTO:-0600
TZNAME:CST
DTSTART:20271107T070000
END:STANDARD
END:VTIMEZONE
BEGIN:VEVENT
DTSTART;TZID=America/Chicago:20260206T173000
DTEND;TZID=America/Chicago:20260206T203000
DTSTAMP:20260423T045057
CREATED:20260109T033935Z
LAST-MODIFIED:20260109T033935Z
UID:10001840-1770399000-1770409800@deleoncommunitycalendar.com
SUMMARY:3rd Annual Stick Nights
DESCRIPTION:We are hosting “stick nights” where\nyou get to help our Healthcare students\nget certified i n Phlebotomy. \nWe are asking for volunteers to help\nour students make “clean sticks” i n\norder to certify them i n Phlebotomy. \nA “clean stick” does not include a large\namount of blood\, just a visual\nconfirmation of venule puncture.
URL:https://deleoncommunitycalendar.com/event/3rd-annual-stick-nights-2/
LOCATION:De Leon High School\, 200 W Manchaca\, De Leon
ATTACH;FMTTYPE=image/jpeg:https://deleoncommunitycalendar.com/wp-content/uploads/2026/01/Stick-Night.jpg
END:VEVENT
END:VCALENDAR