BEGIN:VCALENDAR
VERSION:2.0
PRODID:-//De Leon Community Calendar - ECPv6.15.20//NONSGML v1.0//EN
CALSCALE:GREGORIAN
METHOD:PUBLISH
X-ORIGINAL-URL:https://deleoncommunitycalendar.com
X-WR-CALDESC:Events for De Leon Community Calendar
REFRESH-INTERVAL;VALUE=DURATION:PT1H
X-Robots-Tag:noindex
X-PUBLISHED-TTL:PT1H
BEGIN:VTIMEZONE
TZID:America/Chicago
BEGIN:DAYLIGHT
TZOFFSETFROM:-0600
TZOFFSETTO:-0500
TZNAME:CDT
DTSTART:20250309T080000
END:DAYLIGHT
BEGIN:STANDARD
TZOFFSETFROM:-0500
TZOFFSETTO:-0600
TZNAME:CST
DTSTART:20251102T070000
END:STANDARD
BEGIN:DAYLIGHT
TZOFFSETFROM:-0600
TZOFFSETTO:-0500
TZNAME:CDT
DTSTART:20260308T080000
END:DAYLIGHT
BEGIN:STANDARD
TZOFFSETFROM:-0500
TZOFFSETTO:-0600
TZNAME:CST
DTSTART:20261101T070000
END:STANDARD
BEGIN:DAYLIGHT
TZOFFSETFROM:-0600
TZOFFSETTO:-0500
TZNAME:CDT
DTSTART:20270314T080000
END:DAYLIGHT
BEGIN:STANDARD
TZOFFSETFROM:-0500
TZOFFSETTO:-0600
TZNAME:CST
DTSTART:20271107T070000
END:STANDARD
END:VTIMEZONE
BEGIN:VEVENT
DTSTART;VALUE=DATE:20260218
DTEND;VALUE=DATE:20260219
DTSTAMP:20260423T045516
CREATED:20260119T031953Z
LAST-MODIFIED:20260119T031953Z
UID:10001901-1771372800-1771459199@deleoncommunitycalendar.com
SUMMARY:February Betty Barrel Jackpot
DESCRIPTION:Every Wednesday in February
URL:https://deleoncommunitycalendar.com/event/february-betty-barrel-jackpot/2026-02-18/
LOCATION:16 North Arena\, 4740 State Highway 16\, De Leon\, TX\, 76444\, United States
ATTACH;FMTTYPE=image/jpeg:https://deleoncommunitycalendar.com/wp-content/uploads/2026/01/16-arena-feb-.jpg
END:VEVENT
BEGIN:VEVENT
DTSTART;TZID=America/Chicago:20260218T183000
DTEND;TZID=America/Chicago:20260218T193000
DTSTAMP:20260423T045516
CREATED:20260212T040634Z
LAST-MODIFIED:20260212T040634Z
UID:10002653-1771439400-1771443000@deleoncommunitycalendar.com
SUMMARY:Candidate Forum
DESCRIPTION:De Leon Senior Citizens invites you to a Candidates Forum Wednesday 18\, 2026 at 6:30 PM.
URL:https://deleoncommunitycalendar.com/event/candidate-forum/
LOCATION:De Leon Senior Citizens Center\, 133 N Ballpark Loop\, De Leon\, TX\, 76444\, United States
ATTACH;FMTTYPE=image/jpeg:https://deleoncommunitycalendar.com/wp-content/uploads/2026/02/Sr-Citizens.jpg
END:VEVENT
END:VCALENDAR