BEGIN:VCALENDAR
VERSION:2.0
PRODID:-//De Leon Community Calendar - ECPv6.15.20//NONSGML v1.0//EN
CALSCALE:GREGORIAN
METHOD:PUBLISH
X-WR-CALNAME:De Leon Community Calendar
X-ORIGINAL-URL:https://deleoncommunitycalendar.com
X-WR-CALDESC:Events for De Leon Community Calendar
REFRESH-INTERVAL;VALUE=DURATION:PT1H
X-Robots-Tag:noindex
X-PUBLISHED-TTL:PT1H
BEGIN:VTIMEZONE
TZID:America/Chicago
BEGIN:DAYLIGHT
TZOFFSETFROM:-0600
TZOFFSETTO:-0500
TZNAME:CDT
DTSTART:20250309T080000
END:DAYLIGHT
BEGIN:STANDARD
TZOFFSETFROM:-0500
TZOFFSETTO:-0600
TZNAME:CST
DTSTART:20251102T070000
END:STANDARD
BEGIN:DAYLIGHT
TZOFFSETFROM:-0600
TZOFFSETTO:-0500
TZNAME:CDT
DTSTART:20260308T080000
END:DAYLIGHT
BEGIN:STANDARD
TZOFFSETFROM:-0500
TZOFFSETTO:-0600
TZNAME:CST
DTSTART:20261101T070000
END:STANDARD
BEGIN:DAYLIGHT
TZOFFSETFROM:-0600
TZOFFSETTO:-0500
TZNAME:CDT
DTSTART:20270314T080000
END:DAYLIGHT
BEGIN:STANDARD
TZOFFSETFROM:-0500
TZOFFSETTO:-0600
TZNAME:CST
DTSTART:20271107T070000
END:STANDARD
END:VTIMEZONE
BEGIN:VEVENT
DTSTART;TZID=America/Chicago:20260418T180000
DTEND;TZID=America/Chicago:20260418T200000
DTSTAMP:20260423T022058
CREATED:20260408T025505Z
LAST-MODIFIED:20260408T025505Z
UID:10002798-1776535200-1776542400@deleoncommunitycalendar.com
SUMMARY:De Leon HS UIL OAP
DESCRIPTION:Join us for a special evening of theatre\, food\, and community! \nDe Leon High School proudly presents its award-winning UIL One Act Play\, The Miraculous Journey of Edward Tulane\, in a public performance on April 18 at 6:00 PM. Guests will enjoy a delicious meal followed by the heartfelt production\, along with an exciting auction to support our talented students. \nDon’t miss this unforgettable night as our cast brings Edward’s journey to life—full of hope\, love\, and discovery!
URL:https://deleoncommunitycalendar.com/event/de-leon-hs-uil-oap/
LOCATION:De Leon High School\, 200 W Manchaca\, De Leon
ATTACH;FMTTYPE=image/png:https://deleoncommunitycalendar.com/wp-content/uploads/2026/04/090687D0-4633-40BD-9B4D-C860BA5CA97D.png
END:VEVENT
END:VCALENDAR