BEGIN:VCALENDAR
VERSION:2.0
PRODID:-//De Leon Community Calendar - ECPv6.15.20//NONSGML v1.0//EN
CALSCALE:GREGORIAN
METHOD:PUBLISH
X-ORIGINAL-URL:https://deleoncommunitycalendar.com
X-WR-CALDESC:Events for De Leon Community Calendar
REFRESH-INTERVAL;VALUE=DURATION:PT1H
X-Robots-Tag:noindex
X-PUBLISHED-TTL:PT1H
BEGIN:VTIMEZONE
TZID:America/Chicago
BEGIN:DAYLIGHT
TZOFFSETFROM:-0600
TZOFFSETTO:-0500
TZNAME:CDT
DTSTART:20250309T080000
END:DAYLIGHT
BEGIN:STANDARD
TZOFFSETFROM:-0500
TZOFFSETTO:-0600
TZNAME:CST
DTSTART:20251102T070000
END:STANDARD
BEGIN:DAYLIGHT
TZOFFSETFROM:-0600
TZOFFSETTO:-0500
TZNAME:CDT
DTSTART:20260308T080000
END:DAYLIGHT
BEGIN:STANDARD
TZOFFSETFROM:-0500
TZOFFSETTO:-0600
TZNAME:CST
DTSTART:20261101T070000
END:STANDARD
BEGIN:DAYLIGHT
TZOFFSETFROM:-0600
TZOFFSETTO:-0500
TZNAME:CDT
DTSTART:20270314T080000
END:DAYLIGHT
BEGIN:STANDARD
TZOFFSETFROM:-0500
TZOFFSETTO:-0600
TZNAME:CST
DTSTART:20271107T070000
END:STANDARD
END:VTIMEZONE
BEGIN:VEVENT
DTSTART;TZID=America/Chicago:20260425T080000
DTEND;TZID=America/Chicago:20260425T120000
DTSTAMP:20260423T021009
CREATED:20260414T022258Z
LAST-MODIFIED:20260414T022258Z
UID:10002804-1777104000-1777118400@deleoncommunitycalendar.com
SUMMARY:Bake Sale for Children's Camp
DESCRIPTION:Bake sale for children to go to Children’s camp with FBC De Leon.
URL:https://deleoncommunitycalendar.com/event/bake-sale-for-childrens-camp/
LOCATION:Spring Market\, 725 N. Texas Street\, De Leon\, Texas\, 76444
ATTACH;FMTTYPE=image/png:https://deleoncommunitycalendar.com/wp-content/uploads/2026/04/Screenshot-2026-04-13-at-2.40.21-PM.png
ORGANIZER;CN="De Leon FBC Children":MAILTO:deleonfbc@gmail.com
END:VEVENT
BEGIN:VEVENT
DTSTART;TZID=America/Chicago:20260425T090000
DTEND;TZID=America/Chicago:20260425T140000
DTSTAMP:20260423T021009
CREATED:20260205T045350Z
LAST-MODIFIED:20260205T045350Z
UID:10002151-1777107600-1777125600@deleoncommunitycalendar.com
SUMMARY:Dungeons and Dragons Club
DESCRIPTION:De Leon Library will start hosting a Dungeons and Dragons Table Top Role-Playing Club. This Club will be meeting on the second and fourth Saturdays of the month\, starting on February the 28th. The club will play all day\, from 9 AM – 2 PM\, and all materials will be provided for players. These games will be open to players of all experience levels. Whether you’re a level 1 human fighter or a level 20 changeling druid\, come join the fun and let your imagination take you on a grand adventure!
URL:https://deleoncommunitycalendar.com/event/dungeons-and-dragons-club/2026-04-25/
LOCATION:De Leon City-County Library\, 125 E Reynosa Ave\, De Leon\, TX\, 76444\, United States
ATTACH;FMTTYPE=image/png:https://deleoncommunitycalendar.com/wp-content/uploads/2026/02/DD-Campaign.png
ORGANIZER;CN="De Leon Library":MAILTO:library@cityofdeleon.org
END:VEVENT
BEGIN:VEVENT
DTSTART;TZID=America/Chicago:20260425T100000
DTEND;TZID=America/Chicago:20260425T110000
DTSTAMP:20260423T021009
CREATED:20260408T025547Z
LAST-MODIFIED:20260408T025547Z
UID:10002799-1777111200-1777114800@deleoncommunitycalendar.com
SUMMARY:Earth Day at De Leon Library
DESCRIPTION:Come to De Leon Library on Saturday\, April 25th at 10:00 am to celebrate Earth Day! 🌎\nOur guest from Womack Nursery will be here to teach you all about planting your tree. 🌳\nIf you registered for a free tree through Neighborhood Forest\, you will pick them up here. If they are not ready\, we will call you to set up a pickup time. 🌱\nSee you then! ✨
URL:https://deleoncommunitycalendar.com/event/earth-day-at-de-leon-library/
LOCATION:De Leon City-County Library\, 125 E Reynosa Ave\, De Leon\, TX\, 76444\, United States
ATTACH;FMTTYPE=image/png:https://deleoncommunitycalendar.com/wp-content/uploads/2026/04/DLL-Earth-Day-Pickup.png
ORGANIZER;CN="De Leon Library":MAILTO:library@cityofdeleon.org
END:VEVENT
END:VCALENDAR