BEGIN:VCALENDAR
VERSION:2.0
PRODID:-//De Leon Community Calendar - ECPv6.15.20//NONSGML v1.0//EN
CALSCALE:GREGORIAN
METHOD:PUBLISH
X-WR-CALNAME:De Leon Community Calendar
X-ORIGINAL-URL:https://deleoncommunitycalendar.com
X-WR-CALDESC:Events for De Leon Community Calendar
REFRESH-INTERVAL;VALUE=DURATION:PT1H
X-Robots-Tag:noindex
X-PUBLISHED-TTL:PT1H
BEGIN:VTIMEZONE
TZID:America/Chicago
BEGIN:DAYLIGHT
TZOFFSETFROM:-0600
TZOFFSETTO:-0500
TZNAME:CDT
DTSTART:20250309T080000
END:DAYLIGHT
BEGIN:STANDARD
TZOFFSETFROM:-0500
TZOFFSETTO:-0600
TZNAME:CST
DTSTART:20251102T070000
END:STANDARD
BEGIN:DAYLIGHT
TZOFFSETFROM:-0600
TZOFFSETTO:-0500
TZNAME:CDT
DTSTART:20260308T080000
END:DAYLIGHT
BEGIN:STANDARD
TZOFFSETFROM:-0500
TZOFFSETTO:-0600
TZNAME:CST
DTSTART:20261101T070000
END:STANDARD
BEGIN:DAYLIGHT
TZOFFSETFROM:-0600
TZOFFSETTO:-0500
TZNAME:CDT
DTSTART:20270314T080000
END:DAYLIGHT
BEGIN:STANDARD
TZOFFSETFROM:-0500
TZOFFSETTO:-0600
TZNAME:CST
DTSTART:20271107T070000
END:STANDARD
END:VTIMEZONE
BEGIN:VEVENT
DTSTART;TZID=America/Chicago:20260106T093000
DTEND;TZID=America/Chicago:20260106T103000
DTSTAMP:20260423T162823
CREATED:20250911T125620Z
LAST-MODIFIED:20250911T125620Z
UID:10000025-1767691800-1767695400@deleoncommunitycalendar.com
SUMMARY:Story Time at De Leon Library
DESCRIPTION:Story Time: Presented By\nLocal Author Jamie R. Cole \nWatch Jamie Cole bring stories to life with her creativity and enthusiasm! Kids love her energy and always have a fantastic time. Story Time takes place every Tuesday at the De Leon Library during the school year. Each week brings something new to enjoy! Hear a story\, sing a song\, do a craft\, and discover the magic of reading together. \nWhen — Tuesdays | 9:30 a.m. \nWhere — De Leon City-County Library
URL:https://deleoncommunitycalendar.com/event/story-time-at-de-leon-library/2026-01-06/
LOCATION:De Leon City-County Library\, 125 E Reynosa Ave\, De Leon\, TX\, 76444\, United States
ATTACH;FMTTYPE=image/jpeg:https://deleoncommunitycalendar.com/wp-content/uploads/2025/09/IMG_20250902_102114771-scaled.jpg
ORGANIZER;CN="De Leon Library":MAILTO:library@cityofdeleon.org
END:VEVENT
BEGIN:VEVENT
DTSTART;VALUE=DATE:20260107
DTEND;VALUE=DATE:20260108
DTSTAMP:20260423T162823
CREATED:20260108T030830Z
LAST-MODIFIED:20260109T130214Z
UID:10001730-1767744000-1767830399@deleoncommunitycalendar.com
SUMMARY:January Barrel Series @ 16 North Arena
DESCRIPTION:The New Year’s just around the corner looking forward to seeing everybody for the January series! 7th 14th\, 21st and 28th ￼
URL:https://deleoncommunitycalendar.com/event/january-barrel-series-16-north-arena/2026-01-07/
LOCATION:16 North Arena\, 4740 State Highway 16\, De Leon\, TX\, 76444\, United States
ATTACH;FMTTYPE=image/jpeg:https://deleoncommunitycalendar.com/wp-content/uploads/2026/01/16-Arena-January.jpg
END:VEVENT
BEGIN:VEVENT
DTSTART;VALUE=DATE:20260110
DTEND;VALUE=DATE:20260113
DTSTAMP:20260423T162823
CREATED:20260108T030015Z
LAST-MODIFIED:20260108T030015Z
UID:10001728-1768003200-1768262399@deleoncommunitycalendar.com
SUMMARY:Comanche County Jr Livestock Show
DESCRIPTION:Join us for the 91st Annual Comanche County Jr Livestock Show.
URL:https://deleoncommunitycalendar.com/event/comanche-county-jr-livestock-show/
LOCATION:Comanche County LIvestock Showbarn\, 1700 N. Lane\, Comanche\, TX\, 76442\, United States
ATTACH;FMTTYPE=image/jpeg:https://deleoncommunitycalendar.com/wp-content/uploads/2026/01/Comanche-Co-Livestock-Assn.jpg
END:VEVENT
BEGIN:VEVENT
DTSTART;TZID=America/Chicago:20260112T103000
DTEND;TZID=America/Chicago:20260112T130000
DTSTAMP:20260423T162823
CREATED:20260112T025718Z
LAST-MODIFIED:20260112T025718Z
UID:10001898-1768213800-1768222800@deleoncommunitycalendar.com
SUMMARY:Rush Creek Band @ De Leon Sr Citizens
DESCRIPTION:The Rush Creek Band will be  at De Leon Senior Citizens at 10:30 Monday.  Please come and join us . Enjoy great music and a delicious meal 👏🏽
URL:https://deleoncommunitycalendar.com/event/rush-creek-band-de-leon-sr-citizens/
LOCATION:De Leon Senior Citizens Center\, 133 N Ballpark Loop\, De Leon\, TX\, 76444\, United States
ATTACH;FMTTYPE=image/png:https://deleoncommunitycalendar.com/wp-content/uploads/2026/01/Rush-Creek.png
END:VEVENT
BEGIN:VEVENT
DTSTART;TZID=America/Chicago:20260113T093000
DTEND;TZID=America/Chicago:20260113T103000
DTSTAMP:20260423T162823
CREATED:20250911T125620Z
LAST-MODIFIED:20250911T125620Z
UID:10000026-1768296600-1768300200@deleoncommunitycalendar.com
SUMMARY:Story Time at De Leon Library
DESCRIPTION:Story Time: Presented By\nLocal Author Jamie R. Cole \nWatch Jamie Cole bring stories to life with her creativity and enthusiasm! Kids love her energy and always have a fantastic time. Story Time takes place every Tuesday at the De Leon Library during the school year. Each week brings something new to enjoy! Hear a story\, sing a song\, do a craft\, and discover the magic of reading together. \nWhen — Tuesdays | 9:30 a.m. \nWhere — De Leon City-County Library
URL:https://deleoncommunitycalendar.com/event/story-time-at-de-leon-library/2026-01-13/
LOCATION:De Leon City-County Library\, 125 E Reynosa Ave\, De Leon\, TX\, 76444\, United States
ATTACH;FMTTYPE=image/jpeg:https://deleoncommunitycalendar.com/wp-content/uploads/2025/09/IMG_20250902_102114771-scaled.jpg
ORGANIZER;CN="De Leon Library":MAILTO:library@cityofdeleon.org
END:VEVENT
BEGIN:VEVENT
DTSTART;TZID=America/Chicago:20260113T110000
DTEND;TZID=America/Chicago:20260113T130000
DTSTAMP:20260423T162823
CREATED:20260109T034405Z
LAST-MODIFIED:20260109T034405Z
UID:10001894-1768302000-1768309200@deleoncommunitycalendar.com
SUMMARY:Comanche County Retired School Employees Meeting
DESCRIPTION:The Comanche County Retired School Employees will meet Tuesday\, January 13\, 2026 at the Harvest La Creperie in Comanche. The meeting will begin at 11 a.m. Karen Hoelscher\, District President\, will speak.
URL:https://deleoncommunitycalendar.com/event/comanche-county-retired-school-employees-meeting/
LOCATION:Harvest La Crêperie\, 112 N Austin St\, Comanche\, TX\, 76442\, United States
ATTACH;FMTTYPE=image/jpeg:https://deleoncommunitycalendar.com/wp-content/uploads/2026/01/CCRSE.jpg
END:VEVENT
BEGIN:VEVENT
DTSTART;TZID=America/Chicago:20260113T130000
DTEND;TZID=America/Chicago:20260113T150000
DTSTAMP:20260423T162823
CREATED:20260108T024457Z
LAST-MODIFIED:20260108T024457Z
UID:10001467-1768309200-1768316400@deleoncommunitycalendar.com
SUMMARY:Mah Jongg Meetup
DESCRIPTION:De Leon Library Mah Jongg Meetup\nAmerican Mah Jongg \nJoin us every Tuesday at 1:00 PM at De Leon Library for our weekly Mah Jongg meetup! \nWe play American Mah Jongg\, and all skill levels are welcome. Whether you’re a seasoned veteran or a total beginner who wants to learn\, come hang out at De Leon Library!  \nNo pressure\, just fun and tiles!\nSee you Tuesday at 1:00 PM at De Leon Library!
URL:https://deleoncommunitycalendar.com/event/mah-jongg-meetup/2026-01-13/
LOCATION:De Leon City-County Library\, 125 E Reynosa Ave\, De Leon\, TX\, 76444\, United States
ATTACH;FMTTYPE=image/png:https://deleoncommunitycalendar.com/wp-content/uploads/2026/01/Mah-Jongg.png
ORGANIZER;CN="De Leon Library":MAILTO:library@cityofdeleon.org
END:VEVENT
BEGIN:VEVENT
DTSTART;VALUE=DATE:20260114
DTEND;VALUE=DATE:20260115
DTSTAMP:20260423T162823
CREATED:20260108T030830Z
LAST-MODIFIED:20260109T130214Z
UID:10001731-1768348800-1768435199@deleoncommunitycalendar.com
SUMMARY:January Barrel Series @ 16 North Arena
DESCRIPTION:The New Year’s just around the corner looking forward to seeing everybody for the January series! 7th 14th\, 21st and 28th ￼
URL:https://deleoncommunitycalendar.com/event/january-barrel-series-16-north-arena/2026-01-14/
LOCATION:16 North Arena\, 4740 State Highway 16\, De Leon\, TX\, 76444\, United States
ATTACH;FMTTYPE=image/jpeg:https://deleoncommunitycalendar.com/wp-content/uploads/2026/01/16-Arena-January.jpg
END:VEVENT
BEGIN:VEVENT
DTSTART;TZID=America/Chicago:20260115T163000
DTEND;TZID=America/Chicago:20260115T173000
DTSTAMP:20260423T162823
CREATED:20251205T031149Z
LAST-MODIFIED:20251205T031149Z
UID:10001394-1768494600-1768498200@deleoncommunitycalendar.com
SUMMARY:Pokémon Club
DESCRIPTION:Pokémon Club! \nCalling all Pokémon Trainers! \nJoin us at the De Leon Library every third Thursday of the month for Pokémon Club! Trade cards\, duel with friends\, watch episodes\, participate in Pokémon themed crafts\, and much more! \nWant to meet others who love Pokémon just as much as you! Come to De Leon Library’s Pokémon Club this month on Thursday\, December 18th at 4:30 p.m. \nJoin the club and spread the word!  \nWhen — Every Third Thursday | 4:30 p.m. \nWhere — De Leon City-County Library
URL:https://deleoncommunitycalendar.com/event/pokemon-club/2026-01-15/
LOCATION:De Leon City-County Library\, 125 E Reynosa Ave\, De Leon\, TX\, 76444\, United States
ATTACH;FMTTYPE=image/png:https://deleoncommunitycalendar.com/wp-content/uploads/2025/12/DLL-Pokemon-Club.png
ORGANIZER;CN="De Leon Library":MAILTO:library@cityofdeleon.org
END:VEVENT
BEGIN:VEVENT
DTSTART;TZID=America/Chicago:20260115T173000
DTEND;TZID=America/Chicago:20260115T210000
DTSTAMP:20260423T162823
CREATED:20260108T030420Z
LAST-MODIFIED:20260108T030420Z
UID:10001729-1768498200-1768510800@deleoncommunitycalendar.com
SUMMARY:91st Annual Comanche County Jr Livestock Show Premium Sale
DESCRIPTION:Please join us for our premium sale.\nBuyers dinner begins at 5:30\nbuyers eat free.\nPremium sale will begin at 6:30 PM.\nIf you’re unable to attend\, please consider adding premium with add-on’s
URL:https://deleoncommunitycalendar.com/event/91st-annual-comanche-county-jr-livestock-show-premium-sale/
LOCATION:Evans Sale Barn\, 708 CR 332\, Dublin\, TX\, 76442\, United States
ATTACH;FMTTYPE=image/jpeg:https://deleoncommunitycalendar.com/wp-content/uploads/2026/01/Comanche-Co-Livestock-Prem-Sale.jpg
END:VEVENT
BEGIN:VEVENT
DTSTART;TZID=America/Chicago:20260119T180000
DTEND;TZID=America/Chicago:20260119T200000
DTSTAMP:20260423T162823
CREATED:20260112T025008Z
LAST-MODIFIED:20260112T025008Z
UID:10001896-1768845600-1768852800@deleoncommunitycalendar.com
SUMMARY:Desdemona Activity Center Annual Meeting
DESCRIPTION:Join us as we celebrate 2025\, share highlights\, and plan for the future together!
URL:https://deleoncommunitycalendar.com/event/desdemona-activity-center-annual-meeting/
LOCATION:Desdemona Activity Center\, 6035 FM-8\, Desdemona\, TX\, 76445\, United States
ATTACH;FMTTYPE=image/jpeg:https://deleoncommunitycalendar.com/wp-content/uploads/2026/01/DAC-Annual.jpg
END:VEVENT
BEGIN:VEVENT
DTSTART;TZID=America/Chicago:20260120T093000
DTEND;TZID=America/Chicago:20260120T103000
DTSTAMP:20260423T162823
CREATED:20250911T125620Z
LAST-MODIFIED:20250911T125620Z
UID:10000027-1768901400-1768905000@deleoncommunitycalendar.com
SUMMARY:Story Time at De Leon Library
DESCRIPTION:Story Time: Presented By\nLocal Author Jamie R. Cole \nWatch Jamie Cole bring stories to life with her creativity and enthusiasm! Kids love her energy and always have a fantastic time. Story Time takes place every Tuesday at the De Leon Library during the school year. Each week brings something new to enjoy! Hear a story\, sing a song\, do a craft\, and discover the magic of reading together. \nWhen — Tuesdays | 9:30 a.m. \nWhere — De Leon City-County Library
URL:https://deleoncommunitycalendar.com/event/story-time-at-de-leon-library/2026-01-20/
LOCATION:De Leon City-County Library\, 125 E Reynosa Ave\, De Leon\, TX\, 76444\, United States
ATTACH;FMTTYPE=image/jpeg:https://deleoncommunitycalendar.com/wp-content/uploads/2025/09/IMG_20250902_102114771-scaled.jpg
ORGANIZER;CN="De Leon Library":MAILTO:library@cityofdeleon.org
END:VEVENT
BEGIN:VEVENT
DTSTART;TZID=America/Chicago:20260120T130000
DTEND;TZID=America/Chicago:20260120T150000
DTSTAMP:20260423T162823
CREATED:20260108T024457Z
LAST-MODIFIED:20260108T024457Z
UID:10001468-1768914000-1768921200@deleoncommunitycalendar.com
SUMMARY:Mah Jongg Meetup
DESCRIPTION:De Leon Library Mah Jongg Meetup\nAmerican Mah Jongg \nJoin us every Tuesday at 1:00 PM at De Leon Library for our weekly Mah Jongg meetup! \nWe play American Mah Jongg\, and all skill levels are welcome. Whether you’re a seasoned veteran or a total beginner who wants to learn\, come hang out at De Leon Library!  \nNo pressure\, just fun and tiles!\nSee you Tuesday at 1:00 PM at De Leon Library!
URL:https://deleoncommunitycalendar.com/event/mah-jongg-meetup/2026-01-20/
LOCATION:De Leon City-County Library\, 125 E Reynosa Ave\, De Leon\, TX\, 76444\, United States
ATTACH;FMTTYPE=image/png:https://deleoncommunitycalendar.com/wp-content/uploads/2026/01/Mah-Jongg.png
ORGANIZER;CN="De Leon Library":MAILTO:library@cityofdeleon.org
END:VEVENT
BEGIN:VEVENT
DTSTART;TZID=America/Chicago:20260120T173000
DTEND;TZID=America/Chicago:20260120T203000
DTSTAMP:20260423T162823
CREATED:20260109T033845Z
LAST-MODIFIED:20260109T130102Z
UID:10001786-1768930200-1768941000@deleoncommunitycalendar.com
SUMMARY:3rd Annual Stick Nights
DESCRIPTION:We are hosting “stick nights” where\nyou get to help our Healthcare students\nget certified i n Phlebotomy. \nWe are asking for volunteers to help\nour students make “clean sticks” i n\norder to certify them i n Phlebotomy. \nA “clean stick” does not include a large\namount of blood\, just a visual\nconfirmation of venule puncture.
URL:https://deleoncommunitycalendar.com/event/3rd-annual-stick-nights/2026-01-20/
LOCATION:De Leon High School\, 200 W Manchaca\, De Leon
ATTACH;FMTTYPE=image/jpeg:https://deleoncommunitycalendar.com/wp-content/uploads/2026/01/Stick-Night.jpg
END:VEVENT
BEGIN:VEVENT
DTSTART;VALUE=DATE:20260121
DTEND;VALUE=DATE:20260122
DTSTAMP:20260423T162823
CREATED:20260108T030830Z
LAST-MODIFIED:20260109T130214Z
UID:10001732-1768953600-1769039999@deleoncommunitycalendar.com
SUMMARY:January Barrel Series @ 16 North Arena
DESCRIPTION:The New Year’s just around the corner looking forward to seeing everybody for the January series! 7th 14th\, 21st and 28th ￼
URL:https://deleoncommunitycalendar.com/event/january-barrel-series-16-north-arena/2026-01-21/
LOCATION:16 North Arena\, 4740 State Highway 16\, De Leon\, TX\, 76444\, United States
ATTACH;FMTTYPE=image/jpeg:https://deleoncommunitycalendar.com/wp-content/uploads/2026/01/16-Arena-January.jpg
END:VEVENT
BEGIN:VEVENT
DTSTART;TZID=America/Chicago:20260127T093000
DTEND;TZID=America/Chicago:20260127T103000
DTSTAMP:20260423T162823
CREATED:20250911T125620Z
LAST-MODIFIED:20250911T125620Z
UID:10000028-1769506200-1769509800@deleoncommunitycalendar.com
SUMMARY:Story Time at De Leon Library
DESCRIPTION:Story Time: Presented By\nLocal Author Jamie R. Cole \nWatch Jamie Cole bring stories to life with her creativity and enthusiasm! Kids love her energy and always have a fantastic time. Story Time takes place every Tuesday at the De Leon Library during the school year. Each week brings something new to enjoy! Hear a story\, sing a song\, do a craft\, and discover the magic of reading together. \nWhen — Tuesdays | 9:30 a.m. \nWhere — De Leon City-County Library
URL:https://deleoncommunitycalendar.com/event/story-time-at-de-leon-library/2026-01-27/
LOCATION:De Leon City-County Library\, 125 E Reynosa Ave\, De Leon\, TX\, 76444\, United States
ATTACH;FMTTYPE=image/jpeg:https://deleoncommunitycalendar.com/wp-content/uploads/2025/09/IMG_20250902_102114771-scaled.jpg
ORGANIZER;CN="De Leon Library":MAILTO:library@cityofdeleon.org
END:VEVENT
BEGIN:VEVENT
DTSTART;TZID=America/Chicago:20260127T130000
DTEND;TZID=America/Chicago:20260127T150000
DTSTAMP:20260423T162823
CREATED:20260108T024457Z
LAST-MODIFIED:20260108T024457Z
UID:10001469-1769518800-1769526000@deleoncommunitycalendar.com
SUMMARY:Mah Jongg Meetup
DESCRIPTION:De Leon Library Mah Jongg Meetup\nAmerican Mah Jongg \nJoin us every Tuesday at 1:00 PM at De Leon Library for our weekly Mah Jongg meetup! \nWe play American Mah Jongg\, and all skill levels are welcome. Whether you’re a seasoned veteran or a total beginner who wants to learn\, come hang out at De Leon Library!  \nNo pressure\, just fun and tiles!\nSee you Tuesday at 1:00 PM at De Leon Library!
URL:https://deleoncommunitycalendar.com/event/mah-jongg-meetup/2026-01-27/
LOCATION:De Leon City-County Library\, 125 E Reynosa Ave\, De Leon\, TX\, 76444\, United States
ATTACH;FMTTYPE=image/png:https://deleoncommunitycalendar.com/wp-content/uploads/2026/01/Mah-Jongg.png
ORGANIZER;CN="De Leon Library":MAILTO:library@cityofdeleon.org
END:VEVENT
BEGIN:VEVENT
DTSTART;TZID=America/Chicago:20260127T173000
DTEND;TZID=America/Chicago:20260127T203000
DTSTAMP:20260423T162823
CREATED:20260109T033845Z
LAST-MODIFIED:20260109T130102Z
UID:10001787-1769535000-1769545800@deleoncommunitycalendar.com
SUMMARY:3rd Annual Stick Nights
DESCRIPTION:We are hosting “stick nights” where\nyou get to help our Healthcare students\nget certified i n Phlebotomy. \nWe are asking for volunteers to help\nour students make “clean sticks” i n\norder to certify them i n Phlebotomy. \nA “clean stick” does not include a large\namount of blood\, just a visual\nconfirmation of venule puncture.
URL:https://deleoncommunitycalendar.com/event/3rd-annual-stick-nights/2026-01-27/
LOCATION:De Leon High School\, 200 W Manchaca\, De Leon
ATTACH;FMTTYPE=image/jpeg:https://deleoncommunitycalendar.com/wp-content/uploads/2026/01/Stick-Night.jpg
END:VEVENT
BEGIN:VEVENT
DTSTART;VALUE=DATE:20260128
DTEND;VALUE=DATE:20260129
DTSTAMP:20260423T162823
CREATED:20260108T030830Z
LAST-MODIFIED:20260109T130214Z
UID:10001733-1769558400-1769644799@deleoncommunitycalendar.com
SUMMARY:January Barrel Series @ 16 North Arena
DESCRIPTION:The New Year’s just around the corner looking forward to seeing everybody for the January series! 7th 14th\, 21st and 28th ￼
URL:https://deleoncommunitycalendar.com/event/january-barrel-series-16-north-arena/2026-01-28/
LOCATION:16 North Arena\, 4740 State Highway 16\, De Leon\, TX\, 76444\, United States
ATTACH;FMTTYPE=image/jpeg:https://deleoncommunitycalendar.com/wp-content/uploads/2026/01/16-Arena-January.jpg
END:VEVENT
BEGIN:VEVENT
DTSTART;TZID=America/Chicago:20260202T173000
DTEND;TZID=America/Chicago:20260202T183000
DTSTAMP:20260423T162823
CREATED:20260120T033806Z
LAST-MODIFIED:20260120T130103Z
UID:10001956-1770053400-1770057000@deleoncommunitycalendar.com
SUMMARY:De Leon Area Historical Society Meeting
DESCRIPTION:Autry Andress will present the program.  James M. and Alice Ophelia Hornbuckle Andress came to Comanche County with several other families\, including the Jenkins family\, before 1891. The DAHS Meetings are open to anyone who would like to attend.
URL:https://deleoncommunitycalendar.com/event/de-leon-area-historical-society-meeting-3/
LOCATION:De Leon Area Historical Museum\, 173 North Texas Street\, De Leon\, TX\, 76444\, United States
ATTACH;FMTTYPE=image/jpeg:https://deleoncommunitycalendar.com/wp-content/uploads/2026/01/Picture2.jpg
END:VEVENT
BEGIN:VEVENT
DTSTART;TZID=America/Chicago:20260203T093000
DTEND;TZID=America/Chicago:20260203T103000
DTSTAMP:20260423T162823
CREATED:20250911T125620Z
LAST-MODIFIED:20250911T125620Z
UID:10000029-1770111000-1770114600@deleoncommunitycalendar.com
SUMMARY:Story Time at De Leon Library
DESCRIPTION:Story Time: Presented By\nLocal Author Jamie R. Cole \nWatch Jamie Cole bring stories to life with her creativity and enthusiasm! Kids love her energy and always have a fantastic time. Story Time takes place every Tuesday at the De Leon Library during the school year. Each week brings something new to enjoy! Hear a story\, sing a song\, do a craft\, and discover the magic of reading together. \nWhen — Tuesdays | 9:30 a.m. \nWhere — De Leon City-County Library
URL:https://deleoncommunitycalendar.com/event/story-time-at-de-leon-library/2026-02-03/
LOCATION:De Leon City-County Library\, 125 E Reynosa Ave\, De Leon\, TX\, 76444\, United States
ATTACH;FMTTYPE=image/jpeg:https://deleoncommunitycalendar.com/wp-content/uploads/2025/09/IMG_20250902_102114771-scaled.jpg
ORGANIZER;CN="De Leon Library":MAILTO:library@cityofdeleon.org
END:VEVENT
BEGIN:VEVENT
DTSTART;TZID=America/Chicago:20260203T130000
DTEND;TZID=America/Chicago:20260203T150000
DTSTAMP:20260423T162823
CREATED:20260108T024457Z
LAST-MODIFIED:20260108T024457Z
UID:10001470-1770123600-1770130800@deleoncommunitycalendar.com
SUMMARY:Mah Jongg Meetup
DESCRIPTION:De Leon Library Mah Jongg Meetup\nAmerican Mah Jongg \nJoin us every Tuesday at 1:00 PM at De Leon Library for our weekly Mah Jongg meetup! \nWe play American Mah Jongg\, and all skill levels are welcome. Whether you’re a seasoned veteran or a total beginner who wants to learn\, come hang out at De Leon Library!  \nNo pressure\, just fun and tiles!\nSee you Tuesday at 1:00 PM at De Leon Library!
URL:https://deleoncommunitycalendar.com/event/mah-jongg-meetup/2026-02-03/
LOCATION:De Leon City-County Library\, 125 E Reynosa Ave\, De Leon\, TX\, 76444\, United States
ATTACH;FMTTYPE=image/png:https://deleoncommunitycalendar.com/wp-content/uploads/2026/01/Mah-Jongg.png
ORGANIZER;CN="De Leon Library":MAILTO:library@cityofdeleon.org
END:VEVENT
BEGIN:VEVENT
DTSTART;VALUE=DATE:20260204
DTEND;VALUE=DATE:20260205
DTSTAMP:20260423T162823
CREATED:20260119T031953Z
LAST-MODIFIED:20260119T031953Z
UID:10001899-1770163200-1770249599@deleoncommunitycalendar.com
SUMMARY:February Betty Barrel Jackpot
DESCRIPTION:Every Wednesday in February
URL:https://deleoncommunitycalendar.com/event/february-betty-barrel-jackpot/2026-02-04/
LOCATION:16 North Arena\, 4740 State Highway 16\, De Leon\, TX\, 76444\, United States
ATTACH;FMTTYPE=image/jpeg:https://deleoncommunitycalendar.com/wp-content/uploads/2026/01/16-arena-feb-.jpg
END:VEVENT
BEGIN:VEVENT
DTSTART;TZID=America/Chicago:20260206T173000
DTEND;TZID=America/Chicago:20260206T203000
DTSTAMP:20260423T162823
CREATED:20260109T033935Z
LAST-MODIFIED:20260109T033935Z
UID:10001840-1770399000-1770409800@deleoncommunitycalendar.com
SUMMARY:3rd Annual Stick Nights
DESCRIPTION:We are hosting “stick nights” where\nyou get to help our Healthcare students\nget certified i n Phlebotomy. \nWe are asking for volunteers to help\nour students make “clean sticks” i n\norder to certify them i n Phlebotomy. \nA “clean stick” does not include a large\namount of blood\, just a visual\nconfirmation of venule puncture.
URL:https://deleoncommunitycalendar.com/event/3rd-annual-stick-nights-2/
LOCATION:De Leon High School\, 200 W Manchaca\, De Leon
ATTACH;FMTTYPE=image/jpeg:https://deleoncommunitycalendar.com/wp-content/uploads/2026/01/Stick-Night.jpg
END:VEVENT
BEGIN:VEVENT
DTSTART;TZID=America/Chicago:20260207T070000
DTEND;TZID=America/Chicago:20260207T090000
DTSTAMP:20260423T162823
CREATED:20260206T214139Z
LAST-MODIFIED:20260206T214139Z
UID:10002268-1770447600-1770454800@deleoncommunitycalendar.com
SUMMARY:All You Can Eat Breakfast Buffet-Desdemona Activity Center
DESCRIPTION:This Saturday!\nTake your Sweetheart to Breakfast at the Desdemona Activity Center  😍 \nThe Desdemona Activity Center is throwing a breakfast bash and you are all invited!\nAll-You-Can-Eat Breakfast Buffet on Saturday\, February 7\, 2026 from 7:00 a.m. to 9:00 a.m. Everyone is welcome to enjoy a meal and make some new friends. Cost- by donation.\nCome  join us!\n❤️❤️❤️❤️❤️❤️❤️❤️❤️❤️❤️❤️❤️❤️
URL:https://deleoncommunitycalendar.com/event/all-you-can-eat-breakfast-buffet-desdemona-activity-center-2/
LOCATION:Desdemona Activity Center\, 6035 FM-8\, Desdemona\, TX\, 76445\, United States
ATTACH;FMTTYPE=image/jpeg:https://deleoncommunitycalendar.com/wp-content/uploads/2025/12/Desdemona-Breakfast.jpg
END:VEVENT
BEGIN:VEVENT
DTSTART;TZID=America/Chicago:20260207T103000
DTEND;TZID=America/Chicago:20260207T113000
DTSTAMP:20260423T162823
CREATED:20250911T114256Z
LAST-MODIFIED:20250911T114256Z
UID:10000275-1770460200-1770463800@deleoncommunitycalendar.com
SUMMARY:"Any Book Club" at De Leon Library
DESCRIPTION:Bring your new favorite book to the library\, and share what makes it special with fellow book lovers. You can bring any book you like! We encourage everyone to bring a book that they enjoy\, but don’t mind loaning to others. Don’t have your own? Check one out from the library! “Any Book Club” will meet at the De Leon Library on the first Saturday of every month at 10:30 a.m. See you there! \nWhen — First Saturday of Every Month | 10:30 a.m. \nWhere — De Leon City-County Library
URL:https://deleoncommunitycalendar.com/event/any-book-club-at-de-leon-library/2026-02-07/
LOCATION:De Leon Library\, 125 E Reynosa Ave\, De Leon\, TX\, 76444\, United States
END:VEVENT
BEGIN:VEVENT
DTSTART;TZID=America/Chicago:20260210T090000
DTEND;TZID=America/Chicago:20260210T110000
DTSTAMP:20260423T162823
CREATED:20260203T051324Z
LAST-MODIFIED:20260203T051602Z
UID:10001968-1770714000-1770721200@deleoncommunitycalendar.com
SUMMARY:Food Pantry Distribution (morning)
DESCRIPTION:The De Leon Food Pantry is sponsored by the De Leon Ministerial Alliance and Clothes Closet. They distribute boxes of food on the second Tuesday of each month to families who applied for assistance in accordance with the Central Texas Food Bank located in Abilene.
URL:https://deleoncommunitycalendar.com/event/food-pantry-distribution/2026-02-10/
LOCATION:De Leon Food Pantry\, 900 N Texas Street\, De Leon\, Texas\, 76444
ATTACH;FMTTYPE=image/jpeg:https://deleoncommunitycalendar.com/wp-content/uploads/2026/02/IMG_5179-scaled.jpeg
END:VEVENT
BEGIN:VEVENT
DTSTART;TZID=America/Chicago:20260210T093000
DTEND;TZID=America/Chicago:20260210T103000
DTSTAMP:20260423T162823
CREATED:20250911T125620Z
LAST-MODIFIED:20250911T125620Z
UID:10000030-1770715800-1770719400@deleoncommunitycalendar.com
SUMMARY:Story Time at De Leon Library
DESCRIPTION:Story Time: Presented By\nLocal Author Jamie R. Cole \nWatch Jamie Cole bring stories to life with her creativity and enthusiasm! Kids love her energy and always have a fantastic time. Story Time takes place every Tuesday at the De Leon Library during the school year. Each week brings something new to enjoy! Hear a story\, sing a song\, do a craft\, and discover the magic of reading together. \nWhen — Tuesdays | 9:30 a.m. \nWhere — De Leon City-County Library
URL:https://deleoncommunitycalendar.com/event/story-time-at-de-leon-library/2026-02-10/
LOCATION:De Leon City-County Library\, 125 E Reynosa Ave\, De Leon\, TX\, 76444\, United States
ATTACH;FMTTYPE=image/jpeg:https://deleoncommunitycalendar.com/wp-content/uploads/2025/09/IMG_20250902_102114771-scaled.jpg
ORGANIZER;CN="De Leon Library":MAILTO:library@cityofdeleon.org
END:VEVENT
BEGIN:VEVENT
DTSTART;TZID=America/Chicago:20260210T100000
DTEND;TZID=America/Chicago:20260210T160000
DTSTAMP:20260423T162823
CREATED:20260209T023601Z
LAST-MODIFIED:20260209T023601Z
UID:10002532-1770717600-1770739200@deleoncommunitycalendar.com
SUMMARY:Blood Drive @ CCMC
DESCRIPTION:Donate Blood Save a Life!
URL:https://deleoncommunitycalendar.com/event/blood-drive-ccmc-2/
LOCATION:Comanche County Medical Center\, 10201 TX-16\, Comanche\, TX\, 76442\, United States
ATTACH;FMTTYPE=image/jpeg:https://deleoncommunitycalendar.com/wp-content/uploads/2026/02/CCMC-Blood-Drive.jpg
END:VEVENT
BEGIN:VEVENT
DTSTART;TZID=America/Chicago:20260210T110000
DTEND;TZID=America/Chicago:20260210T130000
DTSTAMP:20260423T162823
CREATED:20260209T022748Z
LAST-MODIFIED:20260209T022748Z
UID:10002530-1770721200-1770728400@deleoncommunitycalendar.com
SUMMARY:Comanche County Retired School Employees Meeting
DESCRIPTION:The CCRSE will meet Tuesday\, February 10 at 11:00 at Hwy 6 cafe in DeLeon. We are looking forward to having Tjwanah Smith demonstrate cookie decorating and hope there is tasting involved! It will be extra fun since Valentine’s Day is Saturday the 14th. Tjwanah is well-known locally for her catering business and has made probably thousands of decorated cookies over the years. Thanks in advance\, Tjwanah\, for being our guest speaker.
URL:https://deleoncommunitycalendar.com/event/comanche-county-retired-school-employees-meeting-2/
LOCATION:Highway 6 Cafe\, 432 W Navarro Street\, De Leon\, TX\, 76444
ORGANIZER;CN="CCRSE":MAILTO:vivian.menzel@gmail.com
END:VEVENT
END:VCALENDAR