BEGIN:VCALENDAR
VERSION:2.0
PRODID:-//De Leon Community Calendar - ECPv6.15.20//NONSGML v1.0//EN
CALSCALE:GREGORIAN
METHOD:PUBLISH
X-WR-CALNAME:De Leon Community Calendar
X-ORIGINAL-URL:https://deleoncommunitycalendar.com
X-WR-CALDESC:Events for De Leon Community Calendar
REFRESH-INTERVAL;VALUE=DURATION:PT1H
X-Robots-Tag:noindex
X-PUBLISHED-TTL:PT1H
BEGIN:VTIMEZONE
TZID:America/Chicago
BEGIN:DAYLIGHT
TZOFFSETFROM:-0600
TZOFFSETTO:-0500
TZNAME:CDT
DTSTART:20250309T080000
END:DAYLIGHT
BEGIN:STANDARD
TZOFFSETFROM:-0500
TZOFFSETTO:-0600
TZNAME:CST
DTSTART:20251102T070000
END:STANDARD
BEGIN:DAYLIGHT
TZOFFSETFROM:-0600
TZOFFSETTO:-0500
TZNAME:CDT
DTSTART:20260308T080000
END:DAYLIGHT
BEGIN:STANDARD
TZOFFSETFROM:-0500
TZOFFSETTO:-0600
TZNAME:CST
DTSTART:20261101T070000
END:STANDARD
BEGIN:DAYLIGHT
TZOFFSETFROM:-0600
TZOFFSETTO:-0500
TZNAME:CDT
DTSTART:20270314T080000
END:DAYLIGHT
BEGIN:STANDARD
TZOFFSETFROM:-0500
TZOFFSETTO:-0600
TZNAME:CST
DTSTART:20271107T070000
END:STANDARD
END:VTIMEZONE
BEGIN:VEVENT
DTSTART;TZID=America/Chicago:20260317T120000
DTEND;TZID=America/Chicago:20260317T220000
DTSTAMP:20260423T063814
CREATED:20260209T022038Z
LAST-MODIFIED:20260209T022038Z
UID:10002274-1773748800-1773784800@deleoncommunitycalendar.com
SUMMARY:4D Pole Bending @ 16 North Arena
DESCRIPTION:Every Tuesday!\nExhibitions 12:00-6:30 pm\nRace start at 7:00 pm\nPre Entries Texas (254) 595-6670
URL:https://deleoncommunitycalendar.com/event/4d-pole-bending-16-north-arena/2026-03-17/
LOCATION:16 North Arena\, 4740 State Highway 16\, De Leon\, TX\, 76444\, United States
ATTACH;FMTTYPE=image/jpeg:https://deleoncommunitycalendar.com/wp-content/uploads/2026/02/16-arena-pole-.jpg
END:VEVENT
BEGIN:VEVENT
DTSTART;TZID=America/Chicago:20260317T130000
DTEND;TZID=America/Chicago:20260317T150000
DTSTAMP:20260423T063814
CREATED:20260108T024457Z
LAST-MODIFIED:20260108T024457Z
UID:10001476-1773752400-1773759600@deleoncommunitycalendar.com
SUMMARY:Mah Jongg Meetup
DESCRIPTION:De Leon Library Mah Jongg Meetup\nAmerican Mah Jongg \nJoin us every Tuesday at 1:00 PM at De Leon Library for our weekly Mah Jongg meetup! \nWe play American Mah Jongg\, and all skill levels are welcome. Whether you’re a seasoned veteran or a total beginner who wants to learn\, come hang out at De Leon Library!  \nNo pressure\, just fun and tiles!\nSee you Tuesday at 1:00 PM at De Leon Library!
URL:https://deleoncommunitycalendar.com/event/mah-jongg-meetup/2026-03-17/
LOCATION:De Leon City-County Library\, 125 E Reynosa Ave\, De Leon\, TX\, 76444\, United States
ATTACH;FMTTYPE=image/png:https://deleoncommunitycalendar.com/wp-content/uploads/2026/01/Mah-Jongg.png
ORGANIZER;CN="De Leon Library":MAILTO:library@cityofdeleon.org
END:VEVENT
BEGIN:VEVENT
DTSTART;VALUE=DATE:20260318
DTEND;VALUE=DATE:20260319
DTSTAMP:20260423T063814
CREATED:20260119T031953Z
LAST-MODIFIED:20260119T031953Z
UID:10001905-1773792000-1773878399@deleoncommunitycalendar.com
SUMMARY:February Betty Barrel Jackpot
DESCRIPTION:Every Wednesday in February
URL:https://deleoncommunitycalendar.com/event/february-betty-barrel-jackpot/2026-03-18/
LOCATION:16 North Arena\, 4740 State Highway 16\, De Leon\, TX\, 76444\, United States
ATTACH;FMTTYPE=image/jpeg:https://deleoncommunitycalendar.com/wp-content/uploads/2026/01/16-arena-feb-.jpg
END:VEVENT
BEGIN:VEVENT
DTSTART;VALUE=DATE:20260318
DTEND;VALUE=DATE:20260319
DTSTAMP:20260423T063814
CREATED:20260306T032942Z
LAST-MODIFIED:20260306T032942Z
UID:10002661-1773792000-1773878399@deleoncommunitycalendar.com
SUMMARY:Clover Cans Barrel Jackpot
DESCRIPTION:Barrel jackpot every Wednesday in March.
URL:https://deleoncommunitycalendar.com/event/clover-cans-barrel-jackpot/2026-03-18/
LOCATION:16 North Arena\, 4740 State Highway 16\, De Leon\, TX\, 76444\, United States
ATTACH;FMTTYPE=image/jpeg:https://deleoncommunitycalendar.com/wp-content/uploads/2026/03/16-north-March.jpg
END:VEVENT
BEGIN:VEVENT
DTSTART;TZID=America/Chicago:20260319T163000
DTEND;TZID=America/Chicago:20260319T173000
DTSTAMP:20260423T063814
CREATED:20251205T031149Z
LAST-MODIFIED:20251205T031149Z
UID:10001396-1773937800-1773941400@deleoncommunitycalendar.com
SUMMARY:Pokémon Club
DESCRIPTION:Pokémon Club! \nCalling all Pokémon Trainers! \nJoin us at the De Leon Library every third Thursday of the month for Pokémon Club! Trade cards\, duel with friends\, watch episodes\, participate in Pokémon themed crafts\, and much more! \nWant to meet others who love Pokémon just as much as you! Come to De Leon Library’s Pokémon Club this month on Thursday\, December 18th at 4:30 p.m. \nJoin the club and spread the word!  \nWhen — Every Third Thursday | 4:30 p.m. \nWhere — De Leon City-County Library
URL:https://deleoncommunitycalendar.com/event/pokemon-club/2026-03-19/
LOCATION:De Leon City-County Library\, 125 E Reynosa Ave\, De Leon\, TX\, 76444\, United States
ATTACH;FMTTYPE=image/png:https://deleoncommunitycalendar.com/wp-content/uploads/2025/12/DLL-Pokemon-Club.png
ORGANIZER;CN="De Leon Library":MAILTO:library@cityofdeleon.org
END:VEVENT
BEGIN:VEVENT
DTSTART;TZID=America/Chicago:20260320T103000
DTEND;TZID=America/Chicago:20260320T120000
DTSTAMP:20260423T063814
CREATED:20260313T014912Z
LAST-MODIFIED:20260313T014912Z
UID:10002785-1774002600-1774008000@deleoncommunitycalendar.com
SUMMARY:Rush Creek Band
DESCRIPTION:Come out and enjoy the music of the Rush Creek Band.
URL:https://deleoncommunitycalendar.com/event/rush-creek-band/
LOCATION:De Leon Senior Citizens Center\, 133 N Ballpark Loop\, De Leon\, TX\, 76444\, United States
ATTACH;FMTTYPE=image/jpeg:https://deleoncommunitycalendar.com/wp-content/uploads/2026/02/Sr-Citizens.jpg
END:VEVENT
BEGIN:VEVENT
DTSTART;TZID=America/Chicago:20260321T140000
DTEND;TZID=America/Chicago:20260321T160000
DTSTAMP:20260423T063814
CREATED:20260321T124116Z
LAST-MODIFIED:20260321T124116Z
UID:10002789-1774101600-1774108800@deleoncommunitycalendar.com
SUMMARY:Bingo With Scouts
DESCRIPTION:Our scouts are excited to spend time giving back in a meaningful way as they head to the local nursing home for a fun afternoon of bingo! \nThis visit is more than just a game\, it’s about building connections\, sharing smiles\, and brightening the day of the residents who have so many stories and wisdom to share. \nMoments like these teach our scouts the value of kindness\, respect\, and service to others\, lessons that last far beyond today.
URL:https://deleoncommunitycalendar.com/event/bingo-with-scouts/
LOCATION:De Leon Nursing and Rehab
ATTACH;FMTTYPE=image/jpeg:https://deleoncommunitycalendar.com/wp-content/uploads/2026/03/IMG_2498-scaled.jpeg
END:VEVENT
BEGIN:VEVENT
DTSTART;TZID=America/Chicago:20260321T170000
DTEND;TZID=America/Chicago:20260321T190000
DTSTAMP:20260423T063814
CREATED:20260320T114214Z
LAST-MODIFIED:20260320T114214Z
UID:10002788-1774112400-1774119600@deleoncommunitycalendar.com
SUMMARY:Fish Fry @ DAC
DESCRIPTION:Join us for our fish fry at the Desdemona Activity Center from 5:00-7:00. Fish\, chicken tenders\, beans\, French fries\, potato salad\, hush puppies and lots of homemade desserts. Cost is by donation.
URL:https://deleoncommunitycalendar.com/event/fish-fry-dac/
LOCATION:Desdemona Activity Center\, 6035 FM-8\, Desdemona\, TX\, 76445\, United States
ATTACH;FMTTYPE=image/jpeg:https://deleoncommunitycalendar.com/wp-content/uploads/2026/03/DAC-Fish-Fry-321.jpg
END:VEVENT
BEGIN:VEVENT
DTSTART;TZID=America/Chicago:20260321T190000
DTEND;TZID=America/Chicago:20260321T230000
DTSTAMP:20260423T063814
CREATED:20260313T014610Z
LAST-MODIFIED:20260313T014610Z
UID:10002784-1774119600-1774134000@deleoncommunitycalendar.com
SUMMARY:Karaoke Night
DESCRIPTION:Mark Your Calendar for March 21st for our next Karaoke Night!!  The food menu is still TBD will post as soon as we decide what’s on the menu.  Thanks to everyone who came by!!  We really do appreciate it and enjoyed visiting with everyone!!!
URL:https://deleoncommunitycalendar.com/event/karaoke-night/
LOCATION:Cisneroz Family Event Center\, 109 East Gonzales\, De Leon\, TX\, 76444
ATTACH;FMTTYPE=image/jpeg:https://deleoncommunitycalendar.com/wp-content/uploads/2026/03/cisneroz-karoke-.jpg
END:VEVENT
BEGIN:VEVENT
DTSTART;TZID=America/Chicago:20260323T180000
DTEND;TZID=America/Chicago:20260323T190000
DTSTAMP:20260423T063814
CREATED:20251026T041251Z
LAST-MODIFIED:20260222T185520Z
UID:10002594-1774288800-1774292400@deleoncommunitycalendar.com
SUMMARY:Developing De Leon Today Meeting
DESCRIPTION:Developing De Leon Today Corporation meets on the fourth Monday of each month at 6:00 PM in the De Leon Historical Museum to discuss ways to promote De Leon. The public is encouraged to attend.
URL:https://deleoncommunitycalendar.com/event/developing-de-leon-today-meeting/2026-03-23/
LOCATION:De Leon Area Historical Museum\, 173 North Texas Street\, De Leon\, TX\, 76444\, United States
ATTACH;FMTTYPE=image/png:https://deleoncommunitycalendar.com/wp-content/uploads/2025/10/DDT-Logo-Bobby-cropped.png
END:VEVENT
BEGIN:VEVENT
DTSTART;TZID=America/Chicago:20260324T093000
DTEND;TZID=America/Chicago:20260324T103000
DTSTAMP:20260423T063814
CREATED:20250911T125620Z
LAST-MODIFIED:20250911T125620Z
UID:10000036-1774344600-1774348200@deleoncommunitycalendar.com
SUMMARY:Story Time at De Leon Library
DESCRIPTION:Story Time: Presented By\nLocal Author Jamie R. Cole \nWatch Jamie Cole bring stories to life with her creativity and enthusiasm! Kids love her energy and always have a fantastic time. Story Time takes place every Tuesday at the De Leon Library during the school year. Each week brings something new to enjoy! Hear a story\, sing a song\, do a craft\, and discover the magic of reading together. \nWhen — Tuesdays | 9:30 a.m. \nWhere — De Leon City-County Library
URL:https://deleoncommunitycalendar.com/event/story-time-at-de-leon-library/2026-03-24/
LOCATION:De Leon City-County Library\, 125 E Reynosa Ave\, De Leon\, TX\, 76444\, United States
ATTACH;FMTTYPE=image/jpeg:https://deleoncommunitycalendar.com/wp-content/uploads/2025/09/IMG_20250902_102114771-scaled.jpg
ORGANIZER;CN="De Leon Library":MAILTO:library@cityofdeleon.org
END:VEVENT
BEGIN:VEVENT
DTSTART;TZID=America/Chicago:20260324T120000
DTEND;TZID=America/Chicago:20260324T220000
DTSTAMP:20260423T063814
CREATED:20260209T022038Z
LAST-MODIFIED:20260209T022038Z
UID:10002275-1774353600-1774389600@deleoncommunitycalendar.com
SUMMARY:4D Pole Bending @ 16 North Arena
DESCRIPTION:Every Tuesday!\nExhibitions 12:00-6:30 pm\nRace start at 7:00 pm\nPre Entries Texas (254) 595-6670
URL:https://deleoncommunitycalendar.com/event/4d-pole-bending-16-north-arena/2026-03-24/
LOCATION:16 North Arena\, 4740 State Highway 16\, De Leon\, TX\, 76444\, United States
ATTACH;FMTTYPE=image/jpeg:https://deleoncommunitycalendar.com/wp-content/uploads/2026/02/16-arena-pole-.jpg
END:VEVENT
BEGIN:VEVENT
DTSTART;TZID=America/Chicago:20260324T130000
DTEND;TZID=America/Chicago:20260324T150000
DTSTAMP:20260423T063814
CREATED:20260108T024457Z
LAST-MODIFIED:20260108T024457Z
UID:10001477-1774357200-1774364400@deleoncommunitycalendar.com
SUMMARY:Mah Jongg Meetup
DESCRIPTION:De Leon Library Mah Jongg Meetup\nAmerican Mah Jongg \nJoin us every Tuesday at 1:00 PM at De Leon Library for our weekly Mah Jongg meetup! \nWe play American Mah Jongg\, and all skill levels are welcome. Whether you’re a seasoned veteran or a total beginner who wants to learn\, come hang out at De Leon Library!  \nNo pressure\, just fun and tiles!\nSee you Tuesday at 1:00 PM at De Leon Library!
URL:https://deleoncommunitycalendar.com/event/mah-jongg-meetup/2026-03-24/
LOCATION:De Leon City-County Library\, 125 E Reynosa Ave\, De Leon\, TX\, 76444\, United States
ATTACH;FMTTYPE=image/png:https://deleoncommunitycalendar.com/wp-content/uploads/2026/01/Mah-Jongg.png
ORGANIZER;CN="De Leon Library":MAILTO:library@cityofdeleon.org
END:VEVENT
BEGIN:VEVENT
DTSTART;VALUE=DATE:20260325
DTEND;VALUE=DATE:20260326
DTSTAMP:20260423T063814
CREATED:20260119T031953Z
LAST-MODIFIED:20260119T031953Z
UID:10001906-1774396800-1774483199@deleoncommunitycalendar.com
SUMMARY:February Betty Barrel Jackpot
DESCRIPTION:Every Wednesday in February
URL:https://deleoncommunitycalendar.com/event/february-betty-barrel-jackpot/2026-03-25/
LOCATION:16 North Arena\, 4740 State Highway 16\, De Leon\, TX\, 76444\, United States
ATTACH;FMTTYPE=image/jpeg:https://deleoncommunitycalendar.com/wp-content/uploads/2026/01/16-arena-feb-.jpg
END:VEVENT
BEGIN:VEVENT
DTSTART;VALUE=DATE:20260325
DTEND;VALUE=DATE:20260326
DTSTAMP:20260423T063814
CREATED:20260306T032942Z
LAST-MODIFIED:20260306T032942Z
UID:10002662-1774396800-1774483199@deleoncommunitycalendar.com
SUMMARY:Clover Cans Barrel Jackpot
DESCRIPTION:Barrel jackpot every Wednesday in March.
URL:https://deleoncommunitycalendar.com/event/clover-cans-barrel-jackpot/2026-03-25/
LOCATION:16 North Arena\, 4740 State Highway 16\, De Leon\, TX\, 76444\, United States
ATTACH;FMTTYPE=image/jpeg:https://deleoncommunitycalendar.com/wp-content/uploads/2026/03/16-north-March.jpg
END:VEVENT
BEGIN:VEVENT
DTSTART;TZID=America/Chicago:20260326T103000
DTEND;TZID=America/Chicago:20260326T120000
DTSTAMP:20260423T063814
CREATED:20260209T024628Z
LAST-MODIFIED:20260209T024628Z
UID:10002534-1774521000-1774526400@deleoncommunitycalendar.com
SUMMARY:Food Bank of West Central Texas
DESCRIPTION:DeLeon Mobile Food Pantry \n4th Thurs 10:30 – 12:00\nDeLeon City Park\n(254) 879-4900
URL:https://deleoncommunitycalendar.com/event/food-bank-of-west-central-texas/2026-03-26/
LOCATION:De Leon City Park\, 640 E Navarro Ave\, De Leon\, TX\, 76444
ATTACH;FMTTYPE=image/png:https://deleoncommunitycalendar.com/wp-content/uploads/2026/02/Screenshot-2026-02-08-at-8.43.23-PM.png
END:VEVENT
BEGIN:VEVENT
DTSTART;TZID=America/Chicago:20260328T090000
DTEND;TZID=America/Chicago:20260328T140000
DTSTAMP:20260423T063814
CREATED:20260205T045350Z
LAST-MODIFIED:20260205T045350Z
UID:10002150-1774688400-1774706400@deleoncommunitycalendar.com
SUMMARY:Dungeons and Dragons Club
DESCRIPTION:De Leon Library will start hosting a Dungeons and Dragons Table Top Role-Playing Club. This Club will be meeting on the second and fourth Saturdays of the month\, starting on February the 28th. The club will play all day\, from 9 AM – 2 PM\, and all materials will be provided for players. These games will be open to players of all experience levels. Whether you’re a level 1 human fighter or a level 20 changeling druid\, come join the fun and let your imagination take you on a grand adventure!
URL:https://deleoncommunitycalendar.com/event/dungeons-and-dragons-club/2026-03-28/
LOCATION:De Leon City-County Library\, 125 E Reynosa Ave\, De Leon\, TX\, 76444\, United States
ATTACH;FMTTYPE=image/png:https://deleoncommunitycalendar.com/wp-content/uploads/2026/02/DD-Campaign.png
ORGANIZER;CN="De Leon Library":MAILTO:library@cityofdeleon.org
END:VEVENT
BEGIN:VEVENT
DTSTART;TZID=America/Chicago:20260328T100000
DTEND;TZID=America/Chicago:20260328T120000
DTSTAMP:20260423T063814
CREATED:20260319T031525Z
LAST-MODIFIED:20260320T114424Z
UID:10002786-1774692000-1774699200@deleoncommunitycalendar.com
SUMMARY:De Leon Easter Egg Hunt
DESCRIPTION:Visit the Easter Bunny\, Face Painting\, Prize Eggs\, Hunt lots of eggs.\nDe Leon City Park.\nSponsored by:\nThe De Leon Free Press\nBee Well Massage\nDr. Doug Krug\nDeveloping De Leon Today
URL:https://deleoncommunitycalendar.com/event/de-leon-easter-egg-hunt/
LOCATION:TX
ATTACH;FMTTYPE=image/jpeg:https://deleoncommunitycalendar.com/wp-content/uploads/2026/03/easter-egg.jpeg
END:VEVENT
BEGIN:VEVENT
DTSTART;TZID=America/Chicago:20260328T170000
DTEND;TZID=America/Chicago:20260328T190000
DTSTAMP:20260423T063814
CREATED:20260323T015554Z
LAST-MODIFIED:20260323T015554Z
UID:10002790-1774717200-1774724400@deleoncommunitycalendar.com
SUMMARY:Honduras Medical Mission Trip Fundraiser Meal
DESCRIPTION:Come join us this Saturday\, in raising funds to purchase supplies and medicine for the Chorti people of Honduras. These people are near and dear to our hearts! We are so blessed to be able to care for them physically and even more importantly\, spiritually\, by sharing the Gospel and the love of Jesus with them!!\nIf you are unable to join us this Saturday evening\, and would like to donate\, you may go by First Baptist Church DeLeon office and leave donations there. Or you can mail donations to:\nFBC De Leon\n125 S. Houston St\nDe Leon\, TX 76444\nChecks may be made out to FBC De Leon\, memo- Honduras Medications\nYour prayers are always welcomed and appreciated!!
URL:https://deleoncommunitycalendar.com/event/honduras-medical-mission-trip-fundraiser-meal/
LOCATION:First Baptist Church\, 125 South Houston\, De Leon\, TX\, 76444
ATTACH;FMTTYPE=image/jpeg:https://deleoncommunitycalendar.com/wp-content/uploads/2026/03/Honduras-Fundraiser.jpg
END:VEVENT
BEGIN:VEVENT
DTSTART;TZID=America/Chicago:20260328T180000
DTEND;TZID=America/Chicago:20260328T220000
DTSTAMP:20260423T063814
CREATED:20260306T034044Z
LAST-MODIFIED:20260306T034044Z
UID:10002778-1774720800-1774735200@deleoncommunitycalendar.com
SUMMARY:Ties and Tiaras
DESCRIPTION:✨🪩 IT’S BACK & it’s going to SHINE even brighter! 🪩✨\nGet ready for our 2nd Annual Ties & Tiaras Family Dance! 👑🤵‍♂️💃\nMark your calendars for March 28th at De Leon City Hall because we’re turning up the music\, the sparkle\, and the memories from 6–10 PM!\nThink:\n✨ Twirling dresses\n✨ Sharp ties\n✨ A full meal\n✨ Dessert bar\n✨ Photo booth fun\n✨ And a dance floor full of smiles\nThis is a night for families to slow down\, dress up\, and make memories our kids will never forget. ❤️\n🎟 Tickets are just $10\n👨‍👩‍👧‍👦 Families of 4+ cap at $40\nContact a Scout or Ashley @ 254-433-0818 for more info or feel free to message our page!\nPencil this in your book today!! We can’t wait to see you all there! Rain or shine\, cold or hot\, we’ll boogy all night long!
URL:https://deleoncommunitycalendar.com/event/ties-and-tiaras/
LOCATION:De Leon City Auditorium\, De Leon\, 76444\, United States
ATTACH;FMTTYPE=image/jpeg:https://deleoncommunitycalendar.com/wp-content/uploads/2026/03/ties-tiarras.jpg
END:VEVENT
BEGIN:VEVENT
DTSTART;TZID=America/Chicago:20260331T093000
DTEND;TZID=America/Chicago:20260331T103000
DTSTAMP:20260423T063814
CREATED:20250911T125620Z
LAST-MODIFIED:20250911T125620Z
UID:10000037-1774949400-1774953000@deleoncommunitycalendar.com
SUMMARY:Story Time at De Leon Library
DESCRIPTION:Story Time: Presented By\nLocal Author Jamie R. Cole \nWatch Jamie Cole bring stories to life with her creativity and enthusiasm! Kids love her energy and always have a fantastic time. Story Time takes place every Tuesday at the De Leon Library during the school year. Each week brings something new to enjoy! Hear a story\, sing a song\, do a craft\, and discover the magic of reading together. \nWhen — Tuesdays | 9:30 a.m. \nWhere — De Leon City-County Library
URL:https://deleoncommunitycalendar.com/event/story-time-at-de-leon-library/2026-03-31/
LOCATION:De Leon City-County Library\, 125 E Reynosa Ave\, De Leon\, TX\, 76444\, United States
ATTACH;FMTTYPE=image/jpeg:https://deleoncommunitycalendar.com/wp-content/uploads/2025/09/IMG_20250902_102114771-scaled.jpg
ORGANIZER;CN="De Leon Library":MAILTO:library@cityofdeleon.org
END:VEVENT
BEGIN:VEVENT
DTSTART;TZID=America/Chicago:20260331T120000
DTEND;TZID=America/Chicago:20260331T220000
DTSTAMP:20260423T063814
CREATED:20260209T022038Z
LAST-MODIFIED:20260209T022038Z
UID:10002276-1774958400-1774994400@deleoncommunitycalendar.com
SUMMARY:4D Pole Bending @ 16 North Arena
DESCRIPTION:Every Tuesday!\nExhibitions 12:00-6:30 pm\nRace start at 7:00 pm\nPre Entries Texas (254) 595-6670
URL:https://deleoncommunitycalendar.com/event/4d-pole-bending-16-north-arena/2026-03-31/
LOCATION:16 North Arena\, 4740 State Highway 16\, De Leon\, TX\, 76444\, United States
ATTACH;FMTTYPE=image/jpeg:https://deleoncommunitycalendar.com/wp-content/uploads/2026/02/16-arena-pole-.jpg
END:VEVENT
BEGIN:VEVENT
DTSTART;TZID=America/Chicago:20260331T130000
DTEND;TZID=America/Chicago:20260331T150000
DTSTAMP:20260423T063815
CREATED:20260108T024457Z
LAST-MODIFIED:20260108T024457Z
UID:10001478-1774962000-1774969200@deleoncommunitycalendar.com
SUMMARY:Mah Jongg Meetup
DESCRIPTION:De Leon Library Mah Jongg Meetup\nAmerican Mah Jongg \nJoin us every Tuesday at 1:00 PM at De Leon Library for our weekly Mah Jongg meetup! \nWe play American Mah Jongg\, and all skill levels are welcome. Whether you’re a seasoned veteran or a total beginner who wants to learn\, come hang out at De Leon Library!  \nNo pressure\, just fun and tiles!\nSee you Tuesday at 1:00 PM at De Leon Library!
URL:https://deleoncommunitycalendar.com/event/mah-jongg-meetup/2026-03-31/
LOCATION:De Leon City-County Library\, 125 E Reynosa Ave\, De Leon\, TX\, 76444\, United States
ATTACH;FMTTYPE=image/png:https://deleoncommunitycalendar.com/wp-content/uploads/2026/01/Mah-Jongg.png
ORGANIZER;CN="De Leon Library":MAILTO:library@cityofdeleon.org
END:VEVENT
BEGIN:VEVENT
DTSTART;VALUE=DATE:20260401
DTEND;VALUE=DATE:20260402
DTSTAMP:20260423T063815
CREATED:20260119T031953Z
LAST-MODIFIED:20260119T031953Z
UID:10001907-1775001600-1775087999@deleoncommunitycalendar.com
SUMMARY:February Betty Barrel Jackpot
DESCRIPTION:Every Wednesday in February
URL:https://deleoncommunitycalendar.com/event/february-betty-barrel-jackpot/2026-04-01/
LOCATION:16 North Arena\, 4740 State Highway 16\, De Leon\, TX\, 76444\, United States
ATTACH;FMTTYPE=image/jpeg:https://deleoncommunitycalendar.com/wp-content/uploads/2026/01/16-arena-feb-.jpg
END:VEVENT
BEGIN:VEVENT
DTSTART;VALUE=DATE:20260401
DTEND;VALUE=DATE:20260402
DTSTAMP:20260423T063815
CREATED:20260306T032942Z
LAST-MODIFIED:20260306T032942Z
UID:10002663-1775001600-1775087999@deleoncommunitycalendar.com
SUMMARY:Clover Cans Barrel Jackpot
DESCRIPTION:Barrel jackpot every Wednesday in March.
URL:https://deleoncommunitycalendar.com/event/clover-cans-barrel-jackpot/2026-04-01/
LOCATION:16 North Arena\, 4740 State Highway 16\, De Leon\, TX\, 76444\, United States
ATTACH;FMTTYPE=image/jpeg:https://deleoncommunitycalendar.com/wp-content/uploads/2026/03/16-north-March.jpg
END:VEVENT
BEGIN:VEVENT
DTSTART;TZID=America/Chicago:20260403T100000
DTEND;TZID=America/Chicago:20260403T110000
DTSTAMP:20260423T063815
CREATED:20260313T013216Z
LAST-MODIFIED:20260317T003629Z
UID:10002782-1775210400-1775214000@deleoncommunitycalendar.com
SUMMARY:Easter Egg Hunt
DESCRIPTION:DeLeon and surrounding communities\, make sure you come see us on April 3! We look forward to welcoming everyone for a fun-filled time with our residents\, families\, and staff. Don’t miss the opportunity to join us and be part of the celebration at DeLeon Nursing and Rehab. We hope to see you there! 🐰🌸
URL:https://deleoncommunitycalendar.com/event/easter-egg-hunt/
LOCATION:De Leon Nursing and Rehab
ATTACH;FMTTYPE=image/jpeg:https://deleoncommunitycalendar.com/wp-content/uploads/2026/03/cd1cc2de-5736-43a5-ae32-76c61894a16d.jpeg
END:VEVENT
BEGIN:VEVENT
DTSTART;TZID=America/Chicago:20260404T070000
DTEND;TZID=America/Chicago:20260404T090000
DTSTAMP:20260423T063815
CREATED:20260403T025907Z
LAST-MODIFIED:20260403T025907Z
UID:10002795-1775286000-1775293200@deleoncommunitycalendar.com
SUMMARY:All You Can Eat Breakfast Buffet-Desdemona Activity Center
DESCRIPTION:Desdemona Activity Center –\nAll-You-Can-Breakfast Buffet\n🐰🐰🐰🐰🐰🐰🐰🐰🐰🐰🐰🐰🐰🐰\nThe Desdemona Activity Center is throwing a breakfast bash and you’re invited. All-You-Can-Eat Breakfast Buffet on Saturday\, April 4\, from 7:00 a.m. to 9:00 a.m. Everyone’s  welcome to gather ’round\, chow down\, and make some new buddies\, all in the name of building a stronger\, more compassionate community\, because who doesn’t love a good breakfast? Hop On Down And Join Us!
URL:https://deleoncommunitycalendar.com/event/all-you-can-eat-breakfast-buffet-desdemona-activity-center-3/
LOCATION:Desdemona Activity Center\, 6035 FM-8\, Desdemona\, TX\, 76445\, United States
ATTACH;FMTTYPE=image/jpeg:https://deleoncommunitycalendar.com/wp-content/uploads/2025/12/Desdemona-Breakfast.jpg
END:VEVENT
BEGIN:VEVENT
DTSTART;TZID=America/Chicago:20260404T103000
DTEND;TZID=America/Chicago:20260404T113000
DTSTAMP:20260423T063815
CREATED:20250911T114256Z
LAST-MODIFIED:20250911T114256Z
UID:10000277-1775298600-1775302200@deleoncommunitycalendar.com
SUMMARY:"Any Book Club" at De Leon Library
DESCRIPTION:Bring your new favorite book to the library\, and share what makes it special with fellow book lovers. You can bring any book you like! We encourage everyone to bring a book that they enjoy\, but don’t mind loaning to others. Don’t have your own? Check one out from the library! “Any Book Club” will meet at the De Leon Library on the first Saturday of every month at 10:30 a.m. See you there! \nWhen — First Saturday of Every Month | 10:30 a.m. \nWhere — De Leon City-County Library
URL:https://deleoncommunitycalendar.com/event/any-book-club-at-de-leon-library/2026-04-04/
LOCATION:De Leon Library\, 125 E Reynosa Ave\, De Leon\, TX\, 76444\, United States
END:VEVENT
BEGIN:VEVENT
DTSTART;TZID=America/Chicago:20260404T190000
DTEND;TZID=America/Chicago:20260404T230000
DTSTAMP:20260423T063815
CREATED:20260403T030159Z
LAST-MODIFIED:20260403T030159Z
UID:10002796-1775329200-1775343600@deleoncommunitycalendar.com
SUMMARY:Karaoke Night
DESCRIPTION:Karaoke/Dance/Music/BBQ/Nachos\nCisneroz Family Event Center\n109 E Gonzales Street\nDeleon Texas
URL:https://deleoncommunitycalendar.com/event/karaoke-night-2/
LOCATION:Cisneroz Family Event Center\, 109 East Gonzales\, De Leon\, TX\, 76444
ATTACH;FMTTYPE=image/jpeg:https://deleoncommunitycalendar.com/wp-content/uploads/2026/03/cisneroz-karoke-.jpg
END:VEVENT
BEGIN:VEVENT
DTSTART;TZID=America/Chicago:20260406T173000
DTEND;TZID=America/Chicago:20260406T183000
DTSTAMP:20260423T063815
CREATED:20260220T034204Z
LAST-MODIFIED:20260220T034204Z
UID:10002655-1775496600-1775500200@deleoncommunitycalendar.com
SUMMARY:De Leon Area Historical Society Meeting
DESCRIPTION:Beth Cogburn Watts will be presenting the program on her Cogburn family at the Historical Museum.  All DAHS meetings are open to anyone who would like to attend.
URL:https://deleoncommunitycalendar.com/event/de-leon-area-historical-society-meeting-5/
LOCATION:De Leon Area Historical Museum\, 173 North Texas Street\, De Leon\, TX\, 76444\, United States
ATTACH;FMTTYPE=image/jpeg:https://deleoncommunitycalendar.com/wp-content/uploads/2026/02/Picture2-1.jpg
END:VEVENT
END:VCALENDAR