BEGIN:VCALENDAR
VERSION:2.0
PRODID:-//De Leon Community Calendar - ECPv6.15.20//NONSGML v1.0//EN
CALSCALE:GREGORIAN
METHOD:PUBLISH
X-WR-CALNAME:De Leon Community Calendar
X-ORIGINAL-URL:https://deleoncommunitycalendar.com
X-WR-CALDESC:Events for De Leon Community Calendar
REFRESH-INTERVAL;VALUE=DURATION:PT1H
X-Robots-Tag:noindex
X-PUBLISHED-TTL:PT1H
BEGIN:VTIMEZONE
TZID:America/Chicago
BEGIN:DAYLIGHT
TZOFFSETFROM:-0600
TZOFFSETTO:-0500
TZNAME:CDT
DTSTART:20250309T080000
END:DAYLIGHT
BEGIN:STANDARD
TZOFFSETFROM:-0500
TZOFFSETTO:-0600
TZNAME:CST
DTSTART:20251102T070000
END:STANDARD
BEGIN:DAYLIGHT
TZOFFSETFROM:-0600
TZOFFSETTO:-0500
TZNAME:CDT
DTSTART:20260308T080000
END:DAYLIGHT
BEGIN:STANDARD
TZOFFSETFROM:-0500
TZOFFSETTO:-0600
TZNAME:CST
DTSTART:20261101T070000
END:STANDARD
BEGIN:DAYLIGHT
TZOFFSETFROM:-0600
TZOFFSETTO:-0500
TZNAME:CDT
DTSTART:20270314T080000
END:DAYLIGHT
BEGIN:STANDARD
TZOFFSETFROM:-0500
TZOFFSETTO:-0600
TZNAME:CST
DTSTART:20271107T070000
END:STANDARD
END:VTIMEZONE
BEGIN:VEVENT
DTSTART;TZID=America/Chicago:20260801T103000
DTEND;TZID=America/Chicago:20260801T113000
DTSTAMP:20260423T061744
CREATED:20250911T114256Z
LAST-MODIFIED:20250911T114256Z
UID:10000281-1785580200-1785583800@deleoncommunitycalendar.com
SUMMARY:"Any Book Club" at De Leon Library
DESCRIPTION:Bring your new favorite book to the library\, and share what makes it special with fellow book lovers. You can bring any book you like! We encourage everyone to bring a book that they enjoy\, but don’t mind loaning to others. Don’t have your own? Check one out from the library! “Any Book Club” will meet at the De Leon Library on the first Saturday of every month at 10:30 a.m. See you there! \nWhen — First Saturday of Every Month | 10:30 a.m. \nWhere — De Leon City-County Library
URL:https://deleoncommunitycalendar.com/event/any-book-club-at-de-leon-library/2026-08-01/
LOCATION:De Leon Library\, 125 E Reynosa Ave\, De Leon\, TX\, 76444\, United States
END:VEVENT
BEGIN:VEVENT
DTSTART;TZID=America/Chicago:20260804T093000
DTEND;TZID=America/Chicago:20260804T103000
DTSTAMP:20260423T061744
CREATED:20250911T125620Z
LAST-MODIFIED:20250911T125620Z
UID:10000055-1785835800-1785839400@deleoncommunitycalendar.com
SUMMARY:Story Time at De Leon Library
DESCRIPTION:Story Time: Presented By\nLocal Author Jamie R. Cole \nWatch Jamie Cole bring stories to life with her creativity and enthusiasm! Kids love her energy and always have a fantastic time. Story Time takes place every Tuesday at the De Leon Library during the school year. Each week brings something new to enjoy! Hear a story\, sing a song\, do a craft\, and discover the magic of reading together. \nWhen — Tuesdays | 9:30 a.m. \nWhere — De Leon City-County Library
URL:https://deleoncommunitycalendar.com/event/story-time-at-de-leon-library/2026-08-04/
LOCATION:De Leon City-County Library\, 125 E Reynosa Ave\, De Leon\, TX\, 76444\, United States
ATTACH;FMTTYPE=image/jpeg:https://deleoncommunitycalendar.com/wp-content/uploads/2025/09/IMG_20250902_102114771-scaled.jpg
ORGANIZER;CN="De Leon Library":MAILTO:library@cityofdeleon.org
END:VEVENT
BEGIN:VEVENT
DTSTART;TZID=America/Chicago:20260804T120000
DTEND;TZID=America/Chicago:20260804T220000
DTSTAMP:20260423T061744
CREATED:20260209T022038Z
LAST-MODIFIED:20260209T022038Z
UID:10002294-1785844800-1785880800@deleoncommunitycalendar.com
SUMMARY:4D Pole Bending @ 16 North Arena
DESCRIPTION:Every Tuesday!\nExhibitions 12:00-6:30 pm\nRace start at 7:00 pm\nPre Entries Texas (254) 595-6670
URL:https://deleoncommunitycalendar.com/event/4d-pole-bending-16-north-arena/2026-08-04/
LOCATION:16 North Arena\, 4740 State Highway 16\, De Leon\, TX\, 76444\, United States
ATTACH;FMTTYPE=image/jpeg:https://deleoncommunitycalendar.com/wp-content/uploads/2026/02/16-arena-pole-.jpg
END:VEVENT
BEGIN:VEVENT
DTSTART;TZID=America/Chicago:20260804T130000
DTEND;TZID=America/Chicago:20260804T150000
DTSTAMP:20260423T061744
CREATED:20260108T024457Z
LAST-MODIFIED:20260108T024457Z
UID:10001496-1785848400-1785855600@deleoncommunitycalendar.com
SUMMARY:Mah Jongg Meetup
DESCRIPTION:De Leon Library Mah Jongg Meetup\nAmerican Mah Jongg \nJoin us every Tuesday at 1:00 PM at De Leon Library for our weekly Mah Jongg meetup! \nWe play American Mah Jongg\, and all skill levels are welcome. Whether you’re a seasoned veteran or a total beginner who wants to learn\, come hang out at De Leon Library!  \nNo pressure\, just fun and tiles!\nSee you Tuesday at 1:00 PM at De Leon Library!
URL:https://deleoncommunitycalendar.com/event/mah-jongg-meetup/2026-08-04/
LOCATION:De Leon City-County Library\, 125 E Reynosa Ave\, De Leon\, TX\, 76444\, United States
ATTACH;FMTTYPE=image/png:https://deleoncommunitycalendar.com/wp-content/uploads/2026/01/Mah-Jongg.png
ORGANIZER;CN="De Leon Library":MAILTO:library@cityofdeleon.org
END:VEVENT
BEGIN:VEVENT
DTSTART;VALUE=DATE:20260805
DTEND;VALUE=DATE:20260806
DTSTAMP:20260423T061744
CREATED:20260119T031953Z
LAST-MODIFIED:20260119T031953Z
UID:10001925-1785888000-1785974399@deleoncommunitycalendar.com
SUMMARY:February Betty Barrel Jackpot
DESCRIPTION:Every Wednesday in February
URL:https://deleoncommunitycalendar.com/event/february-betty-barrel-jackpot/2026-08-05/
LOCATION:16 North Arena\, 4740 State Highway 16\, De Leon\, TX\, 76444\, United States
ATTACH;FMTTYPE=image/jpeg:https://deleoncommunitycalendar.com/wp-content/uploads/2026/01/16-arena-feb-.jpg
END:VEVENT
BEGIN:VEVENT
DTSTART;VALUE=DATE:20260805
DTEND;VALUE=DATE:20260806
DTSTAMP:20260423T061744
CREATED:20260306T032942Z
LAST-MODIFIED:20260306T032942Z
UID:10002681-1785888000-1785974399@deleoncommunitycalendar.com
SUMMARY:Clover Cans Barrel Jackpot
DESCRIPTION:Barrel jackpot every Wednesday in March.
URL:https://deleoncommunitycalendar.com/event/clover-cans-barrel-jackpot/2026-08-05/
LOCATION:16 North Arena\, 4740 State Highway 16\, De Leon\, TX\, 76444\, United States
ATTACH;FMTTYPE=image/jpeg:https://deleoncommunitycalendar.com/wp-content/uploads/2026/03/16-north-March.jpg
END:VEVENT
BEGIN:VEVENT
DTSTART;VALUE=DATE:20260805
DTEND;VALUE=DATE:20260809
DTSTAMP:20260423T061744
CREATED:20260313T013231Z
LAST-MODIFIED:20260313T013231Z
UID:10002781-1785888000-1786233599@deleoncommunitycalendar.com
SUMMARY:Peach and Melon Festival
DESCRIPTION:Life is Sweet in De Leon\, TX. Save the date for 2026!
URL:https://deleoncommunitycalendar.com/event/peach-and-melon-festival/
LOCATION:P & M Festival Grounds\, 5401 Highway 6\, De Leon\, TX\, 76444
ATTACH;FMTTYPE=image/jpeg:https://deleoncommunitycalendar.com/wp-content/uploads/2026/03/P-M-2026.jpg
ORGANIZER;CN="Peach and Melon Festival Committee":MAILTO:pmdfestival@gmail.com
END:VEVENT
BEGIN:VEVENT
DTSTART;TZID=America/Chicago:20260808T090000
DTEND;TZID=America/Chicago:20260808T140000
DTSTAMP:20260423T061744
CREATED:20260205T045432Z
LAST-MODIFIED:20260205T045432Z
UID:10002214-1786179600-1786197600@deleoncommunitycalendar.com
SUMMARY:Dungeons and Dragons Club
DESCRIPTION:De Leon Library will start hosting a Dungeons and Dragons Table Top Role-Playing Club. This Club will be meeting on the second and fourth Saturdays of the month\, starting on February the 28th. The club will play all day\, from 9 AM – 2 PM\, and all materials will be provided for players. These games will be open to players of all experience levels. Whether you’re a level 1 human fighter or a level 20 changeling druid\, come join the fun and let your imagination take you on a grand adventure!
URL:https://deleoncommunitycalendar.com/event/dungeons-and-dragons-club-2/2026-08-08/
LOCATION:De Leon City-County Library\, 125 E Reynosa Ave\, De Leon\, TX\, 76444\, United States
ATTACH;FMTTYPE=image/png:https://deleoncommunitycalendar.com/wp-content/uploads/2026/02/DD-Campaign-1.png
ORGANIZER;CN="De Leon Library":MAILTO:library@cityofdeleon.org
END:VEVENT
BEGIN:VEVENT
DTSTART;TZID=America/Chicago:20260811T090000
DTEND;TZID=America/Chicago:20260811T110000
DTSTAMP:20260423T061744
CREATED:20260203T051324Z
LAST-MODIFIED:20260203T051602Z
UID:10001974-1786438800-1786446000@deleoncommunitycalendar.com
SUMMARY:Food Pantry Distribution (morning)
DESCRIPTION:The De Leon Food Pantry is sponsored by the De Leon Ministerial Alliance and Clothes Closet. They distribute boxes of food on the second Tuesday of each month to families who applied for assistance in accordance with the Central Texas Food Bank located in Abilene.
URL:https://deleoncommunitycalendar.com/event/food-pantry-distribution/2026-08-11/
LOCATION:De Leon Food Pantry\, 900 N Texas Street\, De Leon\, Texas\, 76444
ATTACH;FMTTYPE=image/jpeg:https://deleoncommunitycalendar.com/wp-content/uploads/2026/02/IMG_5179-scaled.jpeg
END:VEVENT
BEGIN:VEVENT
DTSTART;TZID=America/Chicago:20260811T093000
DTEND;TZID=America/Chicago:20260811T103000
DTSTAMP:20260423T061744
CREATED:20250911T125620Z
LAST-MODIFIED:20250911T125620Z
UID:10000056-1786440600-1786444200@deleoncommunitycalendar.com
SUMMARY:Story Time at De Leon Library
DESCRIPTION:Story Time: Presented By\nLocal Author Jamie R. Cole \nWatch Jamie Cole bring stories to life with her creativity and enthusiasm! Kids love her energy and always have a fantastic time. Story Time takes place every Tuesday at the De Leon Library during the school year. Each week brings something new to enjoy! Hear a story\, sing a song\, do a craft\, and discover the magic of reading together. \nWhen — Tuesdays | 9:30 a.m. \nWhere — De Leon City-County Library
URL:https://deleoncommunitycalendar.com/event/story-time-at-de-leon-library/2026-08-11/
LOCATION:De Leon City-County Library\, 125 E Reynosa Ave\, De Leon\, TX\, 76444\, United States
ATTACH;FMTTYPE=image/jpeg:https://deleoncommunitycalendar.com/wp-content/uploads/2025/09/IMG_20250902_102114771-scaled.jpg
ORGANIZER;CN="De Leon Library":MAILTO:library@cityofdeleon.org
END:VEVENT
BEGIN:VEVENT
DTSTART;TZID=America/Chicago:20260811T120000
DTEND;TZID=America/Chicago:20260811T220000
DTSTAMP:20260423T061744
CREATED:20260209T022038Z
LAST-MODIFIED:20260209T022038Z
UID:10002295-1786449600-1786485600@deleoncommunitycalendar.com
SUMMARY:4D Pole Bending @ 16 North Arena
DESCRIPTION:Every Tuesday!\nExhibitions 12:00-6:30 pm\nRace start at 7:00 pm\nPre Entries Texas (254) 595-6670
URL:https://deleoncommunitycalendar.com/event/4d-pole-bending-16-north-arena/2026-08-11/
LOCATION:16 North Arena\, 4740 State Highway 16\, De Leon\, TX\, 76444\, United States
ATTACH;FMTTYPE=image/jpeg:https://deleoncommunitycalendar.com/wp-content/uploads/2026/02/16-arena-pole-.jpg
END:VEVENT
BEGIN:VEVENT
DTSTART;TZID=America/Chicago:20260811T130000
DTEND;TZID=America/Chicago:20260811T150000
DTSTAMP:20260423T061744
CREATED:20260108T024457Z
LAST-MODIFIED:20260108T024457Z
UID:10001497-1786453200-1786460400@deleoncommunitycalendar.com
SUMMARY:Mah Jongg Meetup
DESCRIPTION:De Leon Library Mah Jongg Meetup\nAmerican Mah Jongg \nJoin us every Tuesday at 1:00 PM at De Leon Library for our weekly Mah Jongg meetup! \nWe play American Mah Jongg\, and all skill levels are welcome. Whether you’re a seasoned veteran or a total beginner who wants to learn\, come hang out at De Leon Library!  \nNo pressure\, just fun and tiles!\nSee you Tuesday at 1:00 PM at De Leon Library!
URL:https://deleoncommunitycalendar.com/event/mah-jongg-meetup/2026-08-11/
LOCATION:De Leon City-County Library\, 125 E Reynosa Ave\, De Leon\, TX\, 76444\, United States
ATTACH;FMTTYPE=image/png:https://deleoncommunitycalendar.com/wp-content/uploads/2026/01/Mah-Jongg.png
ORGANIZER;CN="De Leon Library":MAILTO:library@cityofdeleon.org
END:VEVENT
BEGIN:VEVENT
DTSTART;TZID=America/Chicago:20260811T170000
DTEND;TZID=America/Chicago:20260811T190000
DTSTAMP:20260423T061744
CREATED:20260203T051457Z
LAST-MODIFIED:20260203T051457Z
UID:10002094-1786467600-1786474800@deleoncommunitycalendar.com
SUMMARY:Food Pantry Distribution (evening)
DESCRIPTION:The De Leon Food Pantry is sponsored by the De Leon Ministerial Alliance and Clothes Closet. They distribute boxes of food on the second Tuesday of each month to families who applied for assistance in accordance with the Central Texas Food Bank located in Abilene.
URL:https://deleoncommunitycalendar.com/event/food-pantry-distribution-evening/2026-08-11/
LOCATION:De Leon Food Pantry\, 900 N Texas Street\, De Leon\, Texas\, 76444
ATTACH;FMTTYPE=image/jpeg:https://deleoncommunitycalendar.com/wp-content/uploads/2026/02/IMG_5179-scaled.jpeg
END:VEVENT
BEGIN:VEVENT
DTSTART;VALUE=DATE:20260812
DTEND;VALUE=DATE:20260813
DTSTAMP:20260423T061744
CREATED:20260119T031953Z
LAST-MODIFIED:20260119T031953Z
UID:10001926-1786492800-1786579199@deleoncommunitycalendar.com
SUMMARY:February Betty Barrel Jackpot
DESCRIPTION:Every Wednesday in February
URL:https://deleoncommunitycalendar.com/event/february-betty-barrel-jackpot/2026-08-12/
LOCATION:16 North Arena\, 4740 State Highway 16\, De Leon\, TX\, 76444\, United States
ATTACH;FMTTYPE=image/jpeg:https://deleoncommunitycalendar.com/wp-content/uploads/2026/01/16-arena-feb-.jpg
END:VEVENT
BEGIN:VEVENT
DTSTART;VALUE=DATE:20260812
DTEND;VALUE=DATE:20260813
DTSTAMP:20260423T061744
CREATED:20260306T032942Z
LAST-MODIFIED:20260306T032942Z
UID:10002682-1786492800-1786579199@deleoncommunitycalendar.com
SUMMARY:Clover Cans Barrel Jackpot
DESCRIPTION:Barrel jackpot every Wednesday in March.
URL:https://deleoncommunitycalendar.com/event/clover-cans-barrel-jackpot/2026-08-12/
LOCATION:16 North Arena\, 4740 State Highway 16\, De Leon\, TX\, 76444\, United States
ATTACH;FMTTYPE=image/jpeg:https://deleoncommunitycalendar.com/wp-content/uploads/2026/03/16-north-March.jpg
END:VEVENT
BEGIN:VEVENT
DTSTART;TZID=America/Chicago:20260818T093000
DTEND;TZID=America/Chicago:20260818T103000
DTSTAMP:20260423T061745
CREATED:20250911T125620Z
LAST-MODIFIED:20250911T125620Z
UID:10000057-1787045400-1787049000@deleoncommunitycalendar.com
SUMMARY:Story Time at De Leon Library
DESCRIPTION:Story Time: Presented By\nLocal Author Jamie R. Cole \nWatch Jamie Cole bring stories to life with her creativity and enthusiasm! Kids love her energy and always have a fantastic time. Story Time takes place every Tuesday at the De Leon Library during the school year. Each week brings something new to enjoy! Hear a story\, sing a song\, do a craft\, and discover the magic of reading together. \nWhen — Tuesdays | 9:30 a.m. \nWhere — De Leon City-County Library
URL:https://deleoncommunitycalendar.com/event/story-time-at-de-leon-library/2026-08-18/
LOCATION:De Leon City-County Library\, 125 E Reynosa Ave\, De Leon\, TX\, 76444\, United States
ATTACH;FMTTYPE=image/jpeg:https://deleoncommunitycalendar.com/wp-content/uploads/2025/09/IMG_20250902_102114771-scaled.jpg
ORGANIZER;CN="De Leon Library":MAILTO:library@cityofdeleon.org
END:VEVENT
BEGIN:VEVENT
DTSTART;TZID=America/Chicago:20260818T120000
DTEND;TZID=America/Chicago:20260818T220000
DTSTAMP:20260423T061745
CREATED:20260209T022038Z
LAST-MODIFIED:20260209T022038Z
UID:10002296-1787054400-1787090400@deleoncommunitycalendar.com
SUMMARY:4D Pole Bending @ 16 North Arena
DESCRIPTION:Every Tuesday!\nExhibitions 12:00-6:30 pm\nRace start at 7:00 pm\nPre Entries Texas (254) 595-6670
URL:https://deleoncommunitycalendar.com/event/4d-pole-bending-16-north-arena/2026-08-18/
LOCATION:16 North Arena\, 4740 State Highway 16\, De Leon\, TX\, 76444\, United States
ATTACH;FMTTYPE=image/jpeg:https://deleoncommunitycalendar.com/wp-content/uploads/2026/02/16-arena-pole-.jpg
END:VEVENT
BEGIN:VEVENT
DTSTART;TZID=America/Chicago:20260818T130000
DTEND;TZID=America/Chicago:20260818T150000
DTSTAMP:20260423T061745
CREATED:20260108T024457Z
LAST-MODIFIED:20260108T024457Z
UID:10001498-1787058000-1787065200@deleoncommunitycalendar.com
SUMMARY:Mah Jongg Meetup
DESCRIPTION:De Leon Library Mah Jongg Meetup\nAmerican Mah Jongg \nJoin us every Tuesday at 1:00 PM at De Leon Library for our weekly Mah Jongg meetup! \nWe play American Mah Jongg\, and all skill levels are welcome. Whether you’re a seasoned veteran or a total beginner who wants to learn\, come hang out at De Leon Library!  \nNo pressure\, just fun and tiles!\nSee you Tuesday at 1:00 PM at De Leon Library!
URL:https://deleoncommunitycalendar.com/event/mah-jongg-meetup/2026-08-18/
LOCATION:De Leon City-County Library\, 125 E Reynosa Ave\, De Leon\, TX\, 76444\, United States
ATTACH;FMTTYPE=image/png:https://deleoncommunitycalendar.com/wp-content/uploads/2026/01/Mah-Jongg.png
ORGANIZER;CN="De Leon Library":MAILTO:library@cityofdeleon.org
END:VEVENT
BEGIN:VEVENT
DTSTART;VALUE=DATE:20260819
DTEND;VALUE=DATE:20260820
DTSTAMP:20260423T061745
CREATED:20260119T031953Z
LAST-MODIFIED:20260119T031953Z
UID:10001927-1787097600-1787183999@deleoncommunitycalendar.com
SUMMARY:February Betty Barrel Jackpot
DESCRIPTION:Every Wednesday in February
URL:https://deleoncommunitycalendar.com/event/february-betty-barrel-jackpot/2026-08-19/
LOCATION:16 North Arena\, 4740 State Highway 16\, De Leon\, TX\, 76444\, United States
ATTACH;FMTTYPE=image/jpeg:https://deleoncommunitycalendar.com/wp-content/uploads/2026/01/16-arena-feb-.jpg
END:VEVENT
BEGIN:VEVENT
DTSTART;VALUE=DATE:20260819
DTEND;VALUE=DATE:20260820
DTSTAMP:20260423T061745
CREATED:20260306T032942Z
LAST-MODIFIED:20260306T032942Z
UID:10002683-1787097600-1787183999@deleoncommunitycalendar.com
SUMMARY:Clover Cans Barrel Jackpot
DESCRIPTION:Barrel jackpot every Wednesday in March.
URL:https://deleoncommunitycalendar.com/event/clover-cans-barrel-jackpot/2026-08-19/
LOCATION:16 North Arena\, 4740 State Highway 16\, De Leon\, TX\, 76444\, United States
ATTACH;FMTTYPE=image/jpeg:https://deleoncommunitycalendar.com/wp-content/uploads/2026/03/16-north-March.jpg
END:VEVENT
BEGIN:VEVENT
DTSTART;TZID=America/Chicago:20260820T163000
DTEND;TZID=America/Chicago:20260820T173000
DTSTAMP:20260423T061745
CREATED:20251205T031149Z
LAST-MODIFIED:20251205T031149Z
UID:10001401-1787243400-1787247000@deleoncommunitycalendar.com
SUMMARY:Pokémon Club
DESCRIPTION:Pokémon Club! \nCalling all Pokémon Trainers! \nJoin us at the De Leon Library every third Thursday of the month for Pokémon Club! Trade cards\, duel with friends\, watch episodes\, participate in Pokémon themed crafts\, and much more! \nWant to meet others who love Pokémon just as much as you! Come to De Leon Library’s Pokémon Club this month on Thursday\, December 18th at 4:30 p.m. \nJoin the club and spread the word!  \nWhen — Every Third Thursday | 4:30 p.m. \nWhere — De Leon City-County Library
URL:https://deleoncommunitycalendar.com/event/pokemon-club/2026-08-20/
LOCATION:De Leon City-County Library\, 125 E Reynosa Ave\, De Leon\, TX\, 76444\, United States
ATTACH;FMTTYPE=image/png:https://deleoncommunitycalendar.com/wp-content/uploads/2025/12/DLL-Pokemon-Club.png
ORGANIZER;CN="De Leon Library":MAILTO:library@cityofdeleon.org
END:VEVENT
BEGIN:VEVENT
DTSTART;TZID=America/Chicago:20260822T090000
DTEND;TZID=America/Chicago:20260822T140000
DTSTAMP:20260423T061745
CREATED:20260205T045350Z
LAST-MODIFIED:20260205T045350Z
UID:10002155-1787389200-1787407200@deleoncommunitycalendar.com
SUMMARY:Dungeons and Dragons Club
DESCRIPTION:De Leon Library will start hosting a Dungeons and Dragons Table Top Role-Playing Club. This Club will be meeting on the second and fourth Saturdays of the month\, starting on February the 28th. The club will play all day\, from 9 AM – 2 PM\, and all materials will be provided for players. These games will be open to players of all experience levels. Whether you’re a level 1 human fighter or a level 20 changeling druid\, come join the fun and let your imagination take you on a grand adventure!
URL:https://deleoncommunitycalendar.com/event/dungeons-and-dragons-club/2026-08-22/
LOCATION:De Leon City-County Library\, 125 E Reynosa Ave\, De Leon\, TX\, 76444\, United States
ATTACH;FMTTYPE=image/png:https://deleoncommunitycalendar.com/wp-content/uploads/2026/02/DD-Campaign.png
ORGANIZER;CN="De Leon Library":MAILTO:library@cityofdeleon.org
END:VEVENT
BEGIN:VEVENT
DTSTART;TZID=America/Chicago:20260824T180000
DTEND;TZID=America/Chicago:20260824T190000
DTSTAMP:20260423T061745
CREATED:20251026T041251Z
LAST-MODIFIED:20260222T185520Z
UID:10002599-1787594400-1787598000@deleoncommunitycalendar.com
SUMMARY:Developing De Leon Today Meeting
DESCRIPTION:Developing De Leon Today Corporation meets on the fourth Monday of each month at 6:00 PM in the De Leon Historical Museum to discuss ways to promote De Leon. The public is encouraged to attend.
URL:https://deleoncommunitycalendar.com/event/developing-de-leon-today-meeting/2026-08-24/
LOCATION:De Leon Area Historical Museum\, 173 North Texas Street\, De Leon\, TX\, 76444\, United States
ATTACH;FMTTYPE=image/png:https://deleoncommunitycalendar.com/wp-content/uploads/2025/10/DDT-Logo-Bobby-cropped.png
END:VEVENT
BEGIN:VEVENT
DTSTART;TZID=America/Chicago:20260825T093000
DTEND;TZID=America/Chicago:20260825T103000
DTSTAMP:20260423T061745
CREATED:20250911T125620Z
LAST-MODIFIED:20250911T125620Z
UID:10000058-1787650200-1787653800@deleoncommunitycalendar.com
SUMMARY:Story Time at De Leon Library
DESCRIPTION:Story Time: Presented By\nLocal Author Jamie R. Cole \nWatch Jamie Cole bring stories to life with her creativity and enthusiasm! Kids love her energy and always have a fantastic time. Story Time takes place every Tuesday at the De Leon Library during the school year. Each week brings something new to enjoy! Hear a story\, sing a song\, do a craft\, and discover the magic of reading together. \nWhen — Tuesdays | 9:30 a.m. \nWhere — De Leon City-County Library
URL:https://deleoncommunitycalendar.com/event/story-time-at-de-leon-library/2026-08-25/
LOCATION:De Leon City-County Library\, 125 E Reynosa Ave\, De Leon\, TX\, 76444\, United States
ATTACH;FMTTYPE=image/jpeg:https://deleoncommunitycalendar.com/wp-content/uploads/2025/09/IMG_20250902_102114771-scaled.jpg
ORGANIZER;CN="De Leon Library":MAILTO:library@cityofdeleon.org
END:VEVENT
BEGIN:VEVENT
DTSTART;TZID=America/Chicago:20260825T120000
DTEND;TZID=America/Chicago:20260825T220000
DTSTAMP:20260423T061745
CREATED:20260209T022038Z
LAST-MODIFIED:20260209T022038Z
UID:10002297-1787659200-1787695200@deleoncommunitycalendar.com
SUMMARY:4D Pole Bending @ 16 North Arena
DESCRIPTION:Every Tuesday!\nExhibitions 12:00-6:30 pm\nRace start at 7:00 pm\nPre Entries Texas (254) 595-6670
URL:https://deleoncommunitycalendar.com/event/4d-pole-bending-16-north-arena/2026-08-25/
LOCATION:16 North Arena\, 4740 State Highway 16\, De Leon\, TX\, 76444\, United States
ATTACH;FMTTYPE=image/jpeg:https://deleoncommunitycalendar.com/wp-content/uploads/2026/02/16-arena-pole-.jpg
END:VEVENT
BEGIN:VEVENT
DTSTART;TZID=America/Chicago:20260825T130000
DTEND;TZID=America/Chicago:20260825T150000
DTSTAMP:20260423T061745
CREATED:20260108T024457Z
LAST-MODIFIED:20260108T024457Z
UID:10001499-1787662800-1787670000@deleoncommunitycalendar.com
SUMMARY:Mah Jongg Meetup
DESCRIPTION:De Leon Library Mah Jongg Meetup\nAmerican Mah Jongg \nJoin us every Tuesday at 1:00 PM at De Leon Library for our weekly Mah Jongg meetup! \nWe play American Mah Jongg\, and all skill levels are welcome. Whether you’re a seasoned veteran or a total beginner who wants to learn\, come hang out at De Leon Library!  \nNo pressure\, just fun and tiles!\nSee you Tuesday at 1:00 PM at De Leon Library!
URL:https://deleoncommunitycalendar.com/event/mah-jongg-meetup/2026-08-25/
LOCATION:De Leon City-County Library\, 125 E Reynosa Ave\, De Leon\, TX\, 76444\, United States
ATTACH;FMTTYPE=image/png:https://deleoncommunitycalendar.com/wp-content/uploads/2026/01/Mah-Jongg.png
ORGANIZER;CN="De Leon Library":MAILTO:library@cityofdeleon.org
END:VEVENT
BEGIN:VEVENT
DTSTART;VALUE=DATE:20260826
DTEND;VALUE=DATE:20260827
DTSTAMP:20260423T061745
CREATED:20260119T031953Z
LAST-MODIFIED:20260119T031953Z
UID:10001928-1787702400-1787788799@deleoncommunitycalendar.com
SUMMARY:February Betty Barrel Jackpot
DESCRIPTION:Every Wednesday in February
URL:https://deleoncommunitycalendar.com/event/february-betty-barrel-jackpot/2026-08-26/
LOCATION:16 North Arena\, 4740 State Highway 16\, De Leon\, TX\, 76444\, United States
ATTACH;FMTTYPE=image/jpeg:https://deleoncommunitycalendar.com/wp-content/uploads/2026/01/16-arena-feb-.jpg
END:VEVENT
BEGIN:VEVENT
DTSTART;VALUE=DATE:20260826
DTEND;VALUE=DATE:20260827
DTSTAMP:20260423T061745
CREATED:20260306T032942Z
LAST-MODIFIED:20260306T032942Z
UID:10002684-1787702400-1787788799@deleoncommunitycalendar.com
SUMMARY:Clover Cans Barrel Jackpot
DESCRIPTION:Barrel jackpot every Wednesday in March.
URL:https://deleoncommunitycalendar.com/event/clover-cans-barrel-jackpot/2026-08-26/
LOCATION:16 North Arena\, 4740 State Highway 16\, De Leon\, TX\, 76444\, United States
ATTACH;FMTTYPE=image/jpeg:https://deleoncommunitycalendar.com/wp-content/uploads/2026/03/16-north-March.jpg
END:VEVENT
BEGIN:VEVENT
DTSTART;TZID=America/Chicago:20260827T103000
DTEND;TZID=America/Chicago:20260827T120000
DTSTAMP:20260423T061745
CREATED:20260209T024628Z
LAST-MODIFIED:20260209T024628Z
UID:10002539-1787826600-1787832000@deleoncommunitycalendar.com
SUMMARY:Food Bank of West Central Texas
DESCRIPTION:DeLeon Mobile Food Pantry \n4th Thurs 10:30 – 12:00\nDeLeon City Park\n(254) 879-4900
URL:https://deleoncommunitycalendar.com/event/food-bank-of-west-central-texas/2026-08-27/
LOCATION:De Leon City Park\, 640 E Navarro Ave\, De Leon\, TX\, 76444
ATTACH;FMTTYPE=image/png:https://deleoncommunitycalendar.com/wp-content/uploads/2026/02/Screenshot-2026-02-08-at-8.43.23-PM.png
END:VEVENT
END:VCALENDAR