BEGIN:VCALENDAR
VERSION:2.0
PRODID:-//De Leon Community Calendar - ECPv6.15.20//NONSGML v1.0//EN
CALSCALE:GREGORIAN
METHOD:PUBLISH
X-WR-CALNAME:De Leon Community Calendar
X-ORIGINAL-URL:https://deleoncommunitycalendar.com
X-WR-CALDESC:Events for De Leon Community Calendar
REFRESH-INTERVAL;VALUE=DURATION:PT1H
X-Robots-Tag:noindex
X-PUBLISHED-TTL:PT1H
BEGIN:VTIMEZONE
TZID:America/Chicago
BEGIN:DAYLIGHT
TZOFFSETFROM:-0600
TZOFFSETTO:-0500
TZNAME:CDT
DTSTART:20250309T080000
END:DAYLIGHT
BEGIN:STANDARD
TZOFFSETFROM:-0500
TZOFFSETTO:-0600
TZNAME:CST
DTSTART:20251102T070000
END:STANDARD
BEGIN:DAYLIGHT
TZOFFSETFROM:-0600
TZOFFSETTO:-0500
TZNAME:CDT
DTSTART:20260308T080000
END:DAYLIGHT
BEGIN:STANDARD
TZOFFSETFROM:-0500
TZOFFSETTO:-0600
TZNAME:CST
DTSTART:20261101T070000
END:STANDARD
BEGIN:DAYLIGHT
TZOFFSETFROM:-0600
TZOFFSETTO:-0500
TZNAME:CDT
DTSTART:20270314T080000
END:DAYLIGHT
BEGIN:STANDARD
TZOFFSETFROM:-0500
TZOFFSETTO:-0600
TZNAME:CST
DTSTART:20271107T070000
END:STANDARD
END:VTIMEZONE
BEGIN:VEVENT
DTSTART;TZID=America/Chicago:20260411T100000
DTEND;TZID=America/Chicago:20260411T140000
DTSTAMP:20260423T053109
CREATED:20260401T033957Z
LAST-MODIFIED:20260401T033957Z
UID:10002794-1775901600-1775916000@deleoncommunitycalendar.com
SUMMARY:Car Wash Fundraiser
DESCRIPTION:🚗💦 SCOUT CAR WASH 💦🚗 \nMark your calendars!\n🗓 April 11th\n📍 First National Bank\n⏰ 10 AM – 2 PM   \nBring your dirty cars and come support your local scouts!   \n💵 By donation only   \nWe appreciate your support!
URL:https://deleoncommunitycalendar.com/event/car-wash-fundraiser/
LOCATION:First National Bank De Leon\, 809 N. Texas\, De Leon\, TX\, 76444\, United States
ATTACH;FMTTYPE=image/png:https://deleoncommunitycalendar.com/wp-content/uploads/2026/03/4DAC4CC0-1D4F-41DD-BED1-A4C7616A32E9.png
END:VEVENT
BEGIN:VEVENT
DTSTART;TZID=America/Chicago:20260411T170000
DTEND;TZID=America/Chicago:20260411T193000
DTSTAMP:20260423T053109
CREATED:20260328T190712Z
LAST-MODIFIED:20260328T190727Z
UID:10002793-1775926800-1775935800@deleoncommunitycalendar.com
SUMMARY:Fish Fry & Gun Raffle
DESCRIPTION:De Leon Area Historical Society will have a Fish Fry  and Gun Raffle at the De Leon City Auditorium.   Fried fish\, French fries\, Cole Slaw\, drinks and dessert will be served by donation with all proceeds going to the MKT Depot preservation. \nA Mossberg Maverick 88 12 gauge\, security/safety combo rifle will be raffled.  Tickets are $20  with a limit of 100 to be sold.  The rifle will be given away at the fish fry.  Tickets may be purchased at the fish fry\, at the De Leon Historical Museum or from a DAHS Board member.
URL:https://deleoncommunitycalendar.com/event/fish-fry-gun-raffle/
LOCATION:De Leon City Auditorium\, De Leon\, 76444\, United States
ATTACH;FMTTYPE=image/jpeg:https://deleoncommunitycalendar.com/wp-content/uploads/2025/09/fish-fry.jpg
END:VEVENT
BEGIN:VEVENT
DTSTART;TZID=America/Chicago:20260414T090000
DTEND;TZID=America/Chicago:20260414T110000
DTSTAMP:20260423T053109
CREATED:20260203T051324Z
LAST-MODIFIED:20260203T051602Z
UID:10001970-1776157200-1776164400@deleoncommunitycalendar.com
SUMMARY:Food Pantry Distribution (morning)
DESCRIPTION:The De Leon Food Pantry is sponsored by the De Leon Ministerial Alliance and Clothes Closet. They distribute boxes of food on the second Tuesday of each month to families who applied for assistance in accordance with the Central Texas Food Bank located in Abilene.
URL:https://deleoncommunitycalendar.com/event/food-pantry-distribution/2026-04-14/
LOCATION:De Leon Food Pantry\, 900 N Texas Street\, De Leon\, Texas\, 76444
ATTACH;FMTTYPE=image/jpeg:https://deleoncommunitycalendar.com/wp-content/uploads/2026/02/IMG_5179-scaled.jpeg
END:VEVENT
BEGIN:VEVENT
DTSTART;TZID=America/Chicago:20260414T093000
DTEND;TZID=America/Chicago:20260414T103000
DTSTAMP:20260423T053109
CREATED:20250911T125620Z
LAST-MODIFIED:20250911T125620Z
UID:10000039-1776159000-1776162600@deleoncommunitycalendar.com
SUMMARY:Story Time at De Leon Library
DESCRIPTION:Story Time: Presented By\nLocal Author Jamie R. Cole \nWatch Jamie Cole bring stories to life with her creativity and enthusiasm! Kids love her energy and always have a fantastic time. Story Time takes place every Tuesday at the De Leon Library during the school year. Each week brings something new to enjoy! Hear a story\, sing a song\, do a craft\, and discover the magic of reading together. \nWhen — Tuesdays | 9:30 a.m. \nWhere — De Leon City-County Library
URL:https://deleoncommunitycalendar.com/event/story-time-at-de-leon-library/2026-04-14/
LOCATION:De Leon City-County Library\, 125 E Reynosa Ave\, De Leon\, TX\, 76444\, United States
ATTACH;FMTTYPE=image/jpeg:https://deleoncommunitycalendar.com/wp-content/uploads/2025/09/IMG_20250902_102114771-scaled.jpg
ORGANIZER;CN="De Leon Library":MAILTO:library@cityofdeleon.org
END:VEVENT
BEGIN:VEVENT
DTSTART;TZID=America/Chicago:20260414T110000
DTEND;TZID=America/Chicago:20260414T130000
DTSTAMP:20260423T053109
CREATED:20260410T025642Z
LAST-MODIFIED:20260410T025642Z
UID:10002802-1776164400-1776171600@deleoncommunitycalendar.com
SUMMARY:Comanche County Retired School Employees Meeting
DESCRIPTION:The Comanche County Retired School Employees will meet Tuesday\, April 14\, 2026 at the Highway 6 Cafe in De Leon. The meeting will begin at 11 a.m. Kelly Taylor will speak on heart health.
URL:https://deleoncommunitycalendar.com/event/comanche-county-retired-school-employees-meeting-3/
LOCATION:Highway 6 Cafe\, 432 W Navarro Street\, De Leon\, TX\, 76444
ATTACH;FMTTYPE=image/jpeg:https://deleoncommunitycalendar.com/wp-content/uploads/2026/04/CCRSE-DPIL.jpg
ORGANIZER;CN="CCRSE":MAILTO:vivian.menzel@gmail.com
END:VEVENT
BEGIN:VEVENT
DTSTART;TZID=America/Chicago:20260414T120000
DTEND;TZID=America/Chicago:20260414T220000
DTSTAMP:20260423T053109
CREATED:20260209T022038Z
LAST-MODIFIED:20260209T022038Z
UID:10002278-1776168000-1776204000@deleoncommunitycalendar.com
SUMMARY:4D Pole Bending @ 16 North Arena
DESCRIPTION:Every Tuesday!\nExhibitions 12:00-6:30 pm\nRace start at 7:00 pm\nPre Entries Texas (254) 595-6670
URL:https://deleoncommunitycalendar.com/event/4d-pole-bending-16-north-arena/2026-04-14/
LOCATION:16 North Arena\, 4740 State Highway 16\, De Leon\, TX\, 76444\, United States
ATTACH;FMTTYPE=image/jpeg:https://deleoncommunitycalendar.com/wp-content/uploads/2026/02/16-arena-pole-.jpg
END:VEVENT
BEGIN:VEVENT
DTSTART;TZID=America/Chicago:20260414T130000
DTEND;TZID=America/Chicago:20260414T150000
DTSTAMP:20260423T053109
CREATED:20260108T024457Z
LAST-MODIFIED:20260108T024457Z
UID:10001480-1776171600-1776178800@deleoncommunitycalendar.com
SUMMARY:Mah Jongg Meetup
DESCRIPTION:De Leon Library Mah Jongg Meetup\nAmerican Mah Jongg \nJoin us every Tuesday at 1:00 PM at De Leon Library for our weekly Mah Jongg meetup! \nWe play American Mah Jongg\, and all skill levels are welcome. Whether you’re a seasoned veteran or a total beginner who wants to learn\, come hang out at De Leon Library!  \nNo pressure\, just fun and tiles!\nSee you Tuesday at 1:00 PM at De Leon Library!
URL:https://deleoncommunitycalendar.com/event/mah-jongg-meetup/2026-04-14/
LOCATION:De Leon City-County Library\, 125 E Reynosa Ave\, De Leon\, TX\, 76444\, United States
ATTACH;FMTTYPE=image/png:https://deleoncommunitycalendar.com/wp-content/uploads/2026/01/Mah-Jongg.png
ORGANIZER;CN="De Leon Library":MAILTO:library@cityofdeleon.org
END:VEVENT
BEGIN:VEVENT
DTSTART;TZID=America/Chicago:20260414T170000
DTEND;TZID=America/Chicago:20260414T190000
DTSTAMP:20260423T053109
CREATED:20260203T051457Z
LAST-MODIFIED:20260203T051457Z
UID:10002090-1776186000-1776193200@deleoncommunitycalendar.com
SUMMARY:Food Pantry Distribution (evening)
DESCRIPTION:The De Leon Food Pantry is sponsored by the De Leon Ministerial Alliance and Clothes Closet. They distribute boxes of food on the second Tuesday of each month to families who applied for assistance in accordance with the Central Texas Food Bank located in Abilene.
URL:https://deleoncommunitycalendar.com/event/food-pantry-distribution-evening/2026-04-14/
LOCATION:De Leon Food Pantry\, 900 N Texas Street\, De Leon\, Texas\, 76444
ATTACH;FMTTYPE=image/jpeg:https://deleoncommunitycalendar.com/wp-content/uploads/2026/02/IMG_5179-scaled.jpeg
END:VEVENT
BEGIN:VEVENT
DTSTART;VALUE=DATE:20260415
DTEND;VALUE=DATE:20260416
DTSTAMP:20260423T053109
CREATED:20260119T031953Z
LAST-MODIFIED:20260119T031953Z
UID:10001909-1776211200-1776297599@deleoncommunitycalendar.com
SUMMARY:February Betty Barrel Jackpot
DESCRIPTION:Every Wednesday in February
URL:https://deleoncommunitycalendar.com/event/february-betty-barrel-jackpot/2026-04-15/
LOCATION:16 North Arena\, 4740 State Highway 16\, De Leon\, TX\, 76444\, United States
ATTACH;FMTTYPE=image/jpeg:https://deleoncommunitycalendar.com/wp-content/uploads/2026/01/16-arena-feb-.jpg
END:VEVENT
BEGIN:VEVENT
DTSTART;VALUE=DATE:20260415
DTEND;VALUE=DATE:20260416
DTSTAMP:20260423T053109
CREATED:20260306T032942Z
LAST-MODIFIED:20260306T032942Z
UID:10002665-1776211200-1776297599@deleoncommunitycalendar.com
SUMMARY:Clover Cans Barrel Jackpot
DESCRIPTION:Barrel jackpot every Wednesday in March.
URL:https://deleoncommunitycalendar.com/event/clover-cans-barrel-jackpot/2026-04-15/
LOCATION:16 North Arena\, 4740 State Highway 16\, De Leon\, TX\, 76444\, United States
ATTACH;FMTTYPE=image/jpeg:https://deleoncommunitycalendar.com/wp-content/uploads/2026/03/16-north-March.jpg
END:VEVENT
BEGIN:VEVENT
DTSTART;TZID=America/Chicago:20260416T163000
DTEND;TZID=America/Chicago:20260416T173000
DTSTAMP:20260423T053109
CREATED:20251205T031149Z
LAST-MODIFIED:20251205T031149Z
UID:10001397-1776357000-1776360600@deleoncommunitycalendar.com
SUMMARY:Pokémon Club
DESCRIPTION:Pokémon Club! \nCalling all Pokémon Trainers! \nJoin us at the De Leon Library every third Thursday of the month for Pokémon Club! Trade cards\, duel with friends\, watch episodes\, participate in Pokémon themed crafts\, and much more! \nWant to meet others who love Pokémon just as much as you! Come to De Leon Library’s Pokémon Club this month on Thursday\, December 18th at 4:30 p.m. \nJoin the club and spread the word!  \nWhen — Every Third Thursday | 4:30 p.m. \nWhere — De Leon City-County Library
URL:https://deleoncommunitycalendar.com/event/pokemon-club/2026-04-16/
LOCATION:De Leon City-County Library\, 125 E Reynosa Ave\, De Leon\, TX\, 76444\, United States
ATTACH;FMTTYPE=image/png:https://deleoncommunitycalendar.com/wp-content/uploads/2025/12/DLL-Pokemon-Club.png
ORGANIZER;CN="De Leon Library":MAILTO:library@cityofdeleon.org
END:VEVENT
BEGIN:VEVENT
DTSTART;TZID=America/Chicago:20260418T180000
DTEND;TZID=America/Chicago:20260418T200000
DTSTAMP:20260423T053109
CREATED:20260408T025505Z
LAST-MODIFIED:20260408T025505Z
UID:10002798-1776535200-1776542400@deleoncommunitycalendar.com
SUMMARY:De Leon HS UIL OAP
DESCRIPTION:Join us for a special evening of theatre\, food\, and community! \nDe Leon High School proudly presents its award-winning UIL One Act Play\, The Miraculous Journey of Edward Tulane\, in a public performance on April 18 at 6:00 PM. Guests will enjoy a delicious meal followed by the heartfelt production\, along with an exciting auction to support our talented students. \nDon’t miss this unforgettable night as our cast brings Edward’s journey to life—full of hope\, love\, and discovery!
URL:https://deleoncommunitycalendar.com/event/de-leon-hs-uil-oap/
LOCATION:De Leon High School\, 200 W Manchaca\, De Leon
ATTACH;FMTTYPE=image/png:https://deleoncommunitycalendar.com/wp-content/uploads/2026/04/090687D0-4633-40BD-9B4D-C860BA5CA97D.png
END:VEVENT
BEGIN:VEVENT
DTSTART;TZID=America/Chicago:20260421T093000
DTEND;TZID=America/Chicago:20260421T103000
DTSTAMP:20260423T053109
CREATED:20250911T125620Z
LAST-MODIFIED:20250911T125620Z
UID:10000040-1776763800-1776767400@deleoncommunitycalendar.com
SUMMARY:Story Time at De Leon Library
DESCRIPTION:Story Time: Presented By\nLocal Author Jamie R. Cole \nWatch Jamie Cole bring stories to life with her creativity and enthusiasm! Kids love her energy and always have a fantastic time. Story Time takes place every Tuesday at the De Leon Library during the school year. Each week brings something new to enjoy! Hear a story\, sing a song\, do a craft\, and discover the magic of reading together. \nWhen — Tuesdays | 9:30 a.m. \nWhere — De Leon City-County Library
URL:https://deleoncommunitycalendar.com/event/story-time-at-de-leon-library/2026-04-21/
LOCATION:De Leon City-County Library\, 125 E Reynosa Ave\, De Leon\, TX\, 76444\, United States
ATTACH;FMTTYPE=image/jpeg:https://deleoncommunitycalendar.com/wp-content/uploads/2025/09/IMG_20250902_102114771-scaled.jpg
ORGANIZER;CN="De Leon Library":MAILTO:library@cityofdeleon.org
END:VEVENT
BEGIN:VEVENT
DTSTART;TZID=America/Chicago:20260421T120000
DTEND;TZID=America/Chicago:20260421T220000
DTSTAMP:20260423T053109
CREATED:20260209T022038Z
LAST-MODIFIED:20260209T022038Z
UID:10002279-1776772800-1776808800@deleoncommunitycalendar.com
SUMMARY:4D Pole Bending @ 16 North Arena
DESCRIPTION:Every Tuesday!\nExhibitions 12:00-6:30 pm\nRace start at 7:00 pm\nPre Entries Texas (254) 595-6670
URL:https://deleoncommunitycalendar.com/event/4d-pole-bending-16-north-arena/2026-04-21/
LOCATION:16 North Arena\, 4740 State Highway 16\, De Leon\, TX\, 76444\, United States
ATTACH;FMTTYPE=image/jpeg:https://deleoncommunitycalendar.com/wp-content/uploads/2026/02/16-arena-pole-.jpg
END:VEVENT
BEGIN:VEVENT
DTSTART;TZID=America/Chicago:20260421T130000
DTEND;TZID=America/Chicago:20260421T150000
DTSTAMP:20260423T053109
CREATED:20260108T024457Z
LAST-MODIFIED:20260108T024457Z
UID:10001481-1776776400-1776783600@deleoncommunitycalendar.com
SUMMARY:Mah Jongg Meetup
DESCRIPTION:De Leon Library Mah Jongg Meetup\nAmerican Mah Jongg \nJoin us every Tuesday at 1:00 PM at De Leon Library for our weekly Mah Jongg meetup! \nWe play American Mah Jongg\, and all skill levels are welcome. Whether you’re a seasoned veteran or a total beginner who wants to learn\, come hang out at De Leon Library!  \nNo pressure\, just fun and tiles!\nSee you Tuesday at 1:00 PM at De Leon Library!
URL:https://deleoncommunitycalendar.com/event/mah-jongg-meetup/2026-04-21/
LOCATION:De Leon City-County Library\, 125 E Reynosa Ave\, De Leon\, TX\, 76444\, United States
ATTACH;FMTTYPE=image/png:https://deleoncommunitycalendar.com/wp-content/uploads/2026/01/Mah-Jongg.png
ORGANIZER;CN="De Leon Library":MAILTO:library@cityofdeleon.org
END:VEVENT
BEGIN:VEVENT
DTSTART;VALUE=DATE:20260422
DTEND;VALUE=DATE:20260423
DTSTAMP:20260423T053109
CREATED:20260119T031953Z
LAST-MODIFIED:20260119T031953Z
UID:10001910-1776816000-1776902399@deleoncommunitycalendar.com
SUMMARY:February Betty Barrel Jackpot
DESCRIPTION:Every Wednesday in February
URL:https://deleoncommunitycalendar.com/event/february-betty-barrel-jackpot/2026-04-22/
LOCATION:16 North Arena\, 4740 State Highway 16\, De Leon\, TX\, 76444\, United States
ATTACH;FMTTYPE=image/jpeg:https://deleoncommunitycalendar.com/wp-content/uploads/2026/01/16-arena-feb-.jpg
END:VEVENT
BEGIN:VEVENT
DTSTART;VALUE=DATE:20260422
DTEND;VALUE=DATE:20260423
DTSTAMP:20260423T053109
CREATED:20260306T032942Z
LAST-MODIFIED:20260306T032942Z
UID:10002666-1776816000-1776902399@deleoncommunitycalendar.com
SUMMARY:Clover Cans Barrel Jackpot
DESCRIPTION:Barrel jackpot every Wednesday in March.
URL:https://deleoncommunitycalendar.com/event/clover-cans-barrel-jackpot/2026-04-22/
LOCATION:16 North Arena\, 4740 State Highway 16\, De Leon\, TX\, 76444\, United States
ATTACH;FMTTYPE=image/jpeg:https://deleoncommunitycalendar.com/wp-content/uploads/2026/03/16-north-March.jpg
END:VEVENT
BEGIN:VEVENT
DTSTART;TZID=America/Chicago:20260423T103000
DTEND;TZID=America/Chicago:20260423T120000
DTSTAMP:20260423T053109
CREATED:20260209T024628Z
LAST-MODIFIED:20260209T024628Z
UID:10002535-1776940200-1776945600@deleoncommunitycalendar.com
SUMMARY:Food Bank of West Central Texas
DESCRIPTION:DeLeon Mobile Food Pantry \n4th Thurs 10:30 – 12:00\nDeLeon City Park\n(254) 879-4900
URL:https://deleoncommunitycalendar.com/event/food-bank-of-west-central-texas/2026-04-23/
LOCATION:De Leon City Park\, 640 E Navarro Ave\, De Leon\, TX\, 76444
ATTACH;FMTTYPE=image/png:https://deleoncommunitycalendar.com/wp-content/uploads/2026/02/Screenshot-2026-02-08-at-8.43.23-PM.png
END:VEVENT
BEGIN:VEVENT
DTSTART;TZID=America/Chicago:20260425T080000
DTEND;TZID=America/Chicago:20260425T120000
DTSTAMP:20260423T053109
CREATED:20260414T022258Z
LAST-MODIFIED:20260414T022258Z
UID:10002804-1777104000-1777118400@deleoncommunitycalendar.com
SUMMARY:Bake Sale for Children's Camp
DESCRIPTION:Bake sale for children to go to Children’s camp with FBC De Leon.
URL:https://deleoncommunitycalendar.com/event/bake-sale-for-childrens-camp/
LOCATION:Spring Market\, 725 N. Texas Street\, De Leon\, Texas\, 76444
ATTACH;FMTTYPE=image/png:https://deleoncommunitycalendar.com/wp-content/uploads/2026/04/Screenshot-2026-04-13-at-2.40.21-PM.png
ORGANIZER;CN="De Leon FBC Children":MAILTO:deleonfbc@gmail.com
END:VEVENT
BEGIN:VEVENT
DTSTART;TZID=America/Chicago:20260425T090000
DTEND;TZID=America/Chicago:20260425T140000
DTSTAMP:20260423T053109
CREATED:20260205T045350Z
LAST-MODIFIED:20260205T045350Z
UID:10002151-1777107600-1777125600@deleoncommunitycalendar.com
SUMMARY:Dungeons and Dragons Club
DESCRIPTION:De Leon Library will start hosting a Dungeons and Dragons Table Top Role-Playing Club. This Club will be meeting on the second and fourth Saturdays of the month\, starting on February the 28th. The club will play all day\, from 9 AM – 2 PM\, and all materials will be provided for players. These games will be open to players of all experience levels. Whether you’re a level 1 human fighter or a level 20 changeling druid\, come join the fun and let your imagination take you on a grand adventure!
URL:https://deleoncommunitycalendar.com/event/dungeons-and-dragons-club/2026-04-25/
LOCATION:De Leon City-County Library\, 125 E Reynosa Ave\, De Leon\, TX\, 76444\, United States
ATTACH;FMTTYPE=image/png:https://deleoncommunitycalendar.com/wp-content/uploads/2026/02/DD-Campaign.png
ORGANIZER;CN="De Leon Library":MAILTO:library@cityofdeleon.org
END:VEVENT
BEGIN:VEVENT
DTSTART;TZID=America/Chicago:20260425T100000
DTEND;TZID=America/Chicago:20260425T110000
DTSTAMP:20260423T053109
CREATED:20260408T025547Z
LAST-MODIFIED:20260408T025547Z
UID:10002799-1777111200-1777114800@deleoncommunitycalendar.com
SUMMARY:Earth Day at De Leon Library
DESCRIPTION:Come to De Leon Library on Saturday\, April 25th at 10:00 am to celebrate Earth Day! 🌎\nOur guest from Womack Nursery will be here to teach you all about planting your tree. 🌳\nIf you registered for a free tree through Neighborhood Forest\, you will pick them up here. If they are not ready\, we will call you to set up a pickup time. 🌱\nSee you then! ✨
URL:https://deleoncommunitycalendar.com/event/earth-day-at-de-leon-library/
LOCATION:De Leon City-County Library\, 125 E Reynosa Ave\, De Leon\, TX\, 76444\, United States
ATTACH;FMTTYPE=image/png:https://deleoncommunitycalendar.com/wp-content/uploads/2026/04/DLL-Earth-Day-Pickup.png
ORGANIZER;CN="De Leon Library":MAILTO:library@cityofdeleon.org
END:VEVENT
BEGIN:VEVENT
DTSTART;TZID=America/Chicago:20260427T180000
DTEND;TZID=America/Chicago:20260427T190000
DTSTAMP:20260423T053109
CREATED:20251026T041251Z
LAST-MODIFIED:20260222T185520Z
UID:10002595-1777312800-1777316400@deleoncommunitycalendar.com
SUMMARY:Developing De Leon Today Meeting
DESCRIPTION:Developing De Leon Today Corporation meets on the fourth Monday of each month at 6:00 PM in the De Leon Historical Museum to discuss ways to promote De Leon. The public is encouraged to attend.
URL:https://deleoncommunitycalendar.com/event/developing-de-leon-today-meeting/2026-04-27/
LOCATION:De Leon Area Historical Museum\, 173 North Texas Street\, De Leon\, TX\, 76444\, United States
ATTACH;FMTTYPE=image/png:https://deleoncommunitycalendar.com/wp-content/uploads/2025/10/DDT-Logo-Bobby-cropped.png
END:VEVENT
BEGIN:VEVENT
DTSTART;TZID=America/Chicago:20260428T093000
DTEND;TZID=America/Chicago:20260428T103000
DTSTAMP:20260423T053109
CREATED:20250911T125620Z
LAST-MODIFIED:20250911T125620Z
UID:10000041-1777368600-1777372200@deleoncommunitycalendar.com
SUMMARY:Story Time at De Leon Library
DESCRIPTION:Story Time: Presented By\nLocal Author Jamie R. Cole \nWatch Jamie Cole bring stories to life with her creativity and enthusiasm! Kids love her energy and always have a fantastic time. Story Time takes place every Tuesday at the De Leon Library during the school year. Each week brings something new to enjoy! Hear a story\, sing a song\, do a craft\, and discover the magic of reading together. \nWhen — Tuesdays | 9:30 a.m. \nWhere — De Leon City-County Library
URL:https://deleoncommunitycalendar.com/event/story-time-at-de-leon-library/2026-04-28/
LOCATION:De Leon City-County Library\, 125 E Reynosa Ave\, De Leon\, TX\, 76444\, United States
ATTACH;FMTTYPE=image/jpeg:https://deleoncommunitycalendar.com/wp-content/uploads/2025/09/IMG_20250902_102114771-scaled.jpg
ORGANIZER;CN="De Leon Library":MAILTO:library@cityofdeleon.org
END:VEVENT
BEGIN:VEVENT
DTSTART;TZID=America/Chicago:20260428T120000
DTEND;TZID=America/Chicago:20260428T220000
DTSTAMP:20260423T053109
CREATED:20260209T022038Z
LAST-MODIFIED:20260209T022038Z
UID:10002280-1777377600-1777413600@deleoncommunitycalendar.com
SUMMARY:4D Pole Bending @ 16 North Arena
DESCRIPTION:Every Tuesday!\nExhibitions 12:00-6:30 pm\nRace start at 7:00 pm\nPre Entries Texas (254) 595-6670
URL:https://deleoncommunitycalendar.com/event/4d-pole-bending-16-north-arena/2026-04-28/
LOCATION:16 North Arena\, 4740 State Highway 16\, De Leon\, TX\, 76444\, United States
ATTACH;FMTTYPE=image/jpeg:https://deleoncommunitycalendar.com/wp-content/uploads/2026/02/16-arena-pole-.jpg
END:VEVENT
BEGIN:VEVENT
DTSTART;TZID=America/Chicago:20260428T130000
DTEND;TZID=America/Chicago:20260428T150000
DTSTAMP:20260423T053109
CREATED:20260108T024457Z
LAST-MODIFIED:20260108T024457Z
UID:10001482-1777381200-1777388400@deleoncommunitycalendar.com
SUMMARY:Mah Jongg Meetup
DESCRIPTION:De Leon Library Mah Jongg Meetup\nAmerican Mah Jongg \nJoin us every Tuesday at 1:00 PM at De Leon Library for our weekly Mah Jongg meetup! \nWe play American Mah Jongg\, and all skill levels are welcome. Whether you’re a seasoned veteran or a total beginner who wants to learn\, come hang out at De Leon Library!  \nNo pressure\, just fun and tiles!\nSee you Tuesday at 1:00 PM at De Leon Library!
URL:https://deleoncommunitycalendar.com/event/mah-jongg-meetup/2026-04-28/
LOCATION:De Leon City-County Library\, 125 E Reynosa Ave\, De Leon\, TX\, 76444\, United States
ATTACH;FMTTYPE=image/png:https://deleoncommunitycalendar.com/wp-content/uploads/2026/01/Mah-Jongg.png
ORGANIZER;CN="De Leon Library":MAILTO:library@cityofdeleon.org
END:VEVENT
BEGIN:VEVENT
DTSTART;TZID=America/Chicago:20260428T180000
DTEND;TZID=America/Chicago:20260428T190000
DTSTAMP:20260423T053109
CREATED:20251027T153751Z
LAST-MODIFIED:20251027T153751Z
UID:10000985-1777399200-1777402800@deleoncommunitycalendar.com
SUMMARY:DHS Gifted and Talented Science Fair
DESCRIPTION:The De Leon High School Gifted and Talented class invites the community to attend their “Pursuit of Passions: Shake It Up With Science” fair on April 28 from 6–7 p.m. in the De Leon High School cafeteria. This event will showcase the creativity and dedication of GT students as they present their science projects\, marking the culmination of this year’s science-focused rotation. The GT program follows a four-year cycle of themed projects\, including “Dancing Through the Decades” (history)\, “Night of Notables” (English)\, “Pursuit of Passions: Career-Centered Success” (math)\, and “Shake It Up With Science” (science). The students work very hard all year and would love to show you their projects and discuss their discoveries.
URL:https://deleoncommunitycalendar.com/event/dhs-gifted-and-talented-science-fair/
LOCATION:De Leon High School\, 200 W Manchaca\, De Leon
ATTACH;FMTTYPE=image/png:https://deleoncommunitycalendar.com/wp-content/uploads/2025/10/Science-Fair-Invite.png
END:VEVENT
BEGIN:VEVENT
DTSTART;VALUE=DATE:20260429
DTEND;VALUE=DATE:20260430
DTSTAMP:20260423T053109
CREATED:20260119T031953Z
LAST-MODIFIED:20260119T031953Z
UID:10001911-1777420800-1777507199@deleoncommunitycalendar.com
SUMMARY:February Betty Barrel Jackpot
DESCRIPTION:Every Wednesday in February
URL:https://deleoncommunitycalendar.com/event/february-betty-barrel-jackpot/2026-04-29/
LOCATION:16 North Arena\, 4740 State Highway 16\, De Leon\, TX\, 76444\, United States
ATTACH;FMTTYPE=image/jpeg:https://deleoncommunitycalendar.com/wp-content/uploads/2026/01/16-arena-feb-.jpg
END:VEVENT
BEGIN:VEVENT
DTSTART;VALUE=DATE:20260429
DTEND;VALUE=DATE:20260430
DTSTAMP:20260423T053109
CREATED:20260306T032942Z
LAST-MODIFIED:20260306T032942Z
UID:10002667-1777420800-1777507199@deleoncommunitycalendar.com
SUMMARY:Clover Cans Barrel Jackpot
DESCRIPTION:Barrel jackpot every Wednesday in March.
URL:https://deleoncommunitycalendar.com/event/clover-cans-barrel-jackpot/2026-04-29/
LOCATION:16 North Arena\, 4740 State Highway 16\, De Leon\, TX\, 76444\, United States
ATTACH;FMTTYPE=image/jpeg:https://deleoncommunitycalendar.com/wp-content/uploads/2026/03/16-north-March.jpg
END:VEVENT
BEGIN:VEVENT
DTSTART;TZID=America/Chicago:20260501T080000
DTEND;TZID=America/Chicago:20260501T113000
DTSTAMP:20260423T053109
CREATED:20260203T022726Z
LAST-MODIFIED:20260203T023137Z
UID:10001958-1777622400-1777635000@deleoncommunitycalendar.com
SUMMARY:Garden Tours
DESCRIPTION:Every Friday and Saturday morning in May. Self guided tours with refreshments on Saturday. Grab a map from the bar and saunter around\, take in the gardens. Look for markers identifying plants and statues.  Family friendly. More info follow Facebook Higgledy Piggledy Cottage. Please remember it is every Friday and Saturday in the month of May!
URL:https://deleoncommunitycalendar.com/event/garden-tours/2026-05-01/
LOCATION:Higgledy Piggledy Cottage\, 232 Sipe Springs Road\, De Leon\, TX\, 76444\, United States
ATTACH;FMTTYPE=image/jpeg:https://deleoncommunitycalendar.com/wp-content/uploads/2026/02/Green-Orange-Floral-Community-Garden-Club-Flyer.jpeg
END:VEVENT
BEGIN:VEVENT
DTSTART;TZID=America/Chicago:20260502T080000
DTEND;TZID=America/Chicago:20260502T113000
DTSTAMP:20260423T053109
CREATED:20260203T022726Z
LAST-MODIFIED:20260203T023137Z
UID:10001959-1777708800-1777721400@deleoncommunitycalendar.com
SUMMARY:Garden Tours
DESCRIPTION:Every Friday and Saturday morning in May. Self guided tours with refreshments on Saturday. Grab a map from the bar and saunter around\, take in the gardens. Look for markers identifying plants and statues.  Family friendly. More info follow Facebook Higgledy Piggledy Cottage. Please remember it is every Friday and Saturday in the month of May!
URL:https://deleoncommunitycalendar.com/event/garden-tours/2026-05-02/
LOCATION:Higgledy Piggledy Cottage\, 232 Sipe Springs Road\, De Leon\, TX\, 76444\, United States
ATTACH;FMTTYPE=image/jpeg:https://deleoncommunitycalendar.com/wp-content/uploads/2026/02/Green-Orange-Floral-Community-Garden-Club-Flyer.jpeg
END:VEVENT
END:VCALENDAR