BEGIN:VCALENDAR
VERSION:2.0
PRODID:-//De Leon Community Calendar - ECPv6.15.20//NONSGML v1.0//EN
CALSCALE:GREGORIAN
METHOD:PUBLISH
X-ORIGINAL-URL:https://deleoncommunitycalendar.com
X-WR-CALDESC:Events for De Leon Community Calendar
REFRESH-INTERVAL;VALUE=DURATION:PT1H
X-Robots-Tag:noindex
X-PUBLISHED-TTL:PT1H
BEGIN:VTIMEZONE
TZID:America/Chicago
BEGIN:DAYLIGHT
TZOFFSETFROM:-0600
TZOFFSETTO:-0500
TZNAME:CDT
DTSTART:20250309T080000
END:DAYLIGHT
BEGIN:STANDARD
TZOFFSETFROM:-0500
TZOFFSETTO:-0600
TZNAME:CST
DTSTART:20251102T070000
END:STANDARD
BEGIN:DAYLIGHT
TZOFFSETFROM:-0600
TZOFFSETTO:-0500
TZNAME:CDT
DTSTART:20260308T080000
END:DAYLIGHT
BEGIN:STANDARD
TZOFFSETFROM:-0500
TZOFFSETTO:-0600
TZNAME:CST
DTSTART:20261101T070000
END:STANDARD
BEGIN:DAYLIGHT
TZOFFSETFROM:-0600
TZOFFSETTO:-0500
TZNAME:CDT
DTSTART:20270314T080000
END:DAYLIGHT
BEGIN:STANDARD
TZOFFSETFROM:-0500
TZOFFSETTO:-0600
TZNAME:CST
DTSTART:20271107T070000
END:STANDARD
END:VTIMEZONE
BEGIN:VEVENT
DTSTART;VALUE=DATE:20260304
DTEND;VALUE=DATE:20260305
DTSTAMP:20260423T045749
CREATED:20260119T031953Z
LAST-MODIFIED:20260119T031953Z
UID:10001903-1772582400-1772668799@deleoncommunitycalendar.com
SUMMARY:February Betty Barrel Jackpot
DESCRIPTION:Every Wednesday in February
URL:https://deleoncommunitycalendar.com/event/february-betty-barrel-jackpot/2026-03-04/
LOCATION:16 North Arena\, 4740 State Highway 16\, De Leon\, TX\, 76444\, United States
ATTACH;FMTTYPE=image/jpeg:https://deleoncommunitycalendar.com/wp-content/uploads/2026/01/16-arena-feb-.jpg
END:VEVENT
BEGIN:VEVENT
DTSTART;VALUE=DATE:20260304
DTEND;VALUE=DATE:20260305
DTSTAMP:20260423T045749
CREATED:20260306T032942Z
LAST-MODIFIED:20260306T032942Z
UID:10002659-1772582400-1772668799@deleoncommunitycalendar.com
SUMMARY:Clover Cans Barrel Jackpot
DESCRIPTION:Barrel jackpot every Wednesday in March.
URL:https://deleoncommunitycalendar.com/event/clover-cans-barrel-jackpot/2026-03-04/
LOCATION:16 North Arena\, 4740 State Highway 16\, De Leon\, TX\, 76444\, United States
ATTACH;FMTTYPE=image/jpeg:https://deleoncommunitycalendar.com/wp-content/uploads/2026/03/16-north-March.jpg
END:VEVENT
BEGIN:VEVENT
DTSTART;VALUE=DATE:20260307
DTEND;VALUE=DATE:20260309
DTSTAMP:20260423T045749
CREATED:20260306T033239Z
LAST-MODIFIED:20260306T033239Z
UID:10002716-1772841600-1773014399@deleoncommunitycalendar.com
SUMMARY:Prime Team Roping
DESCRIPTION:This weekend\, everybody!! Come out and rope! It’s going to be a good time!!
URL:https://deleoncommunitycalendar.com/event/prime-team-roping/
LOCATION:16 North Arena\, 4740 State Highway 16\, De Leon\, TX\, 76444\, United States
ATTACH;FMTTYPE=image/jpeg:https://deleoncommunitycalendar.com/wp-content/uploads/2026/03/16-north-roping.jpg
END:VEVENT
BEGIN:VEVENT
DTSTART;TZID=America/Chicago:20260307T070000
DTEND;TZID=America/Chicago:20260307T090000
DTSTAMP:20260423T045749
CREATED:20260306T033627Z
LAST-MODIFIED:20260403T030800Z
UID:10002717-1772866800-1772874000@deleoncommunitycalendar.com
SUMMARY:All You Can Eat Breakfast
DESCRIPTION:Desdemona Activity Center –\nAll-You-Can-Breakfast Buffet\n🐰🐰🐰🐰🐰🐰🐰🐰🐰🐰🐰🐰🐰🐰\nThe Desdemona Activity Center is throwing a breakfast bash and you’re invited. All-You-Can-Eat Breakfast Buffet on Saturday\, April 4\, from 7:00 a.m. to 9:00 a.m. Everyone’s welcome to gather ’round\, chow down\, and make some new buddies\, all in the name of building a stronger\, more compassionate community\, because who doesn’t love a good breakfast? Hop On Down And Join Us!
URL:https://deleoncommunitycalendar.com/event/all-you-can-eat-breakfast/
LOCATION:Desdemona Activity Center\, 6035 FM-8\, Desdemona\, TX\, 76445\, United States
ATTACH;FMTTYPE=image/jpeg:https://deleoncommunitycalendar.com/wp-content/uploads/2025/12/Desdemona-Breakfast.jpg
END:VEVENT
BEGIN:VEVENT
DTSTART;TZID=America/Chicago:20260307T100000
DTEND;TZID=America/Chicago:20260307T150000
DTSTAMP:20260423T045749
CREATED:20260227T024055Z
LAST-MODIFIED:20260227T024055Z
UID:10002657-1772877600-1772895600@deleoncommunitycalendar.com
SUMMARY:Cattlemen’s Corner Store Grand Opening!
DESCRIPTION:Come out to the store for our grand opening and full menu! Hours: 10:00 AM – 3:00 PM
URL:https://deleoncommunitycalendar.com/event/cattlemens-corner-store-grand-opening/
LOCATION:Cattleman’s Corner Store\, 100 South Texas Street\, De Leon\, Texas\, 76444
ATTACH;FMTTYPE=image/png:https://deleoncommunitycalendar.com/wp-content/uploads/2026/02/B3BFEC6F-DA8C-4DD5-B7A4-73851897693A-1.png
END:VEVENT
BEGIN:VEVENT
DTSTART;TZID=America/Chicago:20260307T103000
DTEND;TZID=America/Chicago:20260307T113000
DTSTAMP:20260423T045749
CREATED:20250911T114256Z
LAST-MODIFIED:20250911T114256Z
UID:10000276-1772879400-1772883000@deleoncommunitycalendar.com
SUMMARY:"Any Book Club" at De Leon Library
DESCRIPTION:Bring your new favorite book to the library\, and share what makes it special with fellow book lovers. You can bring any book you like! We encourage everyone to bring a book that they enjoy\, but don’t mind loaning to others. Don’t have your own? Check one out from the library! “Any Book Club” will meet at the De Leon Library on the first Saturday of every month at 10:30 a.m. See you there! \nWhen — First Saturday of Every Month | 10:30 a.m. \nWhere — De Leon City-County Library
URL:https://deleoncommunitycalendar.com/event/any-book-club-at-de-leon-library/2026-03-07/
LOCATION:De Leon Library\, 125 E Reynosa Ave\, De Leon\, TX\, 76444\, United States
END:VEVENT
BEGIN:VEVENT
DTSTART;TZID=America/Chicago:20260307T110000
DTEND;TZID=America/Chicago:20260307T140000
DTSTAMP:20260423T045749
CREATED:20260119T032727Z
LAST-MODIFIED:20260119T032727Z
UID:10001955-1772881200-1772892000@deleoncommunitycalendar.com
SUMMARY:Low Cost Vaccine Clinic
DESCRIPTION:Our 2nd Annual vaccine clinic is officially on the books! We’re in the same location with the same pricing as last year\, but this year will be held March 7th from 11am-2:00pm!\nPlease remember:\ndogs on a leash ✅ cats in a carrier ✅\nWe hope you’ll bring your furry friend by to see us!\n🐱🐶💉🩺❤️🐾
URL:https://deleoncommunitycalendar.com/event/low-cost-vaccine-clinic/
LOCATION:P & M Festival Grounds\, 5401 Highway 6\, De Leon\, TX\, 76444
ATTACH;FMTTYPE=image/jpeg:https://deleoncommunitycalendar.com/wp-content/uploads/2026/01/vaccine-clinic-.jpg
ORGANIZER;CN="City of De Leon Animal Shelter":MAILTO:questions@cityofdeleon.org
END:VEVENT
BEGIN:VEVENT
DTSTART;TZID=America/Chicago:20260307T190000
DTEND;TZID=America/Chicago:20260308T000000
DTSTAMP:20260423T045749
CREATED:20260306T034558Z
LAST-MODIFIED:20260306T034558Z
UID:10002779-1772910000-1772928000@deleoncommunitycalendar.com
SUMMARY:Karaoke and BBQ
DESCRIPTION:March 7th 2026\nKaraoke and BbQ\n7:00 pm see ya there!!
URL:https://deleoncommunitycalendar.com/event/karaoke-and-bbq/
LOCATION:Cisneroz Family Event Center\, 109 East Gonzales\, De Leon\, TX\, 76444
ATTACH;FMTTYPE=image/jpeg:https://deleoncommunitycalendar.com/wp-content/uploads/2026/03/cisneroz-karoke-.jpg
END:VEVENT
BEGIN:VEVENT
DTSTART;VALUE=DATE:20260309
DTEND;VALUE=DATE:20260314
DTSTAMP:20260423T045749
CREATED:20260306T034816Z
LAST-MODIFIED:20260306T034816Z
UID:10002780-1773014400-1773446399@deleoncommunitycalendar.com
SUMMARY:Spring Break
DESCRIPTION:Friendly Reminder:\n🌷 Friday\, March 6th is a Student Holiday.\nThere is no school for students.\n💐 Spring Break is March 9–13!\nAll campuses and district offices will be closed\, and classes will spring back into session on Monday\, March 16.\nWe hope everyone enjoys a fun\, relaxing\, and well-deserved break!
URL:https://deleoncommunitycalendar.com/event/spring-break/
LOCATION:TX
ATTACH;FMTTYPE=image/jpeg:https://deleoncommunitycalendar.com/wp-content/uploads/2026/03/Spring-Break.jpg
END:VEVENT
BEGIN:VEVENT
DTSTART;TZID=America/Chicago:20260310T090000
DTEND;TZID=America/Chicago:20260310T110000
DTSTAMP:20260423T045749
CREATED:20260203T051324Z
LAST-MODIFIED:20260203T051602Z
UID:10001969-1773133200-1773140400@deleoncommunitycalendar.com
SUMMARY:Food Pantry Distribution (morning)
DESCRIPTION:The De Leon Food Pantry is sponsored by the De Leon Ministerial Alliance and Clothes Closet. They distribute boxes of food on the second Tuesday of each month to families who applied for assistance in accordance with the Central Texas Food Bank located in Abilene.
URL:https://deleoncommunitycalendar.com/event/food-pantry-distribution/2026-03-10/
LOCATION:De Leon Food Pantry\, 900 N Texas Street\, De Leon\, Texas\, 76444
ATTACH;FMTTYPE=image/jpeg:https://deleoncommunitycalendar.com/wp-content/uploads/2026/02/IMG_5179-scaled.jpeg
END:VEVENT
BEGIN:VEVENT
DTSTART;TZID=America/Chicago:20260310T093000
DTEND;TZID=America/Chicago:20260310T103000
DTSTAMP:20260423T045749
CREATED:20250911T125620Z
LAST-MODIFIED:20250911T125620Z
UID:10000034-1773135000-1773138600@deleoncommunitycalendar.com
SUMMARY:Story Time at De Leon Library
DESCRIPTION:Story Time: Presented By\nLocal Author Jamie R. Cole \nWatch Jamie Cole bring stories to life with her creativity and enthusiasm! Kids love her energy and always have a fantastic time. Story Time takes place every Tuesday at the De Leon Library during the school year. Each week brings something new to enjoy! Hear a story\, sing a song\, do a craft\, and discover the magic of reading together. \nWhen — Tuesdays | 9:30 a.m. \nWhere — De Leon City-County Library
URL:https://deleoncommunitycalendar.com/event/story-time-at-de-leon-library/2026-03-10/
LOCATION:De Leon City-County Library\, 125 E Reynosa Ave\, De Leon\, TX\, 76444\, United States
ATTACH;FMTTYPE=image/jpeg:https://deleoncommunitycalendar.com/wp-content/uploads/2025/09/IMG_20250902_102114771-scaled.jpg
ORGANIZER;CN="De Leon Library":MAILTO:library@cityofdeleon.org
END:VEVENT
BEGIN:VEVENT
DTSTART;TZID=America/Chicago:20260310T120000
DTEND;TZID=America/Chicago:20260310T220000
DTSTAMP:20260423T045749
CREATED:20260209T022038Z
LAST-MODIFIED:20260209T022038Z
UID:10002273-1773144000-1773180000@deleoncommunitycalendar.com
SUMMARY:4D Pole Bending @ 16 North Arena
DESCRIPTION:Every Tuesday!\nExhibitions 12:00-6:30 pm\nRace start at 7:00 pm\nPre Entries Texas (254) 595-6670
URL:https://deleoncommunitycalendar.com/event/4d-pole-bending-16-north-arena/2026-03-10/
LOCATION:16 North Arena\, 4740 State Highway 16\, De Leon\, TX\, 76444\, United States
ATTACH;FMTTYPE=image/jpeg:https://deleoncommunitycalendar.com/wp-content/uploads/2026/02/16-arena-pole-.jpg
END:VEVENT
BEGIN:VEVENT
DTSTART;TZID=America/Chicago:20260310T130000
DTEND;TZID=America/Chicago:20260310T150000
DTSTAMP:20260423T045749
CREATED:20260108T024457Z
LAST-MODIFIED:20260108T024457Z
UID:10001475-1773147600-1773154800@deleoncommunitycalendar.com
SUMMARY:Mah Jongg Meetup
DESCRIPTION:De Leon Library Mah Jongg Meetup\nAmerican Mah Jongg \nJoin us every Tuesday at 1:00 PM at De Leon Library for our weekly Mah Jongg meetup! \nWe play American Mah Jongg\, and all skill levels are welcome. Whether you’re a seasoned veteran or a total beginner who wants to learn\, come hang out at De Leon Library!  \nNo pressure\, just fun and tiles!\nSee you Tuesday at 1:00 PM at De Leon Library!
URL:https://deleoncommunitycalendar.com/event/mah-jongg-meetup/2026-03-10/
LOCATION:De Leon City-County Library\, 125 E Reynosa Ave\, De Leon\, TX\, 76444\, United States
ATTACH;FMTTYPE=image/png:https://deleoncommunitycalendar.com/wp-content/uploads/2026/01/Mah-Jongg.png
ORGANIZER;CN="De Leon Library":MAILTO:library@cityofdeleon.org
END:VEVENT
BEGIN:VEVENT
DTSTART;TZID=America/Chicago:20260310T170000
DTEND;TZID=America/Chicago:20260310T190000
DTSTAMP:20260423T045749
CREATED:20260203T051457Z
LAST-MODIFIED:20260203T051457Z
UID:10002089-1773162000-1773169200@deleoncommunitycalendar.com
SUMMARY:Food Pantry Distribution (evening)
DESCRIPTION:The De Leon Food Pantry is sponsored by the De Leon Ministerial Alliance and Clothes Closet. They distribute boxes of food on the second Tuesday of each month to families who applied for assistance in accordance with the Central Texas Food Bank located in Abilene.
URL:https://deleoncommunitycalendar.com/event/food-pantry-distribution-evening/2026-03-10/
LOCATION:De Leon Food Pantry\, 900 N Texas Street\, De Leon\, Texas\, 76444
ATTACH;FMTTYPE=image/jpeg:https://deleoncommunitycalendar.com/wp-content/uploads/2026/02/IMG_5179-scaled.jpeg
END:VEVENT
BEGIN:VEVENT
DTSTART;VALUE=DATE:20260311
DTEND;VALUE=DATE:20260312
DTSTAMP:20260423T045749
CREATED:20260119T031953Z
LAST-MODIFIED:20260119T031953Z
UID:10001904-1773187200-1773273599@deleoncommunitycalendar.com
SUMMARY:February Betty Barrel Jackpot
DESCRIPTION:Every Wednesday in February
URL:https://deleoncommunitycalendar.com/event/february-betty-barrel-jackpot/2026-03-11/
LOCATION:16 North Arena\, 4740 State Highway 16\, De Leon\, TX\, 76444\, United States
ATTACH;FMTTYPE=image/jpeg:https://deleoncommunitycalendar.com/wp-content/uploads/2026/01/16-arena-feb-.jpg
END:VEVENT
BEGIN:VEVENT
DTSTART;VALUE=DATE:20260311
DTEND;VALUE=DATE:20260312
DTSTAMP:20260423T045749
CREATED:20260306T032942Z
LAST-MODIFIED:20260306T032942Z
UID:10002660-1773187200-1773273599@deleoncommunitycalendar.com
SUMMARY:Clover Cans Barrel Jackpot
DESCRIPTION:Barrel jackpot every Wednesday in March.
URL:https://deleoncommunitycalendar.com/event/clover-cans-barrel-jackpot/2026-03-11/
LOCATION:16 North Arena\, 4740 State Highway 16\, De Leon\, TX\, 76444\, United States
ATTACH;FMTTYPE=image/jpeg:https://deleoncommunitycalendar.com/wp-content/uploads/2026/03/16-north-March.jpg
END:VEVENT
BEGIN:VEVENT
DTSTART;VALUE=DATE:20260314
DTEND;VALUE=DATE:20260315
DTSTAMP:20260423T045749
CREATED:20260313T014330Z
LAST-MODIFIED:20260313T014330Z
UID:10002783-1773446400-1773532799@deleoncommunitycalendar.com
SUMMARY:Hines Cattle Co Roping
DESCRIPTION:2 saddles\, 4 buckles\, 4 knives Guaranteed!
URL:https://deleoncommunitycalendar.com/event/hines-cattle-co-roping/
LOCATION:16 North Arena\, 4740 State Highway 16\, De Leon\, TX\, 76444\, United States
ATTACH;FMTTYPE=image/jpeg:https://deleoncommunitycalendar.com/wp-content/uploads/2026/03/16-north-hines-rodeo-March.jpg
END:VEVENT
BEGIN:VEVENT
DTSTART;TZID=America/Chicago:20260314T090000
DTEND;TZID=America/Chicago:20260314T140000
DTSTAMP:20260423T045749
CREATED:20260205T045432Z
LAST-MODIFIED:20260205T045432Z
UID:10002209-1773478800-1773496800@deleoncommunitycalendar.com
SUMMARY:Dungeons and Dragons Club
DESCRIPTION:De Leon Library will start hosting a Dungeons and Dragons Table Top Role-Playing Club. This Club will be meeting on the second and fourth Saturdays of the month\, starting on February the 28th. The club will play all day\, from 9 AM – 2 PM\, and all materials will be provided for players. These games will be open to players of all experience levels. Whether you’re a level 1 human fighter or a level 20 changeling druid\, come join the fun and let your imagination take you on a grand adventure!
URL:https://deleoncommunitycalendar.com/event/dungeons-and-dragons-club-2/2026-03-14/
LOCATION:De Leon City-County Library\, 125 E Reynosa Ave\, De Leon\, TX\, 76444\, United States
ATTACH;FMTTYPE=image/png:https://deleoncommunitycalendar.com/wp-content/uploads/2026/02/DD-Campaign-1.png
ORGANIZER;CN="De Leon Library":MAILTO:library@cityofdeleon.org
END:VEVENT
BEGIN:VEVENT
DTSTART;TZID=America/Chicago:20260314T140000
DTEND;TZID=America/Chicago:20260314T160000
DTSTAMP:20260423T045749
CREATED:20260306T032127Z
LAST-MODIFIED:20260306T032127Z
UID:10002658-1773496800-1773504000@deleoncommunitycalendar.com
SUMMARY:Sixteen Decades of Comanche County - Book Signing
DESCRIPTION:Alfred Evans   with his  book\, Sixteen Decades of Comanche County\, will be at the De Leon Area Historical Museum .  The book signing is sponsored by the Comanche County Historical Commission.
URL:https://deleoncommunitycalendar.com/event/sixteen-decades-of-comanche-county-book-signing/
LOCATION:De Leon Area Historical Museum\, 173 North Texas Street\, De Leon\, TX\, 76444\, United States
ATTACH;FMTTYPE=image/jpeg:https://deleoncommunitycalendar.com/wp-content/uploads/2026/03/Alfreds-book.jpg
END:VEVENT
BEGIN:VEVENT
DTSTART;TZID=America/Chicago:20260317T093000
DTEND;TZID=America/Chicago:20260317T103000
DTSTAMP:20260423T045749
CREATED:20250911T125620Z
LAST-MODIFIED:20250911T125620Z
UID:10000035-1773739800-1773743400@deleoncommunitycalendar.com
SUMMARY:Story Time at De Leon Library
DESCRIPTION:Story Time: Presented By\nLocal Author Jamie R. Cole \nWatch Jamie Cole bring stories to life with her creativity and enthusiasm! Kids love her energy and always have a fantastic time. Story Time takes place every Tuesday at the De Leon Library during the school year. Each week brings something new to enjoy! Hear a story\, sing a song\, do a craft\, and discover the magic of reading together. \nWhen — Tuesdays | 9:30 a.m. \nWhere — De Leon City-County Library
URL:https://deleoncommunitycalendar.com/event/story-time-at-de-leon-library/2026-03-17/
LOCATION:De Leon City-County Library\, 125 E Reynosa Ave\, De Leon\, TX\, 76444\, United States
ATTACH;FMTTYPE=image/jpeg:https://deleoncommunitycalendar.com/wp-content/uploads/2025/09/IMG_20250902_102114771-scaled.jpg
ORGANIZER;CN="De Leon Library":MAILTO:library@cityofdeleon.org
END:VEVENT
BEGIN:VEVENT
DTSTART;TZID=America/Chicago:20260317T120000
DTEND;TZID=America/Chicago:20260317T220000
DTSTAMP:20260423T045749
CREATED:20260209T022038Z
LAST-MODIFIED:20260209T022038Z
UID:10002274-1773748800-1773784800@deleoncommunitycalendar.com
SUMMARY:4D Pole Bending @ 16 North Arena
DESCRIPTION:Every Tuesday!\nExhibitions 12:00-6:30 pm\nRace start at 7:00 pm\nPre Entries Texas (254) 595-6670
URL:https://deleoncommunitycalendar.com/event/4d-pole-bending-16-north-arena/2026-03-17/
LOCATION:16 North Arena\, 4740 State Highway 16\, De Leon\, TX\, 76444\, United States
ATTACH;FMTTYPE=image/jpeg:https://deleoncommunitycalendar.com/wp-content/uploads/2026/02/16-arena-pole-.jpg
END:VEVENT
BEGIN:VEVENT
DTSTART;TZID=America/Chicago:20260317T130000
DTEND;TZID=America/Chicago:20260317T150000
DTSTAMP:20260423T045749
CREATED:20260108T024457Z
LAST-MODIFIED:20260108T024457Z
UID:10001476-1773752400-1773759600@deleoncommunitycalendar.com
SUMMARY:Mah Jongg Meetup
DESCRIPTION:De Leon Library Mah Jongg Meetup\nAmerican Mah Jongg \nJoin us every Tuesday at 1:00 PM at De Leon Library for our weekly Mah Jongg meetup! \nWe play American Mah Jongg\, and all skill levels are welcome. Whether you’re a seasoned veteran or a total beginner who wants to learn\, come hang out at De Leon Library!  \nNo pressure\, just fun and tiles!\nSee you Tuesday at 1:00 PM at De Leon Library!
URL:https://deleoncommunitycalendar.com/event/mah-jongg-meetup/2026-03-17/
LOCATION:De Leon City-County Library\, 125 E Reynosa Ave\, De Leon\, TX\, 76444\, United States
ATTACH;FMTTYPE=image/png:https://deleoncommunitycalendar.com/wp-content/uploads/2026/01/Mah-Jongg.png
ORGANIZER;CN="De Leon Library":MAILTO:library@cityofdeleon.org
END:VEVENT
BEGIN:VEVENT
DTSTART;VALUE=DATE:20260318
DTEND;VALUE=DATE:20260319
DTSTAMP:20260423T045749
CREATED:20260119T031953Z
LAST-MODIFIED:20260119T031953Z
UID:10001905-1773792000-1773878399@deleoncommunitycalendar.com
SUMMARY:February Betty Barrel Jackpot
DESCRIPTION:Every Wednesday in February
URL:https://deleoncommunitycalendar.com/event/february-betty-barrel-jackpot/2026-03-18/
LOCATION:16 North Arena\, 4740 State Highway 16\, De Leon\, TX\, 76444\, United States
ATTACH;FMTTYPE=image/jpeg:https://deleoncommunitycalendar.com/wp-content/uploads/2026/01/16-arena-feb-.jpg
END:VEVENT
BEGIN:VEVENT
DTSTART;VALUE=DATE:20260318
DTEND;VALUE=DATE:20260319
DTSTAMP:20260423T045749
CREATED:20260306T032942Z
LAST-MODIFIED:20260306T032942Z
UID:10002661-1773792000-1773878399@deleoncommunitycalendar.com
SUMMARY:Clover Cans Barrel Jackpot
DESCRIPTION:Barrel jackpot every Wednesday in March.
URL:https://deleoncommunitycalendar.com/event/clover-cans-barrel-jackpot/2026-03-18/
LOCATION:16 North Arena\, 4740 State Highway 16\, De Leon\, TX\, 76444\, United States
ATTACH;FMTTYPE=image/jpeg:https://deleoncommunitycalendar.com/wp-content/uploads/2026/03/16-north-March.jpg
END:VEVENT
BEGIN:VEVENT
DTSTART;TZID=America/Chicago:20260319T163000
DTEND;TZID=America/Chicago:20260319T173000
DTSTAMP:20260423T045749
CREATED:20251205T031149Z
LAST-MODIFIED:20251205T031149Z
UID:10001396-1773937800-1773941400@deleoncommunitycalendar.com
SUMMARY:Pokémon Club
DESCRIPTION:Pokémon Club! \nCalling all Pokémon Trainers! \nJoin us at the De Leon Library every third Thursday of the month for Pokémon Club! Trade cards\, duel with friends\, watch episodes\, participate in Pokémon themed crafts\, and much more! \nWant to meet others who love Pokémon just as much as you! Come to De Leon Library’s Pokémon Club this month on Thursday\, December 18th at 4:30 p.m. \nJoin the club and spread the word!  \nWhen — Every Third Thursday | 4:30 p.m. \nWhere — De Leon City-County Library
URL:https://deleoncommunitycalendar.com/event/pokemon-club/2026-03-19/
LOCATION:De Leon City-County Library\, 125 E Reynosa Ave\, De Leon\, TX\, 76444\, United States
ATTACH;FMTTYPE=image/png:https://deleoncommunitycalendar.com/wp-content/uploads/2025/12/DLL-Pokemon-Club.png
ORGANIZER;CN="De Leon Library":MAILTO:library@cityofdeleon.org
END:VEVENT
BEGIN:VEVENT
DTSTART;TZID=America/Chicago:20260320T103000
DTEND;TZID=America/Chicago:20260320T120000
DTSTAMP:20260423T045749
CREATED:20260313T014912Z
LAST-MODIFIED:20260313T014912Z
UID:10002785-1774002600-1774008000@deleoncommunitycalendar.com
SUMMARY:Rush Creek Band
DESCRIPTION:Come out and enjoy the music of the Rush Creek Band.
URL:https://deleoncommunitycalendar.com/event/rush-creek-band/
LOCATION:De Leon Senior Citizens Center\, 133 N Ballpark Loop\, De Leon\, TX\, 76444\, United States
ATTACH;FMTTYPE=image/jpeg:https://deleoncommunitycalendar.com/wp-content/uploads/2026/02/Sr-Citizens.jpg
END:VEVENT
BEGIN:VEVENT
DTSTART;TZID=America/Chicago:20260321T140000
DTEND;TZID=America/Chicago:20260321T160000
DTSTAMP:20260423T045749
CREATED:20260321T124116Z
LAST-MODIFIED:20260321T124116Z
UID:10002789-1774101600-1774108800@deleoncommunitycalendar.com
SUMMARY:Bingo With Scouts
DESCRIPTION:Our scouts are excited to spend time giving back in a meaningful way as they head to the local nursing home for a fun afternoon of bingo! \nThis visit is more than just a game\, it’s about building connections\, sharing smiles\, and brightening the day of the residents who have so many stories and wisdom to share. \nMoments like these teach our scouts the value of kindness\, respect\, and service to others\, lessons that last far beyond today.
URL:https://deleoncommunitycalendar.com/event/bingo-with-scouts/
LOCATION:De Leon Nursing and Rehab
ATTACH;FMTTYPE=image/jpeg:https://deleoncommunitycalendar.com/wp-content/uploads/2026/03/IMG_2498-scaled.jpeg
END:VEVENT
BEGIN:VEVENT
DTSTART;TZID=America/Chicago:20260321T170000
DTEND;TZID=America/Chicago:20260321T190000
DTSTAMP:20260423T045749
CREATED:20260320T114214Z
LAST-MODIFIED:20260320T114214Z
UID:10002788-1774112400-1774119600@deleoncommunitycalendar.com
SUMMARY:Fish Fry @ DAC
DESCRIPTION:Join us for our fish fry at the Desdemona Activity Center from 5:00-7:00. Fish\, chicken tenders\, beans\, French fries\, potato salad\, hush puppies and lots of homemade desserts. Cost is by donation.
URL:https://deleoncommunitycalendar.com/event/fish-fry-dac/
LOCATION:Desdemona Activity Center\, 6035 FM-8\, Desdemona\, TX\, 76445\, United States
ATTACH;FMTTYPE=image/jpeg:https://deleoncommunitycalendar.com/wp-content/uploads/2026/03/DAC-Fish-Fry-321.jpg
END:VEVENT
BEGIN:VEVENT
DTSTART;TZID=America/Chicago:20260321T190000
DTEND;TZID=America/Chicago:20260321T230000
DTSTAMP:20260423T045749
CREATED:20260313T014610Z
LAST-MODIFIED:20260313T014610Z
UID:10002784-1774119600-1774134000@deleoncommunitycalendar.com
SUMMARY:Karaoke Night
DESCRIPTION:Mark Your Calendar for March 21st for our next Karaoke Night!!  The food menu is still TBD will post as soon as we decide what’s on the menu.  Thanks to everyone who came by!!  We really do appreciate it and enjoyed visiting with everyone!!!
URL:https://deleoncommunitycalendar.com/event/karaoke-night/
LOCATION:Cisneroz Family Event Center\, 109 East Gonzales\, De Leon\, TX\, 76444
ATTACH;FMTTYPE=image/jpeg:https://deleoncommunitycalendar.com/wp-content/uploads/2026/03/cisneroz-karoke-.jpg
END:VEVENT
BEGIN:VEVENT
DTSTART;TZID=America/Chicago:20260323T180000
DTEND;TZID=America/Chicago:20260323T190000
DTSTAMP:20260423T045749
CREATED:20251026T041251Z
LAST-MODIFIED:20260222T185520Z
UID:10002594-1774288800-1774292400@deleoncommunitycalendar.com
SUMMARY:Developing De Leon Today Meeting
DESCRIPTION:Developing De Leon Today Corporation meets on the fourth Monday of each month at 6:00 PM in the De Leon Historical Museum to discuss ways to promote De Leon. The public is encouraged to attend.
URL:https://deleoncommunitycalendar.com/event/developing-de-leon-today-meeting/2026-03-23/
LOCATION:De Leon Area Historical Museum\, 173 North Texas Street\, De Leon\, TX\, 76444\, United States
ATTACH;FMTTYPE=image/png:https://deleoncommunitycalendar.com/wp-content/uploads/2025/10/DDT-Logo-Bobby-cropped.png
END:VEVENT
END:VCALENDAR