BEGIN:VCALENDAR
VERSION:2.0
PRODID:-//De Leon Community Calendar - ECPv6.15.20//NONSGML v1.0//EN
CALSCALE:GREGORIAN
METHOD:PUBLISH
X-ORIGINAL-URL:https://deleoncommunitycalendar.com
X-WR-CALDESC:Events for De Leon Community Calendar
REFRESH-INTERVAL;VALUE=DURATION:PT1H
X-Robots-Tag:noindex
X-PUBLISHED-TTL:PT1H
BEGIN:VTIMEZONE
TZID:America/Chicago
BEGIN:DAYLIGHT
TZOFFSETFROM:-0600
TZOFFSETTO:-0500
TZNAME:CDT
DTSTART:20250309T080000
END:DAYLIGHT
BEGIN:STANDARD
TZOFFSETFROM:-0500
TZOFFSETTO:-0600
TZNAME:CST
DTSTART:20251102T070000
END:STANDARD
BEGIN:DAYLIGHT
TZOFFSETFROM:-0600
TZOFFSETTO:-0500
TZNAME:CDT
DTSTART:20260308T080000
END:DAYLIGHT
BEGIN:STANDARD
TZOFFSETFROM:-0500
TZOFFSETTO:-0600
TZNAME:CST
DTSTART:20261101T070000
END:STANDARD
BEGIN:DAYLIGHT
TZOFFSETFROM:-0600
TZOFFSETTO:-0500
TZNAME:CDT
DTSTART:20270314T080000
END:DAYLIGHT
BEGIN:STANDARD
TZOFFSETFROM:-0500
TZOFFSETTO:-0600
TZNAME:CST
DTSTART:20271107T070000
END:STANDARD
END:VTIMEZONE
BEGIN:VEVENT
DTSTART;TZID=America/Chicago:20260501T080000
DTEND;TZID=America/Chicago:20260501T113000
DTSTAMP:20260423T045750
CREATED:20260203T022726Z
LAST-MODIFIED:20260203T023137Z
UID:10001958-1777622400-1777635000@deleoncommunitycalendar.com
SUMMARY:Garden Tours
DESCRIPTION:Every Friday and Saturday morning in May. Self guided tours with refreshments on Saturday. Grab a map from the bar and saunter around\, take in the gardens. Look for markers identifying plants and statues.  Family friendly. More info follow Facebook Higgledy Piggledy Cottage. Please remember it is every Friday and Saturday in the month of May!
URL:https://deleoncommunitycalendar.com/event/garden-tours/2026-05-01/
LOCATION:Higgledy Piggledy Cottage\, 232 Sipe Springs Road\, De Leon\, TX\, 76444\, United States
ATTACH;FMTTYPE=image/jpeg:https://deleoncommunitycalendar.com/wp-content/uploads/2026/02/Green-Orange-Floral-Community-Garden-Club-Flyer.jpeg
END:VEVENT
BEGIN:VEVENT
DTSTART;TZID=America/Chicago:20260502T080000
DTEND;TZID=America/Chicago:20260502T113000
DTSTAMP:20260423T045750
CREATED:20260203T022726Z
LAST-MODIFIED:20260203T023137Z
UID:10001959-1777708800-1777721400@deleoncommunitycalendar.com
SUMMARY:Garden Tours
DESCRIPTION:Every Friday and Saturday morning in May. Self guided tours with refreshments on Saturday. Grab a map from the bar and saunter around\, take in the gardens. Look for markers identifying plants and statues.  Family friendly. More info follow Facebook Higgledy Piggledy Cottage. Please remember it is every Friday and Saturday in the month of May!
URL:https://deleoncommunitycalendar.com/event/garden-tours/2026-05-02/
LOCATION:Higgledy Piggledy Cottage\, 232 Sipe Springs Road\, De Leon\, TX\, 76444\, United States
ATTACH;FMTTYPE=image/jpeg:https://deleoncommunitycalendar.com/wp-content/uploads/2026/02/Green-Orange-Floral-Community-Garden-Club-Flyer.jpeg
END:VEVENT
BEGIN:VEVENT
DTSTART;TZID=America/Chicago:20260502T103000
DTEND;TZID=America/Chicago:20260502T113000
DTSTAMP:20260423T045750
CREATED:20250911T114256Z
LAST-MODIFIED:20250911T114256Z
UID:10000278-1777717800-1777721400@deleoncommunitycalendar.com
SUMMARY:"Any Book Club" at De Leon Library
DESCRIPTION:Bring your new favorite book to the library\, and share what makes it special with fellow book lovers. You can bring any book you like! We encourage everyone to bring a book that they enjoy\, but don’t mind loaning to others. Don’t have your own? Check one out from the library! “Any Book Club” will meet at the De Leon Library on the first Saturday of every month at 10:30 a.m. See you there! \nWhen — First Saturday of Every Month | 10:30 a.m. \nWhere — De Leon City-County Library
URL:https://deleoncommunitycalendar.com/event/any-book-club-at-de-leon-library/2026-05-02/
LOCATION:De Leon Library\, 125 E Reynosa Ave\, De Leon\, TX\, 76444\, United States
END:VEVENT
BEGIN:VEVENT
DTSTART;TZID=America/Chicago:20260503T103000
DTEND;TZID=America/Chicago:20260503T150000
DTSTAMP:20260423T045751
CREATED:20260415T032837Z
LAST-MODIFIED:20260415T032837Z
UID:10002805-1777804200-1777820400@deleoncommunitycalendar.com
SUMMARY:Rock Bluff Baptist Church All-Day Singing
DESCRIPTION:Congregational singing and specials 10:30 a.m. – 3:00 p.m. with 12:30 – 1:30 break for potluck dinner on the ground.
URL:https://deleoncommunitycalendar.com/event/rock-bluff-baptist-church-all-day-singing/2026-05-03/
LOCATION:Rock Bluff Baptist Church\, 1650 Co Rd 461\, De Leon\, TX\, 76444\, United States
END:VEVENT
BEGIN:VEVENT
DTSTART;TZID=America/Chicago:20260505T093000
DTEND;TZID=America/Chicago:20260505T103000
DTSTAMP:20260423T045751
CREATED:20250911T125620Z
LAST-MODIFIED:20250911T125620Z
UID:10000042-1777973400-1777977000@deleoncommunitycalendar.com
SUMMARY:Story Time at De Leon Library
DESCRIPTION:Story Time: Presented By\nLocal Author Jamie R. Cole \nWatch Jamie Cole bring stories to life with her creativity and enthusiasm! Kids love her energy and always have a fantastic time. Story Time takes place every Tuesday at the De Leon Library during the school year. Each week brings something new to enjoy! Hear a story\, sing a song\, do a craft\, and discover the magic of reading together. \nWhen — Tuesdays | 9:30 a.m. \nWhere — De Leon City-County Library
URL:https://deleoncommunitycalendar.com/event/story-time-at-de-leon-library/2026-05-05/
LOCATION:De Leon City-County Library\, 125 E Reynosa Ave\, De Leon\, TX\, 76444\, United States
ATTACH;FMTTYPE=image/jpeg:https://deleoncommunitycalendar.com/wp-content/uploads/2025/09/IMG_20250902_102114771-scaled.jpg
ORGANIZER;CN="De Leon Library":MAILTO:library@cityofdeleon.org
END:VEVENT
BEGIN:VEVENT
DTSTART;TZID=America/Chicago:20260505T120000
DTEND;TZID=America/Chicago:20260505T220000
DTSTAMP:20260423T045751
CREATED:20260209T022038Z
LAST-MODIFIED:20260209T022038Z
UID:10002281-1777982400-1778018400@deleoncommunitycalendar.com
SUMMARY:4D Pole Bending @ 16 North Arena
DESCRIPTION:Every Tuesday!\nExhibitions 12:00-6:30 pm\nRace start at 7:00 pm\nPre Entries Texas (254) 595-6670
URL:https://deleoncommunitycalendar.com/event/4d-pole-bending-16-north-arena/2026-05-05/
LOCATION:16 North Arena\, 4740 State Highway 16\, De Leon\, TX\, 76444\, United States
ATTACH;FMTTYPE=image/jpeg:https://deleoncommunitycalendar.com/wp-content/uploads/2026/02/16-arena-pole-.jpg
END:VEVENT
BEGIN:VEVENT
DTSTART;TZID=America/Chicago:20260505T130000
DTEND;TZID=America/Chicago:20260505T150000
DTSTAMP:20260423T045751
CREATED:20260108T024457Z
LAST-MODIFIED:20260108T024457Z
UID:10001483-1777986000-1777993200@deleoncommunitycalendar.com
SUMMARY:Mah Jongg Meetup
DESCRIPTION:De Leon Library Mah Jongg Meetup\nAmerican Mah Jongg \nJoin us every Tuesday at 1:00 PM at De Leon Library for our weekly Mah Jongg meetup! \nWe play American Mah Jongg\, and all skill levels are welcome. Whether you’re a seasoned veteran or a total beginner who wants to learn\, come hang out at De Leon Library!  \nNo pressure\, just fun and tiles!\nSee you Tuesday at 1:00 PM at De Leon Library!
URL:https://deleoncommunitycalendar.com/event/mah-jongg-meetup/2026-05-05/
LOCATION:De Leon City-County Library\, 125 E Reynosa Ave\, De Leon\, TX\, 76444\, United States
ATTACH;FMTTYPE=image/png:https://deleoncommunitycalendar.com/wp-content/uploads/2026/01/Mah-Jongg.png
ORGANIZER;CN="De Leon Library":MAILTO:library@cityofdeleon.org
END:VEVENT
BEGIN:VEVENT
DTSTART;VALUE=DATE:20260506
DTEND;VALUE=DATE:20260507
DTSTAMP:20260423T045751
CREATED:20260119T031953Z
LAST-MODIFIED:20260119T031953Z
UID:10001912-1778025600-1778111999@deleoncommunitycalendar.com
SUMMARY:February Betty Barrel Jackpot
DESCRIPTION:Every Wednesday in February
URL:https://deleoncommunitycalendar.com/event/february-betty-barrel-jackpot/2026-05-06/
LOCATION:16 North Arena\, 4740 State Highway 16\, De Leon\, TX\, 76444\, United States
ATTACH;FMTTYPE=image/jpeg:https://deleoncommunitycalendar.com/wp-content/uploads/2026/01/16-arena-feb-.jpg
END:VEVENT
BEGIN:VEVENT
DTSTART;VALUE=DATE:20260506
DTEND;VALUE=DATE:20260507
DTSTAMP:20260423T045751
CREATED:20260306T032942Z
LAST-MODIFIED:20260306T032942Z
UID:10002668-1778025600-1778111999@deleoncommunitycalendar.com
SUMMARY:Clover Cans Barrel Jackpot
DESCRIPTION:Barrel jackpot every Wednesday in March.
URL:https://deleoncommunitycalendar.com/event/clover-cans-barrel-jackpot/2026-05-06/
LOCATION:16 North Arena\, 4740 State Highway 16\, De Leon\, TX\, 76444\, United States
ATTACH;FMTTYPE=image/jpeg:https://deleoncommunitycalendar.com/wp-content/uploads/2026/03/16-north-March.jpg
END:VEVENT
BEGIN:VEVENT
DTSTART;TZID=America/Chicago:20260508T080000
DTEND;TZID=America/Chicago:20260508T113000
DTSTAMP:20260423T045751
CREATED:20260203T022726Z
LAST-MODIFIED:20260203T023137Z
UID:10001960-1778227200-1778239800@deleoncommunitycalendar.com
SUMMARY:Garden Tours
DESCRIPTION:Every Friday and Saturday morning in May. Self guided tours with refreshments on Saturday. Grab a map from the bar and saunter around\, take in the gardens. Look for markers identifying plants and statues.  Family friendly. More info follow Facebook Higgledy Piggledy Cottage. Please remember it is every Friday and Saturday in the month of May!
URL:https://deleoncommunitycalendar.com/event/garden-tours/2026-05-08/
LOCATION:Higgledy Piggledy Cottage\, 232 Sipe Springs Road\, De Leon\, TX\, 76444\, United States
ATTACH;FMTTYPE=image/jpeg:https://deleoncommunitycalendar.com/wp-content/uploads/2026/02/Green-Orange-Floral-Community-Garden-Club-Flyer.jpeg
END:VEVENT
BEGIN:VEVENT
DTSTART;TZID=America/Chicago:20260509T080000
DTEND;TZID=America/Chicago:20260509T113000
DTSTAMP:20260423T045751
CREATED:20260203T022726Z
LAST-MODIFIED:20260203T023137Z
UID:10001961-1778313600-1778326200@deleoncommunitycalendar.com
SUMMARY:Garden Tours
DESCRIPTION:Every Friday and Saturday morning in May. Self guided tours with refreshments on Saturday. Grab a map from the bar and saunter around\, take in the gardens. Look for markers identifying plants and statues.  Family friendly. More info follow Facebook Higgledy Piggledy Cottage. Please remember it is every Friday and Saturday in the month of May!
URL:https://deleoncommunitycalendar.com/event/garden-tours/2026-05-09/
LOCATION:Higgledy Piggledy Cottage\, 232 Sipe Springs Road\, De Leon\, TX\, 76444\, United States
ATTACH;FMTTYPE=image/jpeg:https://deleoncommunitycalendar.com/wp-content/uploads/2026/02/Green-Orange-Floral-Community-Garden-Club-Flyer.jpeg
END:VEVENT
BEGIN:VEVENT
DTSTART;TZID=America/Chicago:20260509T090000
DTEND;TZID=America/Chicago:20260509T140000
DTSTAMP:20260423T045751
CREATED:20260205T045432Z
LAST-MODIFIED:20260205T045432Z
UID:10002211-1778317200-1778335200@deleoncommunitycalendar.com
SUMMARY:Dungeons and Dragons Club
DESCRIPTION:De Leon Library will start hosting a Dungeons and Dragons Table Top Role-Playing Club. This Club will be meeting on the second and fourth Saturdays of the month\, starting on February the 28th. The club will play all day\, from 9 AM – 2 PM\, and all materials will be provided for players. These games will be open to players of all experience levels. Whether you’re a level 1 human fighter or a level 20 changeling druid\, come join the fun and let your imagination take you on a grand adventure!
URL:https://deleoncommunitycalendar.com/event/dungeons-and-dragons-club-2/2026-05-09/
LOCATION:De Leon City-County Library\, 125 E Reynosa Ave\, De Leon\, TX\, 76444\, United States
ATTACH;FMTTYPE=image/png:https://deleoncommunitycalendar.com/wp-content/uploads/2026/02/DD-Campaign-1.png
ORGANIZER;CN="De Leon Library":MAILTO:library@cityofdeleon.org
END:VEVENT
BEGIN:VEVENT
DTSTART;TZID=America/Chicago:20260512T090000
DTEND;TZID=America/Chicago:20260512T110000
DTSTAMP:20260423T045751
CREATED:20260203T051324Z
LAST-MODIFIED:20260203T051602Z
UID:10001971-1778576400-1778583600@deleoncommunitycalendar.com
SUMMARY:Food Pantry Distribution (morning)
DESCRIPTION:The De Leon Food Pantry is sponsored by the De Leon Ministerial Alliance and Clothes Closet. They distribute boxes of food on the second Tuesday of each month to families who applied for assistance in accordance with the Central Texas Food Bank located in Abilene.
URL:https://deleoncommunitycalendar.com/event/food-pantry-distribution/2026-05-12/
LOCATION:De Leon Food Pantry\, 900 N Texas Street\, De Leon\, Texas\, 76444
ATTACH;FMTTYPE=image/jpeg:https://deleoncommunitycalendar.com/wp-content/uploads/2026/02/IMG_5179-scaled.jpeg
END:VEVENT
BEGIN:VEVENT
DTSTART;TZID=America/Chicago:20260512T093000
DTEND;TZID=America/Chicago:20260512T103000
DTSTAMP:20260423T045751
CREATED:20250911T125620Z
LAST-MODIFIED:20250911T125620Z
UID:10000043-1778578200-1778581800@deleoncommunitycalendar.com
SUMMARY:Story Time at De Leon Library
DESCRIPTION:Story Time: Presented By\nLocal Author Jamie R. Cole \nWatch Jamie Cole bring stories to life with her creativity and enthusiasm! Kids love her energy and always have a fantastic time. Story Time takes place every Tuesday at the De Leon Library during the school year. Each week brings something new to enjoy! Hear a story\, sing a song\, do a craft\, and discover the magic of reading together. \nWhen — Tuesdays | 9:30 a.m. \nWhere — De Leon City-County Library
URL:https://deleoncommunitycalendar.com/event/story-time-at-de-leon-library/2026-05-12/
LOCATION:De Leon City-County Library\, 125 E Reynosa Ave\, De Leon\, TX\, 76444\, United States
ATTACH;FMTTYPE=image/jpeg:https://deleoncommunitycalendar.com/wp-content/uploads/2025/09/IMG_20250902_102114771-scaled.jpg
ORGANIZER;CN="De Leon Library":MAILTO:library@cityofdeleon.org
END:VEVENT
BEGIN:VEVENT
DTSTART;TZID=America/Chicago:20260512T120000
DTEND;TZID=America/Chicago:20260512T220000
DTSTAMP:20260423T045751
CREATED:20260209T022038Z
LAST-MODIFIED:20260209T022038Z
UID:10002282-1778587200-1778623200@deleoncommunitycalendar.com
SUMMARY:4D Pole Bending @ 16 North Arena
DESCRIPTION:Every Tuesday!\nExhibitions 12:00-6:30 pm\nRace start at 7:00 pm\nPre Entries Texas (254) 595-6670
URL:https://deleoncommunitycalendar.com/event/4d-pole-bending-16-north-arena/2026-05-12/
LOCATION:16 North Arena\, 4740 State Highway 16\, De Leon\, TX\, 76444\, United States
ATTACH;FMTTYPE=image/jpeg:https://deleoncommunitycalendar.com/wp-content/uploads/2026/02/16-arena-pole-.jpg
END:VEVENT
BEGIN:VEVENT
DTSTART;TZID=America/Chicago:20260512T130000
DTEND;TZID=America/Chicago:20260512T150000
DTSTAMP:20260423T045751
CREATED:20260108T024457Z
LAST-MODIFIED:20260108T024457Z
UID:10001484-1778590800-1778598000@deleoncommunitycalendar.com
SUMMARY:Mah Jongg Meetup
DESCRIPTION:De Leon Library Mah Jongg Meetup\nAmerican Mah Jongg \nJoin us every Tuesday at 1:00 PM at De Leon Library for our weekly Mah Jongg meetup! \nWe play American Mah Jongg\, and all skill levels are welcome. Whether you’re a seasoned veteran or a total beginner who wants to learn\, come hang out at De Leon Library!  \nNo pressure\, just fun and tiles!\nSee you Tuesday at 1:00 PM at De Leon Library!
URL:https://deleoncommunitycalendar.com/event/mah-jongg-meetup/2026-05-12/
LOCATION:De Leon City-County Library\, 125 E Reynosa Ave\, De Leon\, TX\, 76444\, United States
ATTACH;FMTTYPE=image/png:https://deleoncommunitycalendar.com/wp-content/uploads/2026/01/Mah-Jongg.png
ORGANIZER;CN="De Leon Library":MAILTO:library@cityofdeleon.org
END:VEVENT
BEGIN:VEVENT
DTSTART;TZID=America/Chicago:20260512T170000
DTEND;TZID=America/Chicago:20260512T190000
DTSTAMP:20260423T045751
CREATED:20260203T051457Z
LAST-MODIFIED:20260203T051457Z
UID:10002091-1778605200-1778612400@deleoncommunitycalendar.com
SUMMARY:Food Pantry Distribution (evening)
DESCRIPTION:The De Leon Food Pantry is sponsored by the De Leon Ministerial Alliance and Clothes Closet. They distribute boxes of food on the second Tuesday of each month to families who applied for assistance in accordance with the Central Texas Food Bank located in Abilene.
URL:https://deleoncommunitycalendar.com/event/food-pantry-distribution-evening/2026-05-12/
LOCATION:De Leon Food Pantry\, 900 N Texas Street\, De Leon\, Texas\, 76444
ATTACH;FMTTYPE=image/jpeg:https://deleoncommunitycalendar.com/wp-content/uploads/2026/02/IMG_5179-scaled.jpeg
END:VEVENT
BEGIN:VEVENT
DTSTART;VALUE=DATE:20260513
DTEND;VALUE=DATE:20260514
DTSTAMP:20260423T045751
CREATED:20260119T031953Z
LAST-MODIFIED:20260119T031953Z
UID:10001913-1778630400-1778716799@deleoncommunitycalendar.com
SUMMARY:February Betty Barrel Jackpot
DESCRIPTION:Every Wednesday in February
URL:https://deleoncommunitycalendar.com/event/february-betty-barrel-jackpot/2026-05-13/
LOCATION:16 North Arena\, 4740 State Highway 16\, De Leon\, TX\, 76444\, United States
ATTACH;FMTTYPE=image/jpeg:https://deleoncommunitycalendar.com/wp-content/uploads/2026/01/16-arena-feb-.jpg
END:VEVENT
BEGIN:VEVENT
DTSTART;VALUE=DATE:20260513
DTEND;VALUE=DATE:20260514
DTSTAMP:20260423T045751
CREATED:20260306T032942Z
LAST-MODIFIED:20260306T032942Z
UID:10002669-1778630400-1778716799@deleoncommunitycalendar.com
SUMMARY:Clover Cans Barrel Jackpot
DESCRIPTION:Barrel jackpot every Wednesday in March.
URL:https://deleoncommunitycalendar.com/event/clover-cans-barrel-jackpot/2026-05-13/
LOCATION:16 North Arena\, 4740 State Highway 16\, De Leon\, TX\, 76444\, United States
ATTACH;FMTTYPE=image/jpeg:https://deleoncommunitycalendar.com/wp-content/uploads/2026/03/16-north-March.jpg
END:VEVENT
BEGIN:VEVENT
DTSTART;TZID=America/Chicago:20260515T080000
DTEND;TZID=America/Chicago:20260515T113000
DTSTAMP:20260423T045751
CREATED:20260203T022726Z
LAST-MODIFIED:20260203T023137Z
UID:10001962-1778832000-1778844600@deleoncommunitycalendar.com
SUMMARY:Garden Tours
DESCRIPTION:Every Friday and Saturday morning in May. Self guided tours with refreshments on Saturday. Grab a map from the bar and saunter around\, take in the gardens. Look for markers identifying plants and statues.  Family friendly. More info follow Facebook Higgledy Piggledy Cottage. Please remember it is every Friday and Saturday in the month of May!
URL:https://deleoncommunitycalendar.com/event/garden-tours/2026-05-15/
LOCATION:Higgledy Piggledy Cottage\, 232 Sipe Springs Road\, De Leon\, TX\, 76444\, United States
ATTACH;FMTTYPE=image/jpeg:https://deleoncommunitycalendar.com/wp-content/uploads/2026/02/Green-Orange-Floral-Community-Garden-Club-Flyer.jpeg
END:VEVENT
BEGIN:VEVENT
DTSTART;TZID=America/Chicago:20260516T080000
DTEND;TZID=America/Chicago:20260516T113000
DTSTAMP:20260423T045751
CREATED:20260203T022726Z
LAST-MODIFIED:20260203T023137Z
UID:10001963-1778918400-1778931000@deleoncommunitycalendar.com
SUMMARY:Garden Tours
DESCRIPTION:Every Friday and Saturday morning in May. Self guided tours with refreshments on Saturday. Grab a map from the bar and saunter around\, take in the gardens. Look for markers identifying plants and statues.  Family friendly. More info follow Facebook Higgledy Piggledy Cottage. Please remember it is every Friday and Saturday in the month of May!
URL:https://deleoncommunitycalendar.com/event/garden-tours/2026-05-16/
LOCATION:Higgledy Piggledy Cottage\, 232 Sipe Springs Road\, De Leon\, TX\, 76444\, United States
ATTACH;FMTTYPE=image/jpeg:https://deleoncommunitycalendar.com/wp-content/uploads/2026/02/Green-Orange-Floral-Community-Garden-Club-Flyer.jpeg
END:VEVENT
BEGIN:VEVENT
DTSTART;TZID=America/Chicago:20260519T093000
DTEND;TZID=America/Chicago:20260519T103000
DTSTAMP:20260423T045751
CREATED:20250911T125620Z
LAST-MODIFIED:20250911T125620Z
UID:10000044-1779183000-1779186600@deleoncommunitycalendar.com
SUMMARY:Story Time at De Leon Library
DESCRIPTION:Story Time: Presented By\nLocal Author Jamie R. Cole \nWatch Jamie Cole bring stories to life with her creativity and enthusiasm! Kids love her energy and always have a fantastic time. Story Time takes place every Tuesday at the De Leon Library during the school year. Each week brings something new to enjoy! Hear a story\, sing a song\, do a craft\, and discover the magic of reading together. \nWhen — Tuesdays | 9:30 a.m. \nWhere — De Leon City-County Library
URL:https://deleoncommunitycalendar.com/event/story-time-at-de-leon-library/2026-05-19/
LOCATION:De Leon City-County Library\, 125 E Reynosa Ave\, De Leon\, TX\, 76444\, United States
ATTACH;FMTTYPE=image/jpeg:https://deleoncommunitycalendar.com/wp-content/uploads/2025/09/IMG_20250902_102114771-scaled.jpg
ORGANIZER;CN="De Leon Library":MAILTO:library@cityofdeleon.org
END:VEVENT
BEGIN:VEVENT
DTSTART;TZID=America/Chicago:20260519T120000
DTEND;TZID=America/Chicago:20260519T220000
DTSTAMP:20260423T045751
CREATED:20260209T022038Z
LAST-MODIFIED:20260209T022038Z
UID:10002283-1779192000-1779228000@deleoncommunitycalendar.com
SUMMARY:4D Pole Bending @ 16 North Arena
DESCRIPTION:Every Tuesday!\nExhibitions 12:00-6:30 pm\nRace start at 7:00 pm\nPre Entries Texas (254) 595-6670
URL:https://deleoncommunitycalendar.com/event/4d-pole-bending-16-north-arena/2026-05-19/
LOCATION:16 North Arena\, 4740 State Highway 16\, De Leon\, TX\, 76444\, United States
ATTACH;FMTTYPE=image/jpeg:https://deleoncommunitycalendar.com/wp-content/uploads/2026/02/16-arena-pole-.jpg
END:VEVENT
BEGIN:VEVENT
DTSTART;TZID=America/Chicago:20260519T130000
DTEND;TZID=America/Chicago:20260519T150000
DTSTAMP:20260423T045751
CREATED:20260108T024457Z
LAST-MODIFIED:20260108T024457Z
UID:10001485-1779195600-1779202800@deleoncommunitycalendar.com
SUMMARY:Mah Jongg Meetup
DESCRIPTION:De Leon Library Mah Jongg Meetup\nAmerican Mah Jongg \nJoin us every Tuesday at 1:00 PM at De Leon Library for our weekly Mah Jongg meetup! \nWe play American Mah Jongg\, and all skill levels are welcome. Whether you’re a seasoned veteran or a total beginner who wants to learn\, come hang out at De Leon Library!  \nNo pressure\, just fun and tiles!\nSee you Tuesday at 1:00 PM at De Leon Library!
URL:https://deleoncommunitycalendar.com/event/mah-jongg-meetup/2026-05-19/
LOCATION:De Leon City-County Library\, 125 E Reynosa Ave\, De Leon\, TX\, 76444\, United States
ATTACH;FMTTYPE=image/png:https://deleoncommunitycalendar.com/wp-content/uploads/2026/01/Mah-Jongg.png
ORGANIZER;CN="De Leon Library":MAILTO:library@cityofdeleon.org
END:VEVENT
BEGIN:VEVENT
DTSTART;VALUE=DATE:20260520
DTEND;VALUE=DATE:20260521
DTSTAMP:20260423T045751
CREATED:20260119T031953Z
LAST-MODIFIED:20260119T031953Z
UID:10001914-1779235200-1779321599@deleoncommunitycalendar.com
SUMMARY:February Betty Barrel Jackpot
DESCRIPTION:Every Wednesday in February
URL:https://deleoncommunitycalendar.com/event/february-betty-barrel-jackpot/2026-05-20/
LOCATION:16 North Arena\, 4740 State Highway 16\, De Leon\, TX\, 76444\, United States
ATTACH;FMTTYPE=image/jpeg:https://deleoncommunitycalendar.com/wp-content/uploads/2026/01/16-arena-feb-.jpg
END:VEVENT
BEGIN:VEVENT
DTSTART;VALUE=DATE:20260520
DTEND;VALUE=DATE:20260521
DTSTAMP:20260423T045751
CREATED:20260306T032942Z
LAST-MODIFIED:20260306T032942Z
UID:10002670-1779235200-1779321599@deleoncommunitycalendar.com
SUMMARY:Clover Cans Barrel Jackpot
DESCRIPTION:Barrel jackpot every Wednesday in March.
URL:https://deleoncommunitycalendar.com/event/clover-cans-barrel-jackpot/2026-05-20/
LOCATION:16 North Arena\, 4740 State Highway 16\, De Leon\, TX\, 76444\, United States
ATTACH;FMTTYPE=image/jpeg:https://deleoncommunitycalendar.com/wp-content/uploads/2026/03/16-north-March.jpg
END:VEVENT
BEGIN:VEVENT
DTSTART;TZID=America/Chicago:20260521T163000
DTEND;TZID=America/Chicago:20260521T173000
DTSTAMP:20260423T045751
CREATED:20251205T031149Z
LAST-MODIFIED:20251205T031149Z
UID:10001398-1779381000-1779384600@deleoncommunitycalendar.com
SUMMARY:Pokémon Club
DESCRIPTION:Pokémon Club! \nCalling all Pokémon Trainers! \nJoin us at the De Leon Library every third Thursday of the month for Pokémon Club! Trade cards\, duel with friends\, watch episodes\, participate in Pokémon themed crafts\, and much more! \nWant to meet others who love Pokémon just as much as you! Come to De Leon Library’s Pokémon Club this month on Thursday\, December 18th at 4:30 p.m. \nJoin the club and spread the word!  \nWhen — Every Third Thursday | 4:30 p.m. \nWhere — De Leon City-County Library
URL:https://deleoncommunitycalendar.com/event/pokemon-club/2026-05-21/
LOCATION:De Leon City-County Library\, 125 E Reynosa Ave\, De Leon\, TX\, 76444\, United States
ATTACH;FMTTYPE=image/png:https://deleoncommunitycalendar.com/wp-content/uploads/2025/12/DLL-Pokemon-Club.png
ORGANIZER;CN="De Leon Library":MAILTO:library@cityofdeleon.org
END:VEVENT
BEGIN:VEVENT
DTSTART;TZID=America/Chicago:20260522T080000
DTEND;TZID=America/Chicago:20260522T113000
DTSTAMP:20260423T045751
CREATED:20260203T022726Z
LAST-MODIFIED:20260203T023137Z
UID:10001964-1779436800-1779449400@deleoncommunitycalendar.com
SUMMARY:Garden Tours
DESCRIPTION:Every Friday and Saturday morning in May. Self guided tours with refreshments on Saturday. Grab a map from the bar and saunter around\, take in the gardens. Look for markers identifying plants and statues.  Family friendly. More info follow Facebook Higgledy Piggledy Cottage. Please remember it is every Friday and Saturday in the month of May!
URL:https://deleoncommunitycalendar.com/event/garden-tours/2026-05-22/
LOCATION:Higgledy Piggledy Cottage\, 232 Sipe Springs Road\, De Leon\, TX\, 76444\, United States
ATTACH;FMTTYPE=image/jpeg:https://deleoncommunitycalendar.com/wp-content/uploads/2026/02/Green-Orange-Floral-Community-Garden-Club-Flyer.jpeg
END:VEVENT
BEGIN:VEVENT
DTSTART;TZID=America/Chicago:20260523T080000
DTEND;TZID=America/Chicago:20260523T113000
DTSTAMP:20260423T045751
CREATED:20260203T022726Z
LAST-MODIFIED:20260203T023137Z
UID:10001965-1779523200-1779535800@deleoncommunitycalendar.com
SUMMARY:Garden Tours
DESCRIPTION:Every Friday and Saturday morning in May. Self guided tours with refreshments on Saturday. Grab a map from the bar and saunter around\, take in the gardens. Look for markers identifying plants and statues.  Family friendly. More info follow Facebook Higgledy Piggledy Cottage. Please remember it is every Friday and Saturday in the month of May!
URL:https://deleoncommunitycalendar.com/event/garden-tours/2026-05-23/
LOCATION:Higgledy Piggledy Cottage\, 232 Sipe Springs Road\, De Leon\, TX\, 76444\, United States
ATTACH;FMTTYPE=image/jpeg:https://deleoncommunitycalendar.com/wp-content/uploads/2026/02/Green-Orange-Floral-Community-Garden-Club-Flyer.jpeg
END:VEVENT
BEGIN:VEVENT
DTSTART;TZID=America/Chicago:20260523T090000
DTEND;TZID=America/Chicago:20260523T140000
DTSTAMP:20260423T045751
CREATED:20260205T045350Z
LAST-MODIFIED:20260205T045350Z
UID:10002152-1779526800-1779544800@deleoncommunitycalendar.com
SUMMARY:Dungeons and Dragons Club
DESCRIPTION:De Leon Library will start hosting a Dungeons and Dragons Table Top Role-Playing Club. This Club will be meeting on the second and fourth Saturdays of the month\, starting on February the 28th. The club will play all day\, from 9 AM – 2 PM\, and all materials will be provided for players. These games will be open to players of all experience levels. Whether you’re a level 1 human fighter or a level 20 changeling druid\, come join the fun and let your imagination take you on a grand adventure!
URL:https://deleoncommunitycalendar.com/event/dungeons-and-dragons-club/2026-05-23/
LOCATION:De Leon City-County Library\, 125 E Reynosa Ave\, De Leon\, TX\, 76444\, United States
ATTACH;FMTTYPE=image/png:https://deleoncommunitycalendar.com/wp-content/uploads/2026/02/DD-Campaign.png
ORGANIZER;CN="De Leon Library":MAILTO:library@cityofdeleon.org
END:VEVENT
END:VCALENDAR