BEGIN:VCALENDAR
VERSION:2.0
PRODID:-//De Leon Community Calendar - ECPv6.15.20//NONSGML v1.0//EN
CALSCALE:GREGORIAN
METHOD:PUBLISH
X-WR-CALNAME:De Leon Community Calendar
X-ORIGINAL-URL:https://deleoncommunitycalendar.com
X-WR-CALDESC:Events for De Leon Community Calendar
REFRESH-INTERVAL;VALUE=DURATION:PT1H
X-Robots-Tag:noindex
X-PUBLISHED-TTL:PT1H
BEGIN:VTIMEZONE
TZID:America/Chicago
BEGIN:DAYLIGHT
TZOFFSETFROM:-0600
TZOFFSETTO:-0500
TZNAME:CDT
DTSTART:20240310T080000
END:DAYLIGHT
BEGIN:STANDARD
TZOFFSETFROM:-0500
TZOFFSETTO:-0600
TZNAME:CST
DTSTART:20241103T070000
END:STANDARD
BEGIN:DAYLIGHT
TZOFFSETFROM:-0600
TZOFFSETTO:-0500
TZNAME:CDT
DTSTART:20250309T080000
END:DAYLIGHT
BEGIN:STANDARD
TZOFFSETFROM:-0500
TZOFFSETTO:-0600
TZNAME:CST
DTSTART:20251102T070000
END:STANDARD
BEGIN:DAYLIGHT
TZOFFSETFROM:-0600
TZOFFSETTO:-0500
TZNAME:CDT
DTSTART:20260308T080000
END:DAYLIGHT
BEGIN:STANDARD
TZOFFSETFROM:-0500
TZOFFSETTO:-0600
TZNAME:CST
DTSTART:20261101T070000
END:STANDARD
END:VTIMEZONE
BEGIN:VEVENT
DTSTART;TZID=America/Chicago:20251007T093000
DTEND;TZID=America/Chicago:20251007T103000
DTSTAMP:20260423T204053
CREATED:20250911T125620Z
LAST-MODIFIED:20250911T125620Z
UID:10000012-1759829400-1759833000@deleoncommunitycalendar.com
SUMMARY:Story Time at De Leon Library
DESCRIPTION:Story Time: Presented By\nLocal Author Jamie R. Cole \nWatch Jamie Cole bring stories to life with her creativity and enthusiasm! Kids love her energy and always have a fantastic time. Story Time takes place every Tuesday at the De Leon Library during the school year. Each week brings something new to enjoy! Hear a story\, sing a song\, do a craft\, and discover the magic of reading together. \nWhen — Tuesdays | 9:30 a.m. \nWhere — De Leon City-County Library
URL:https://deleoncommunitycalendar.com/event/story-time-at-de-leon-library/2025-10-07/
LOCATION:De Leon City-County Library\, 125 E Reynosa Ave\, De Leon\, TX\, 76444\, United States
ATTACH;FMTTYPE=image/jpeg:https://deleoncommunitycalendar.com/wp-content/uploads/2025/09/IMG_20250902_102114771-scaled.jpg
ORGANIZER;CN="De Leon Library":MAILTO:library@cityofdeleon.org
END:VEVENT
BEGIN:VEVENT
DTSTART;TZID=America/Chicago:20251004T173000
DTEND;TZID=America/Chicago:20251004T210000
DTSTAMP:20260423T204053
CREATED:20250926T021540Z
LAST-MODIFIED:20250926T021540Z
UID:10000780-1759599000-1759611600@deleoncommunitycalendar.com
SUMMARY:Junior Class Fall Festival
DESCRIPTION:Coronation\, Silent Auction\, Cake Auction\, Carnival. Fun for all ages!!
URL:https://deleoncommunitycalendar.com/event/junior-class-fall-festival/
LOCATION:De Leon High School\, 200 W Manchaca\, De Leon
ATTACH;FMTTYPE=image/jpeg:https://deleoncommunitycalendar.com/wp-content/uploads/2025/09/IMG_8314.jpeg
END:VEVENT
BEGIN:VEVENT
DTSTART;TZID=America/Chicago:20251004T103000
DTEND;TZID=America/Chicago:20251004T113000
DTSTAMP:20260423T204053
CREATED:20250911T114256Z
LAST-MODIFIED:20250911T114256Z
UID:10000271-1759573800-1759577400@deleoncommunitycalendar.com
SUMMARY:"Any Book Club" at De Leon Library
DESCRIPTION:Bring your new favorite book to the library\, and share what makes it special with fellow book lovers. You can bring any book you like! We encourage everyone to bring a book that they enjoy\, but don’t mind loaning to others. Don’t have your own? Check one out from the library! “Any Book Club” will meet at the De Leon Library on the first Saturday of every month at 10:30 a.m. See you there! \nWhen — First Saturday of Every Month | 10:30 a.m. \nWhere — De Leon City-County Library
URL:https://deleoncommunitycalendar.com/event/any-book-club-at-de-leon-library/2025-10-04/
LOCATION:De Leon Library\, 125 E Reynosa Ave\, De Leon\, TX\, 76444\, United States
END:VEVENT
BEGIN:VEVENT
DTSTART;TZID=America/Chicago:20250930T093000
DTEND;TZID=America/Chicago:20250930T103000
DTSTAMP:20260423T204053
CREATED:20250911T125620Z
LAST-MODIFIED:20250911T125620Z
UID:10000011-1759224600-1759228200@deleoncommunitycalendar.com
SUMMARY:Story Time at De Leon Library
DESCRIPTION:Story Time: Presented By\nLocal Author Jamie R. Cole \nWatch Jamie Cole bring stories to life with her creativity and enthusiasm! Kids love her energy and always have a fantastic time. Story Time takes place every Tuesday at the De Leon Library during the school year. Each week brings something new to enjoy! Hear a story\, sing a song\, do a craft\, and discover the magic of reading together. \nWhen — Tuesdays | 9:30 a.m. \nWhere — De Leon City-County Library
URL:https://deleoncommunitycalendar.com/event/story-time-at-de-leon-library/2025-09-30/
LOCATION:De Leon City-County Library\, 125 E Reynosa Ave\, De Leon\, TX\, 76444\, United States
ATTACH;FMTTYPE=image/jpeg:https://deleoncommunitycalendar.com/wp-content/uploads/2025/09/IMG_20250902_102114771-scaled.jpg
ORGANIZER;CN="De Leon Library":MAILTO:library@cityofdeleon.org
END:VEVENT
BEGIN:VEVENT
DTSTART;TZID=America/Chicago:20250927T170000
DTEND;TZID=America/Chicago:20250927T193000
DTSTAMP:20260423T204053
CREATED:20250913T022338Z
LAST-MODIFIED:20250913T031854Z
UID:10000771-1758992400-1759001400@deleoncommunitycalendar.com
SUMMARY:Fish Fry
DESCRIPTION:Fish\, Fries\, Hushpuppies\, Coleslaw\, Drink and Dessert will be served by the DeLeon Area Historical Society at the DeLeon City Auditorium from\n5 p.m. to 7:30 p.m.  All proceeds go to benefit the preservation of the DeLeon MKT depot.
URL:https://deleoncommunitycalendar.com/event/fish-fry/
LOCATION:De Leon City Auditorium\, De Leon\, 76444\, United States
ATTACH;FMTTYPE=image/jpeg:https://deleoncommunitycalendar.com/wp-content/uploads/2025/09/fish-fry.jpg
END:VEVENT
BEGIN:VEVENT
DTSTART;TZID=America/Chicago:20250927T100000
DTEND;TZID=America/Chicago:20250927T113000
DTSTAMP:20260423T204053
CREATED:20250911T125727Z
LAST-MODIFIED:20250912T030831Z
UID:10000270-1758967200-1758972600@deleoncommunitycalendar.com
SUMMARY:Water Magic! at De Leon Library
DESCRIPTION:Water Magic is a free education program about the properties of\nwater presented by the Ditch Water Discovery Center. Join us at the De Leon Library for a series of captivating activities that showcase the incredible feats water can perform. From the mesmerizing ability of water to support tiny insects in the “Floating Fantasia” to the astonishing surface tension demonstrated in our “Pepper Dance\,” every experiment will unveil a new wonder. Please register using the link provided if you wish to attend. \nAge: K – 5th grade \nCost: Free \nWhen — Saturday\, September 27 | 10:00 – 11:30 AM \nWhere — De Leon City-County Library
URL:https://deleoncommunitycalendar.com/event/water-magic-at-de-leon-library/
LOCATION:De Leon Library\, 125 E Reynosa Ave\, De Leon\, TX\, 76444\, United States
ATTACH;FMTTYPE=image/jpeg:https://deleoncommunitycalendar.com/wp-content/uploads/2025/09/Water-Magic.jpeg
ORGANIZER;CN="De Leon Library":MAILTO:library@cityofdeleon.org
END:VEVENT
BEGIN:VEVENT
DTSTART;TZID=America/Chicago:20250923T093000
DTEND;TZID=America/Chicago:20250923T103000
DTSTAMP:20260423T204053
CREATED:20250911T125620Z
LAST-MODIFIED:20250911T125620Z
UID:10000010-1758619800-1758623400@deleoncommunitycalendar.com
SUMMARY:Story Time at De Leon Library
DESCRIPTION:Story Time: Presented By\nLocal Author Jamie R. Cole \nWatch Jamie Cole bring stories to life with her creativity and enthusiasm! Kids love her energy and always have a fantastic time. Story Time takes place every Tuesday at the De Leon Library during the school year. Each week brings something new to enjoy! Hear a story\, sing a song\, do a craft\, and discover the magic of reading together. \nWhen — Tuesdays | 9:30 a.m. \nWhere — De Leon City-County Library
URL:https://deleoncommunitycalendar.com/event/story-time-at-de-leon-library/2025-09-23/
LOCATION:De Leon City-County Library\, 125 E Reynosa Ave\, De Leon\, TX\, 76444\, United States
ATTACH;FMTTYPE=image/jpeg:https://deleoncommunitycalendar.com/wp-content/uploads/2025/09/IMG_20250902_102114771-scaled.jpg
ORGANIZER;CN="De Leon Library":MAILTO:library@cityofdeleon.org
END:VEVENT
BEGIN:VEVENT
DTSTART;TZID=America/Chicago:20250920T180000
DTEND;TZID=America/Chicago:20250920T200000
DTSTAMP:20260423T204053
CREATED:20250902T021857Z
LAST-MODIFIED:20250911T130803Z
UID:10000002-1758391200-1758398400@deleoncommunitycalendar.com
SUMMARY:CCHF 20th Annual Dinner & Auction Fundraiser
DESCRIPTION:The Comanche County Healthcare Foundation plays a crucial role in assisting CCMC Health System with the purchase of medical equipment\, helping to improve patient care\, and making sure our local healthcare facility has everything it needs to serve us all.
URL:https://deleoncommunitycalendar.com/event/cchf-20th-annual-dinner-auction-fundraiser/
LOCATION:Copperas Bend\, 5300 Highway 2247\, De Leon\, TX\, 76444\, United States
ATTACH;FMTTYPE=image/jpeg:https://deleoncommunitycalendar.com/wp-content/uploads/2025/09/CCHF-Event.jpg
ORGANIZER;CN="Comanche County Healthcare Foundation":MAILTO:comanchechf@gmail.com
END:VEVENT
BEGIN:VEVENT
DTSTART;TZID=America/Chicago:20250916T093000
DTEND;TZID=America/Chicago:20250916T103000
DTSTAMP:20260423T204053
CREATED:20250911T125620Z
LAST-MODIFIED:20250911T125620Z
UID:10000009-1758015000-1758018600@deleoncommunitycalendar.com
SUMMARY:Story Time at De Leon Library
DESCRIPTION:Story Time: Presented By\nLocal Author Jamie R. Cole \nWatch Jamie Cole bring stories to life with her creativity and enthusiasm! Kids love her energy and always have a fantastic time. Story Time takes place every Tuesday at the De Leon Library during the school year. Each week brings something new to enjoy! Hear a story\, sing a song\, do a craft\, and discover the magic of reading together. \nWhen — Tuesdays | 9:30 a.m. \nWhere — De Leon City-County Library
URL:https://deleoncommunitycalendar.com/event/story-time-at-de-leon-library/2025-09-16/
LOCATION:De Leon City-County Library\, 125 E Reynosa Ave\, De Leon\, TX\, 76444\, United States
ATTACH;FMTTYPE=image/jpeg:https://deleoncommunitycalendar.com/wp-content/uploads/2025/09/IMG_20250902_102114771-scaled.jpg
ORGANIZER;CN="De Leon Library":MAILTO:library@cityofdeleon.org
END:VEVENT
BEGIN:VEVENT
DTSTART;TZID=America/Chicago:20250913T090000
DTEND;TZID=America/Chicago:20250913T130000
DTSTAMP:20260423T204053
CREATED:20250913T031538Z
LAST-MODIFIED:20250913T031538Z
UID:10000770-1757754000-1757768400@deleoncommunitycalendar.com
SUMMARY:De Leon Library Book Sale!
DESCRIPTION:Market Day is back and De Leon Library will be there! Our book sale will take place in the City Auditorium and the De Leon Library. Individual books are sold by donation! Take what you want\, pay what you can. Want to stock up? Fill a bag with books for just $5! Help us create space for our new books and programs by donating and rescuing a book this month!  \nWhen — Saturday\, September 13th | 9:00 am – 1:00 pm. \nWhere — De Leon City Auditorium & De Leon City-County Library
URL:https://deleoncommunitycalendar.com/event/de-leon-library-book-sale/
LOCATION:De Leon City-County Library\, 125 E Reynosa Ave\, De Leon\, TX\, 76444\, United States
ATTACH;FMTTYPE=image/png:https://deleoncommunitycalendar.com/wp-content/uploads/2025/09/Book-Sale-2.png
ORGANIZER;CN="De Leon Library":MAILTO:library@cityofdeleon.org
END:VEVENT
BEGIN:VEVENT
DTSTART;TZID=America/Chicago:20250913T090000
DTEND;TZID=America/Chicago:20250913T130000
DTSTAMP:20260423T204053
CREATED:20250911T213558Z
LAST-MODIFIED:20250911T213558Z
UID:10000332-1757754000-1757768400@deleoncommunitycalendar.com
SUMMARY:De Leon Market
DESCRIPTION:The De Leon Market is held every second Saturday
URL:https://deleoncommunitycalendar.com/event/de-leon-market/
LOCATION:De Leon City Auditorium\, De Leon\, 76444\, United States
ATTACH;FMTTYPE=image/jpeg:https://deleoncommunitycalendar.com/wp-content/uploads/2025/09/Market-Day-Logo-A-Resized.jpg
END:VEVENT
BEGIN:VEVENT
DTSTART;TZID=America/Chicago:20250911T180000
DTEND;TZID=America/Chicago:20250911T200000
DTSTAMP:20260423T204053
CREATED:20250910T020425Z
LAST-MODIFIED:20250910T020528Z
UID:10000004-1757613600-1757620800@deleoncommunitycalendar.com
SUMMARY:Fiber Arts
DESCRIPTION:Join others for a night of crocheting\, knitting\, sewing\, embroidery or whichever fiber works for you! Grab your current fiber project (or the one you stashed years ago in the closet) and come out to Fiber Arts and work on it with others!
URL:https://deleoncommunitycalendar.com/event/fiber-arts/
LOCATION:F&M Community Room\, 240 S Texas St\, De Leon\, TX\, 76444\, United States
ATTACH;FMTTYPE=image/jpeg:https://deleoncommunitycalendar.com/wp-content/uploads/2025/09/IMG_9501-1.jpeg
END:VEVENT
BEGIN:VEVENT
DTSTART;TZID=America/Chicago:20250907T153000
DTEND;TZID=America/Chicago:20250907T163000
DTSTAMP:20260423T204053
CREATED:20250909T234055Z
LAST-MODIFIED:20250909T234055Z
UID:10000003-1757259000-1757262600@deleoncommunitycalendar.com
SUMMARY:Community Choir Rehearsal
DESCRIPTION:The Community Choir will begin rehearsals on Sunday\, September 7th for the Community Christmas Cantata. Rehearsal will be 3:30-4:30 weekly at the Methodist Church Heritage Hall. Contact Mark Beaty (432) 209-3275 or mtkjbeaty@gmail.com for more information.
URL:https://deleoncommunitycalendar.com/event/community-choir-rehearsal/
LOCATION:Methodist Church Heritage Hall\, 616 S. Houston Street\, De Leon\, TX\, 76444\, United States
ORGANIZER;CN="De Leon Community Choir":MAILTO:mtkjbeaty@gmail.com
END:VEVENT
END:VCALENDAR