BEGIN:VCALENDAR
VERSION:2.0
PRODID:-//De Leon Community Calendar - ECPv6.15.20//NONSGML v1.0//EN
CALSCALE:GREGORIAN
METHOD:PUBLISH
X-ORIGINAL-URL:https://deleoncommunitycalendar.com
X-WR-CALDESC:Events for De Leon Community Calendar
REFRESH-INTERVAL;VALUE=DURATION:PT1H
X-Robots-Tag:noindex
X-PUBLISHED-TTL:PT1H
BEGIN:VTIMEZONE
TZID:America/Chicago
BEGIN:DAYLIGHT
TZOFFSETFROM:-0600
TZOFFSETTO:-0500
TZNAME:CDT
DTSTART:20240310T080000
END:DAYLIGHT
BEGIN:STANDARD
TZOFFSETFROM:-0500
TZOFFSETTO:-0600
TZNAME:CST
DTSTART:20241103T070000
END:STANDARD
BEGIN:DAYLIGHT
TZOFFSETFROM:-0600
TZOFFSETTO:-0500
TZNAME:CDT
DTSTART:20250309T080000
END:DAYLIGHT
BEGIN:STANDARD
TZOFFSETFROM:-0500
TZOFFSETTO:-0600
TZNAME:CST
DTSTART:20251102T070000
END:STANDARD
BEGIN:DAYLIGHT
TZOFFSETFROM:-0600
TZOFFSETTO:-0500
TZNAME:CDT
DTSTART:20260308T080000
END:DAYLIGHT
BEGIN:STANDARD
TZOFFSETFROM:-0500
TZOFFSETTO:-0600
TZNAME:CST
DTSTART:20261101T070000
END:STANDARD
END:VTIMEZONE
BEGIN:VEVENT
DTSTART;VALUE=DATE:20251020
DTEND;VALUE=DATE:20251128
DTSTAMP:20260423T183834
CREATED:20251016T132646Z
LAST-MODIFIED:20251016T133007Z
UID:10000918-1760918400-1764287999@deleoncommunitycalendar.com
SUMMARY:DSA Basketball Registration
DESCRIPTION:Registration will be open for DSA basketball. Register your kiddos\, grades 1st – 6th at DeleonSportsAlliance.org
URL:https://deleoncommunitycalendar.com/event/dsa-basketball-registration/
LOCATION:TX
ATTACH;FMTTYPE=image/jpeg:https://deleoncommunitycalendar.com/wp-content/uploads/2025/10/IMG_0110-1.jpeg
ORGANIZER;CN="DeLeon Sports Alliance":MAILTO:deleonsportsalliance@gmail.com
END:VEVENT
BEGIN:VEVENT
DTSTART;VALUE=DATE:20251105
DTEND;VALUE=DATE:20251122
DTSTAMP:20260423T183834
CREATED:20251106T112303Z
LAST-MODIFIED:20251106T112526Z
UID:10000986-1762300800-1763769599@deleoncommunitycalendar.com
SUMMARY:De Leon Volunteer Fire Department Thanksgiving Fundraiser
DESCRIPTION:Don’t let your husband burn Thanksgiving dinner again… Let the experts handle it.  \nThe De Leon Volunteer Fire Department will be putting on a Fundraiser this Thanksgiving to purchase new equipment for our new engine.  \nWe will prep and cook your choice of turkey or brisket.  \nTurkey for a minimum donation of $125\nBrisket for a minimum donation of $200 \nPre-Order by Saturday\, November  21st.\nPick up at De Leon Fire Department Thursday\, November 27th 9am-10:30am  \nTo pre-order please contact Cass Griffin at (254) 979-7580
URL:https://deleoncommunitycalendar.com/event/de-leon-volunteer-fire-department-thanksgiving-fundraiser/
LOCATION:DVFD
ATTACH;FMTTYPE=image/jpeg:https://deleoncommunitycalendar.com/wp-content/uploads/2025/11/att.eW2MFCk2aK8mLBNDdB2n5H302CuTYVOK_yhnuExljio.jpeg
END:VEVENT
BEGIN:VEVENT
DTSTART;TZID=America/Chicago:20251116T180000
DTEND;TZID=America/Chicago:20251116T190000
DTSTAMP:20260423T183834
CREATED:20251015T023745Z
LAST-MODIFIED:20251015T023745Z
UID:10000917-1763316000-1763319600@deleoncommunitycalendar.com
SUMMARY:Community Thanksgiving Service
DESCRIPTION:The Community Thanksgiving service provides an opportunity for the community to come together to worship and reflect on their blessings with thankfulness.
URL:https://deleoncommunitycalendar.com/event/community-thanksgiving-service/
LOCATION:First United Methodist Church\, 616 S Houston St\, De Leon\, TX\, 76444\, United States
ATTACH;FMTTYPE=image/jpeg:https://deleoncommunitycalendar.com/wp-content/uploads/2025/10/IMG_3546-1.jpeg
END:VEVENT
BEGIN:VEVENT
DTSTART;TZID=America/Chicago:20251118T093000
DTEND;TZID=America/Chicago:20251118T103000
DTSTAMP:20260423T183834
CREATED:20250911T125620Z
LAST-MODIFIED:20250911T125620Z
UID:10000018-1763458200-1763461800@deleoncommunitycalendar.com
SUMMARY:Story Time at De Leon Library
DESCRIPTION:Story Time: Presented By\nLocal Author Jamie R. Cole \nWatch Jamie Cole bring stories to life with her creativity and enthusiasm! Kids love her energy and always have a fantastic time. Story Time takes place every Tuesday at the De Leon Library during the school year. Each week brings something new to enjoy! Hear a story\, sing a song\, do a craft\, and discover the magic of reading together. \nWhen — Tuesdays | 9:30 a.m. \nWhere — De Leon City-County Library
URL:https://deleoncommunitycalendar.com/event/story-time-at-de-leon-library/2025-11-18/
LOCATION:De Leon City-County Library\, 125 E Reynosa Ave\, De Leon\, TX\, 76444\, United States
ATTACH;FMTTYPE=image/jpeg:https://deleoncommunitycalendar.com/wp-content/uploads/2025/09/IMG_20250902_102114771-scaled.jpg
ORGANIZER;CN="De Leon Library":MAILTO:library@cityofdeleon.org
END:VEVENT
BEGIN:VEVENT
DTSTART;TZID=America/Chicago:20251118T180000
DTEND;TZID=America/Chicago:20251118T200000
DTSTAMP:20260423T183834
CREATED:20251113T131559Z
LAST-MODIFIED:20251113T131559Z
UID:10001382-1763488800-1763496000@deleoncommunitycalendar.com
SUMMARY:Cub Scout Thanksgiving Party
DESCRIPTION:
URL:https://deleoncommunitycalendar.com/event/cub-scout-thanksgiving-party/
LOCATION:St Joe Baptist Church
ATTACH;FMTTYPE=image/jpeg:https://deleoncommunitycalendar.com/wp-content/uploads/2025/11/att.yLR0le2VhYCAGdjgluLDN5cTcr6_37HUoNdPxdCnYZo.jpeg
END:VEVENT
BEGIN:VEVENT
DTSTART;VALUE=DATE:20251122
DTEND;VALUE=DATE:20251123
DTSTAMP:20260423T183834
CREATED:20251113T131745Z
LAST-MODIFIED:20251113T131745Z
UID:10001383-1763769600-1763855999@deleoncommunitycalendar.com
SUMMARY:Cub Scout Dairy Tour
DESCRIPTION:
URL:https://deleoncommunitycalendar.com/event/cub-scout-dairy-tour/
LOCATION:Vollemans’s Dairy
ATTACH;FMTTYPE=image/jpeg:https://deleoncommunitycalendar.com/wp-content/uploads/2025/11/att.8NKrM6J-A0G6SSUuyABewnOmfK4gwpLRPcCSWgDZ6gw.jpeg
END:VEVENT
END:VCALENDAR