BEGIN:VCALENDAR
VERSION:2.0
PRODID:-//De Leon Community Calendar - ECPv6.15.20//NONSGML v1.0//EN
CALSCALE:GREGORIAN
METHOD:PUBLISH
X-WR-CALNAME:De Leon Community Calendar
X-ORIGINAL-URL:https://deleoncommunitycalendar.com
X-WR-CALDESC:Events for De Leon Community Calendar
REFRESH-INTERVAL;VALUE=DURATION:PT1H
X-Robots-Tag:noindex
X-PUBLISHED-TTL:PT1H
BEGIN:VTIMEZONE
TZID:America/Chicago
BEGIN:DAYLIGHT
TZOFFSETFROM:-0600
TZOFFSETTO:-0500
TZNAME:CDT
DTSTART:20240310T080000
END:DAYLIGHT
BEGIN:STANDARD
TZOFFSETFROM:-0500
TZOFFSETTO:-0600
TZNAME:CST
DTSTART:20241103T070000
END:STANDARD
BEGIN:DAYLIGHT
TZOFFSETFROM:-0600
TZOFFSETTO:-0500
TZNAME:CDT
DTSTART:20250309T080000
END:DAYLIGHT
BEGIN:STANDARD
TZOFFSETFROM:-0500
TZOFFSETTO:-0600
TZNAME:CST
DTSTART:20251102T070000
END:STANDARD
BEGIN:DAYLIGHT
TZOFFSETFROM:-0600
TZOFFSETTO:-0500
TZNAME:CDT
DTSTART:20260308T080000
END:DAYLIGHT
BEGIN:STANDARD
TZOFFSETFROM:-0500
TZOFFSETTO:-0600
TZNAME:CST
DTSTART:20261101T070000
END:STANDARD
BEGIN:DAYLIGHT
TZOFFSETFROM:-0600
TZOFFSETTO:-0500
TZNAME:CDT
DTSTART:20270314T080000
END:DAYLIGHT
BEGIN:STANDARD
TZOFFSETFROM:-0500
TZOFFSETTO:-0600
TZNAME:CST
DTSTART:20271107T070000
END:STANDARD
END:VTIMEZONE
BEGIN:VEVENT
DTSTART;VALUE=DATE:20251203
DTEND;VALUE=DATE:20260104
DTSTAMP:20260423T131658
CREATED:20251205T031002Z
LAST-MODIFIED:20251205T031002Z
UID:10001391-1764720000-1767484799@deleoncommunitycalendar.com
SUMMARY:Donation Drive PLAY IT FORWARD
DESCRIPTION:Play it Forward Donation Drive \nDonation Drive for a Teen Space at De Leon Library \nTeens deserve a safe space that’s just for them and De Leon Library is working to create that space! We are looking to furnish the Teen Space with a Switch 2\, controllers\, and games for them to play. \nLocal businesses are invited to support the project! Sponsoring the space comes with a month-long feature at our front desk plus a permanent sign in the teen room. Your support\, big or small\, helps us reach teens and get them in the library. \nWhen — December 3rd through January 3rd \nWhere — De Leon City-County Library and De Leon City Hall
URL:https://deleoncommunitycalendar.com/event/donation-drive-play-it-forward/
LOCATION:De Leon City-County Library\, 125 E Reynosa Ave\, De Leon\, TX\, 76444\, United States
ATTACH;FMTTYPE=image/png:https://deleoncommunitycalendar.com/wp-content/uploads/2025/12/unnamed.png
ORGANIZER;CN="De Leon Library":MAILTO:library@cityofdeleon.org
END:VEVENT
BEGIN:VEVENT
DTSTART;VALUE=DATE:20251229
DTEND;VALUE=DATE:20251230
DTSTAMP:20260423T131658
CREATED:20251222T032922Z
LAST-MODIFIED:20251222T032922Z
UID:10001464-1766966400-1767052799@deleoncommunitycalendar.com
SUMMARY:16 North Jingle Jackpot
DESCRIPTION:We’re going to throw in an extra jackpot a couple of these couple weeks same schedule as Wednesday just gonna be on a Monday! ￼
URL:https://deleoncommunitycalendar.com/event/16-north-jingle-jackpot-2/
LOCATION:16 North Arena\, 4740 State Highway 16\, De Leon\, TX\, 76444\, United States
ATTACH;FMTTYPE=image/jpeg:https://deleoncommunitycalendar.com/wp-content/uploads/2025/12/16-Arena-Dec-Jackpot.jpg
END:VEVENT
BEGIN:VEVENT
DTSTART;TZID=America/Chicago:20251230T093000
DTEND;TZID=America/Chicago:20251230T103000
DTSTAMP:20260423T131658
CREATED:20250911T125620Z
LAST-MODIFIED:20250911T125620Z
UID:10000024-1767087000-1767090600@deleoncommunitycalendar.com
SUMMARY:Story Time at De Leon Library
DESCRIPTION:Story Time: Presented By\nLocal Author Jamie R. Cole \nWatch Jamie Cole bring stories to life with her creativity and enthusiasm! Kids love her energy and always have a fantastic time. Story Time takes place every Tuesday at the De Leon Library during the school year. Each week brings something new to enjoy! Hear a story\, sing a song\, do a craft\, and discover the magic of reading together. \nWhen — Tuesdays | 9:30 a.m. \nWhere — De Leon City-County Library
URL:https://deleoncommunitycalendar.com/event/story-time-at-de-leon-library/2025-12-30/
LOCATION:De Leon City-County Library\, 125 E Reynosa Ave\, De Leon\, TX\, 76444\, United States
ATTACH;FMTTYPE=image/jpeg:https://deleoncommunitycalendar.com/wp-content/uploads/2025/09/IMG_20250902_102114771-scaled.jpg
ORGANIZER;CN="De Leon Library":MAILTO:library@cityofdeleon.org
END:VEVENT
BEGIN:VEVENT
DTSTART;TZID=America/Chicago:20260103T070000
DTEND;TZID=America/Chicago:20260103T090000
DTSTAMP:20260423T131658
CREATED:20251231T022227Z
LAST-MODIFIED:20251231T022227Z
UID:10001465-1767423600-1767430800@deleoncommunitycalendar.com
SUMMARY:All You Can Eat Breakfast Buffet at the DAC
DESCRIPTION:Desdemona Activity Center –\nAll-You-Can-Breakfast Buffet\nThe Desdemona Activity Center is throwing a breakfast bash and you’re invited to kick-start your NewYear with us. All-You-Can-Eat Breakfast Buffet on Saturday\, January 3\, 2026 from 7:00 a.m. to 9:00 a.m. Everyone is welcome to enjoy a meal and make some new friends. Cost- by donation. Come  join us!
URL:https://deleoncommunitycalendar.com/event/all-you-can-eat-breakfast-buffet-at-the-dac/
LOCATION:Desdemona Activity Center\, 6035 FM-8\, Desdemona\, TX\, 76445\, United States
ATTACH;FMTTYPE=image/jpeg:https://deleoncommunitycalendar.com/wp-content/uploads/2025/12/Desdemona-Breakfast.jpg
END:VEVENT
BEGIN:VEVENT
DTSTART;TZID=America/Chicago:20260103T100000
DTEND;TZID=America/Chicago:20260103T170000
DTSTAMP:20260423T131658
CREATED:20251208T052658Z
LAST-MODIFIED:20251208T052658Z
UID:10001457-1767434400-1767459600@deleoncommunitycalendar.com
SUMMARY:Cub Scout Hiking/Museum
DESCRIPTION:The Cub Scouts of Pack 37 in De Leon are heading out to Cisco to explore for the day! The first stop will be at the Conrad Hilton Hotel for a tour of the first ever Hilton! After we will enjoy a small picnic style snack\, before loading up to go hike The Old Cisco Zoo! One of our favorites!
URL:https://deleoncommunitycalendar.com/event/cub-scout-hiking-museum/
LOCATION:TX
END:VEVENT
BEGIN:VEVENT
DTSTART;TZID=America/Chicago:20260103T103000
DTEND;TZID=America/Chicago:20260103T113000
DTSTAMP:20260423T131658
CREATED:20250911T114256Z
LAST-MODIFIED:20250911T114256Z
UID:10000274-1767436200-1767439800@deleoncommunitycalendar.com
SUMMARY:"Any Book Club" at De Leon Library
DESCRIPTION:Bring your new favorite book to the library\, and share what makes it special with fellow book lovers. You can bring any book you like! We encourage everyone to bring a book that they enjoy\, but don’t mind loaning to others. Don’t have your own? Check one out from the library! “Any Book Club” will meet at the De Leon Library on the first Saturday of every month at 10:30 a.m. See you there! \nWhen — First Saturday of Every Month | 10:30 a.m. \nWhere — De Leon City-County Library
URL:https://deleoncommunitycalendar.com/event/any-book-club-at-de-leon-library/2026-01-03/
LOCATION:De Leon Library\, 125 E Reynosa Ave\, De Leon\, TX\, 76444\, United States
END:VEVENT
END:VCALENDAR