BEGIN:VCALENDAR
VERSION:2.0
PRODID:-//De Leon Community Calendar - ECPv6.15.20//NONSGML v1.0//EN
CALSCALE:GREGORIAN
METHOD:PUBLISH
X-WR-CALNAME:De Leon Community Calendar
X-ORIGINAL-URL:https://deleoncommunitycalendar.com
X-WR-CALDESC:Events for De Leon Community Calendar
REFRESH-INTERVAL;VALUE=DURATION:PT1H
X-Robots-Tag:noindex
X-PUBLISHED-TTL:PT1H
BEGIN:VTIMEZONE
TZID:America/Chicago
BEGIN:DAYLIGHT
TZOFFSETFROM:-0600
TZOFFSETTO:-0500
TZNAME:CDT
DTSTART:20250309T080000
END:DAYLIGHT
BEGIN:STANDARD
TZOFFSETFROM:-0500
TZOFFSETTO:-0600
TZNAME:CST
DTSTART:20251102T070000
END:STANDARD
BEGIN:DAYLIGHT
TZOFFSETFROM:-0600
TZOFFSETTO:-0500
TZNAME:CDT
DTSTART:20260308T080000
END:DAYLIGHT
BEGIN:STANDARD
TZOFFSETFROM:-0500
TZOFFSETTO:-0600
TZNAME:CST
DTSTART:20261101T070000
END:STANDARD
BEGIN:DAYLIGHT
TZOFFSETFROM:-0600
TZOFFSETTO:-0500
TZNAME:CDT
DTSTART:20270314T080000
END:DAYLIGHT
BEGIN:STANDARD
TZOFFSETFROM:-0500
TZOFFSETTO:-0600
TZNAME:CST
DTSTART:20271107T070000
END:STANDARD
END:VTIMEZONE
BEGIN:VEVENT
DTSTART;TZID=America/Chicago:20260223T180000
DTEND;TZID=America/Chicago:20260223T190000
DTSTAMP:20260423T061829
CREATED:20251026T041251Z
LAST-MODIFIED:20260222T185520Z
UID:10002593-1771869600-1771873200@deleoncommunitycalendar.com
SUMMARY:Developing De Leon Today Meeting
DESCRIPTION:Developing De Leon Today Corporation meets on the fourth Monday of each month at 6:00 PM in the De Leon Historical Museum to discuss ways to promote De Leon. The public is encouraged to attend.
URL:https://deleoncommunitycalendar.com/event/developing-de-leon-today-meeting/2026-02-23/
LOCATION:De Leon Area Historical Museum\, 173 North Texas Street\, De Leon\, TX\, 76444\, United States
ATTACH;FMTTYPE=image/png:https://deleoncommunitycalendar.com/wp-content/uploads/2025/10/DDT-Logo-Bobby-cropped.png
END:VEVENT
BEGIN:VEVENT
DTSTART;TZID=America/Chicago:20260224T093000
DTEND;TZID=America/Chicago:20260224T103000
DTSTAMP:20260423T061829
CREATED:20250911T125620Z
LAST-MODIFIED:20250911T125620Z
UID:10000032-1771925400-1771929000@deleoncommunitycalendar.com
SUMMARY:Story Time at De Leon Library
DESCRIPTION:Story Time: Presented By\nLocal Author Jamie R. Cole \nWatch Jamie Cole bring stories to life with her creativity and enthusiasm! Kids love her energy and always have a fantastic time. Story Time takes place every Tuesday at the De Leon Library during the school year. Each week brings something new to enjoy! Hear a story\, sing a song\, do a craft\, and discover the magic of reading together. \nWhen — Tuesdays | 9:30 a.m. \nWhere — De Leon City-County Library
URL:https://deleoncommunitycalendar.com/event/story-time-at-de-leon-library/2026-02-24/
LOCATION:De Leon City-County Library\, 125 E Reynosa Ave\, De Leon\, TX\, 76444\, United States
ATTACH;FMTTYPE=image/jpeg:https://deleoncommunitycalendar.com/wp-content/uploads/2025/09/IMG_20250902_102114771-scaled.jpg
ORGANIZER;CN="De Leon Library":MAILTO:library@cityofdeleon.org
END:VEVENT
BEGIN:VEVENT
DTSTART;TZID=America/Chicago:20260224T120000
DTEND;TZID=America/Chicago:20260224T220000
DTSTAMP:20260423T061829
CREATED:20260209T022038Z
LAST-MODIFIED:20260209T022038Z
UID:10002271-1771934400-1771970400@deleoncommunitycalendar.com
SUMMARY:4D Pole Bending @ 16 North Arena
DESCRIPTION:Every Tuesday!\nExhibitions 12:00-6:30 pm\nRace start at 7:00 pm\nPre Entries Texas (254) 595-6670
URL:https://deleoncommunitycalendar.com/event/4d-pole-bending-16-north-arena/2026-02-24/
LOCATION:16 North Arena\, 4740 State Highway 16\, De Leon\, TX\, 76444\, United States
ATTACH;FMTTYPE=image/jpeg:https://deleoncommunitycalendar.com/wp-content/uploads/2026/02/16-arena-pole-.jpg
END:VEVENT
BEGIN:VEVENT
DTSTART;TZID=America/Chicago:20260224T130000
DTEND;TZID=America/Chicago:20260224T150000
DTSTAMP:20260423T061829
CREATED:20260108T024457Z
LAST-MODIFIED:20260108T024457Z
UID:10001473-1771938000-1771945200@deleoncommunitycalendar.com
SUMMARY:Mah Jongg Meetup
DESCRIPTION:De Leon Library Mah Jongg Meetup\nAmerican Mah Jongg \nJoin us every Tuesday at 1:00 PM at De Leon Library for our weekly Mah Jongg meetup! \nWe play American Mah Jongg\, and all skill levels are welcome. Whether you’re a seasoned veteran or a total beginner who wants to learn\, come hang out at De Leon Library!  \nNo pressure\, just fun and tiles!\nSee you Tuesday at 1:00 PM at De Leon Library!
URL:https://deleoncommunitycalendar.com/event/mah-jongg-meetup/2026-02-24/
LOCATION:De Leon City-County Library\, 125 E Reynosa Ave\, De Leon\, TX\, 76444\, United States
ATTACH;FMTTYPE=image/png:https://deleoncommunitycalendar.com/wp-content/uploads/2026/01/Mah-Jongg.png
ORGANIZER;CN="De Leon Library":MAILTO:library@cityofdeleon.org
END:VEVENT
BEGIN:VEVENT
DTSTART;VALUE=DATE:20260225
DTEND;VALUE=DATE:20260226
DTSTAMP:20260423T061829
CREATED:20260119T031953Z
LAST-MODIFIED:20260119T031953Z
UID:10001902-1771977600-1772063999@deleoncommunitycalendar.com
SUMMARY:February Betty Barrel Jackpot
DESCRIPTION:Every Wednesday in February
URL:https://deleoncommunitycalendar.com/event/february-betty-barrel-jackpot/2026-02-25/
LOCATION:16 North Arena\, 4740 State Highway 16\, De Leon\, TX\, 76444\, United States
ATTACH;FMTTYPE=image/jpeg:https://deleoncommunitycalendar.com/wp-content/uploads/2026/01/16-arena-feb-.jpg
END:VEVENT
BEGIN:VEVENT
DTSTART;TZID=America/Chicago:20260226T103000
DTEND;TZID=America/Chicago:20260226T120000
DTSTAMP:20260423T061829
CREATED:20260209T024628Z
LAST-MODIFIED:20260209T024628Z
UID:10002533-1772101800-1772107200@deleoncommunitycalendar.com
SUMMARY:Food Bank of West Central Texas
DESCRIPTION:DeLeon Mobile Food Pantry \n4th Thurs 10:30 – 12:00\nDeLeon City Park\n(254) 879-4900
URL:https://deleoncommunitycalendar.com/event/food-bank-of-west-central-texas/2026-02-26/
LOCATION:De Leon City Park\, 640 E Navarro Ave\, De Leon\, TX\, 76444
ATTACH;FMTTYPE=image/png:https://deleoncommunitycalendar.com/wp-content/uploads/2026/02/Screenshot-2026-02-08-at-8.43.23-PM.png
END:VEVENT
BEGIN:VEVENT
DTSTART;TZID=America/Chicago:20260228T090000
DTEND;TZID=America/Chicago:20260228T140000
DTSTAMP:20260423T061829
CREATED:20260205T045350Z
LAST-MODIFIED:20260205T045350Z
UID:10002149-1772269200-1772287200@deleoncommunitycalendar.com
SUMMARY:Dungeons and Dragons Club
DESCRIPTION:De Leon Library will start hosting a Dungeons and Dragons Table Top Role-Playing Club. This Club will be meeting on the second and fourth Saturdays of the month\, starting on February the 28th. The club will play all day\, from 9 AM – 2 PM\, and all materials will be provided for players. These games will be open to players of all experience levels. Whether you’re a level 1 human fighter or a level 20 changeling druid\, come join the fun and let your imagination take you on a grand adventure!
URL:https://deleoncommunitycalendar.com/event/dungeons-and-dragons-club/2026-02-28/
LOCATION:De Leon City-County Library\, 125 E Reynosa Ave\, De Leon\, TX\, 76444\, United States
ATTACH;FMTTYPE=image/png:https://deleoncommunitycalendar.com/wp-content/uploads/2026/02/DD-Campaign.png
ORGANIZER;CN="De Leon Library":MAILTO:library@cityofdeleon.org
END:VEVENT
END:VCALENDAR