BEGIN:VCALENDAR
VERSION:2.0
PRODID:-//De Leon Community Calendar - ECPv6.15.20//NONSGML v1.0//EN
CALSCALE:GREGORIAN
METHOD:PUBLISH
X-ORIGINAL-URL:https://deleoncommunitycalendar.com
X-WR-CALDESC:Events for De Leon Community Calendar
REFRESH-INTERVAL;VALUE=DURATION:PT1H
X-Robots-Tag:noindex
X-PUBLISHED-TTL:PT1H
BEGIN:VTIMEZONE
TZID:America/Chicago
BEGIN:DAYLIGHT
TZOFFSETFROM:-0600
TZOFFSETTO:-0500
TZNAME:CDT
DTSTART:20250309T080000
END:DAYLIGHT
BEGIN:STANDARD
TZOFFSETFROM:-0500
TZOFFSETTO:-0600
TZNAME:CST
DTSTART:20251102T070000
END:STANDARD
BEGIN:DAYLIGHT
TZOFFSETFROM:-0600
TZOFFSETTO:-0500
TZNAME:CDT
DTSTART:20260308T080000
END:DAYLIGHT
BEGIN:STANDARD
TZOFFSETFROM:-0500
TZOFFSETTO:-0600
TZNAME:CST
DTSTART:20261101T070000
END:STANDARD
BEGIN:DAYLIGHT
TZOFFSETFROM:-0600
TZOFFSETTO:-0500
TZNAME:CDT
DTSTART:20270314T080000
END:DAYLIGHT
BEGIN:STANDARD
TZOFFSETFROM:-0500
TZOFFSETTO:-0600
TZNAME:CST
DTSTART:20271107T070000
END:STANDARD
END:VTIMEZONE
BEGIN:VEVENT
DTSTART;TZID=America/Chicago:20260427T180000
DTEND;TZID=America/Chicago:20260427T190000
DTSTAMP:20260423T033328
CREATED:20251026T041251Z
LAST-MODIFIED:20260222T185520Z
UID:10002595-1777312800-1777316400@deleoncommunitycalendar.com
SUMMARY:Developing De Leon Today Meeting
DESCRIPTION:Developing De Leon Today Corporation meets on the fourth Monday of each month at 6:00 PM in the De Leon Historical Museum to discuss ways to promote De Leon. The public is encouraged to attend.
URL:https://deleoncommunitycalendar.com/event/developing-de-leon-today-meeting/2026-04-27/
LOCATION:De Leon Area Historical Museum\, 173 North Texas Street\, De Leon\, TX\, 76444\, United States
ATTACH;FMTTYPE=image/png:https://deleoncommunitycalendar.com/wp-content/uploads/2025/10/DDT-Logo-Bobby-cropped.png
END:VEVENT
BEGIN:VEVENT
DTSTART;TZID=America/Chicago:20260428T093000
DTEND;TZID=America/Chicago:20260428T103000
DTSTAMP:20260423T033328
CREATED:20250911T125620Z
LAST-MODIFIED:20250911T125620Z
UID:10000041-1777368600-1777372200@deleoncommunitycalendar.com
SUMMARY:Story Time at De Leon Library
DESCRIPTION:Story Time: Presented By\nLocal Author Jamie R. Cole \nWatch Jamie Cole bring stories to life with her creativity and enthusiasm! Kids love her energy and always have a fantastic time. Story Time takes place every Tuesday at the De Leon Library during the school year. Each week brings something new to enjoy! Hear a story\, sing a song\, do a craft\, and discover the magic of reading together. \nWhen — Tuesdays | 9:30 a.m. \nWhere — De Leon City-County Library
URL:https://deleoncommunitycalendar.com/event/story-time-at-de-leon-library/2026-04-28/
LOCATION:De Leon City-County Library\, 125 E Reynosa Ave\, De Leon\, TX\, 76444\, United States
ATTACH;FMTTYPE=image/jpeg:https://deleoncommunitycalendar.com/wp-content/uploads/2025/09/IMG_20250902_102114771-scaled.jpg
ORGANIZER;CN="De Leon Library":MAILTO:library@cityofdeleon.org
END:VEVENT
BEGIN:VEVENT
DTSTART;TZID=America/Chicago:20260428T120000
DTEND;TZID=America/Chicago:20260428T220000
DTSTAMP:20260423T033328
CREATED:20260209T022038Z
LAST-MODIFIED:20260209T022038Z
UID:10002280-1777377600-1777413600@deleoncommunitycalendar.com
SUMMARY:4D Pole Bending @ 16 North Arena
DESCRIPTION:Every Tuesday!\nExhibitions 12:00-6:30 pm\nRace start at 7:00 pm\nPre Entries Texas (254) 595-6670
URL:https://deleoncommunitycalendar.com/event/4d-pole-bending-16-north-arena/2026-04-28/
LOCATION:16 North Arena\, 4740 State Highway 16\, De Leon\, TX\, 76444\, United States
ATTACH;FMTTYPE=image/jpeg:https://deleoncommunitycalendar.com/wp-content/uploads/2026/02/16-arena-pole-.jpg
END:VEVENT
BEGIN:VEVENT
DTSTART;TZID=America/Chicago:20260428T130000
DTEND;TZID=America/Chicago:20260428T150000
DTSTAMP:20260423T033328
CREATED:20260108T024457Z
LAST-MODIFIED:20260108T024457Z
UID:10001482-1777381200-1777388400@deleoncommunitycalendar.com
SUMMARY:Mah Jongg Meetup
DESCRIPTION:De Leon Library Mah Jongg Meetup\nAmerican Mah Jongg \nJoin us every Tuesday at 1:00 PM at De Leon Library for our weekly Mah Jongg meetup! \nWe play American Mah Jongg\, and all skill levels are welcome. Whether you’re a seasoned veteran or a total beginner who wants to learn\, come hang out at De Leon Library!  \nNo pressure\, just fun and tiles!\nSee you Tuesday at 1:00 PM at De Leon Library!
URL:https://deleoncommunitycalendar.com/event/mah-jongg-meetup/2026-04-28/
LOCATION:De Leon City-County Library\, 125 E Reynosa Ave\, De Leon\, TX\, 76444\, United States
ATTACH;FMTTYPE=image/png:https://deleoncommunitycalendar.com/wp-content/uploads/2026/01/Mah-Jongg.png
ORGANIZER;CN="De Leon Library":MAILTO:library@cityofdeleon.org
END:VEVENT
BEGIN:VEVENT
DTSTART;TZID=America/Chicago:20260428T180000
DTEND;TZID=America/Chicago:20260428T190000
DTSTAMP:20260423T033328
CREATED:20251027T153751Z
LAST-MODIFIED:20251027T153751Z
UID:10000985-1777399200-1777402800@deleoncommunitycalendar.com
SUMMARY:DHS Gifted and Talented Science Fair
DESCRIPTION:The De Leon High School Gifted and Talented class invites the community to attend their “Pursuit of Passions: Shake It Up With Science” fair on April 28 from 6–7 p.m. in the De Leon High School cafeteria. This event will showcase the creativity and dedication of GT students as they present their science projects\, marking the culmination of this year’s science-focused rotation. The GT program follows a four-year cycle of themed projects\, including “Dancing Through the Decades” (history)\, “Night of Notables” (English)\, “Pursuit of Passions: Career-Centered Success” (math)\, and “Shake It Up With Science” (science). The students work very hard all year and would love to show you their projects and discuss their discoveries.
URL:https://deleoncommunitycalendar.com/event/dhs-gifted-and-talented-science-fair/
LOCATION:De Leon High School\, 200 W Manchaca\, De Leon
ATTACH;FMTTYPE=image/png:https://deleoncommunitycalendar.com/wp-content/uploads/2025/10/Science-Fair-Invite.png
END:VEVENT
BEGIN:VEVENT
DTSTART;VALUE=DATE:20260429
DTEND;VALUE=DATE:20260430
DTSTAMP:20260423T033328
CREATED:20260119T031953Z
LAST-MODIFIED:20260119T031953Z
UID:10001911-1777420800-1777507199@deleoncommunitycalendar.com
SUMMARY:February Betty Barrel Jackpot
DESCRIPTION:Every Wednesday in February
URL:https://deleoncommunitycalendar.com/event/february-betty-barrel-jackpot/2026-04-29/
LOCATION:16 North Arena\, 4740 State Highway 16\, De Leon\, TX\, 76444\, United States
ATTACH;FMTTYPE=image/jpeg:https://deleoncommunitycalendar.com/wp-content/uploads/2026/01/16-arena-feb-.jpg
END:VEVENT
BEGIN:VEVENT
DTSTART;VALUE=DATE:20260429
DTEND;VALUE=DATE:20260430
DTSTAMP:20260423T033328
CREATED:20260306T032942Z
LAST-MODIFIED:20260306T032942Z
UID:10002667-1777420800-1777507199@deleoncommunitycalendar.com
SUMMARY:Clover Cans Barrel Jackpot
DESCRIPTION:Barrel jackpot every Wednesday in March.
URL:https://deleoncommunitycalendar.com/event/clover-cans-barrel-jackpot/2026-04-29/
LOCATION:16 North Arena\, 4740 State Highway 16\, De Leon\, TX\, 76444\, United States
ATTACH;FMTTYPE=image/jpeg:https://deleoncommunitycalendar.com/wp-content/uploads/2026/03/16-north-March.jpg
END:VEVENT
BEGIN:VEVENT
DTSTART;TZID=America/Chicago:20260501T080000
DTEND;TZID=America/Chicago:20260501T113000
DTSTAMP:20260423T033328
CREATED:20260203T022726Z
LAST-MODIFIED:20260203T023137Z
UID:10001958-1777622400-1777635000@deleoncommunitycalendar.com
SUMMARY:Garden Tours
DESCRIPTION:Every Friday and Saturday morning in May. Self guided tours with refreshments on Saturday. Grab a map from the bar and saunter around\, take in the gardens. Look for markers identifying plants and statues.  Family friendly. More info follow Facebook Higgledy Piggledy Cottage. Please remember it is every Friday and Saturday in the month of May!
URL:https://deleoncommunitycalendar.com/event/garden-tours/2026-05-01/
LOCATION:Higgledy Piggledy Cottage\, 232 Sipe Springs Road\, De Leon\, TX\, 76444\, United States
ATTACH;FMTTYPE=image/jpeg:https://deleoncommunitycalendar.com/wp-content/uploads/2026/02/Green-Orange-Floral-Community-Garden-Club-Flyer.jpeg
END:VEVENT
BEGIN:VEVENT
DTSTART;TZID=America/Chicago:20260502T080000
DTEND;TZID=America/Chicago:20260502T113000
DTSTAMP:20260423T033328
CREATED:20260203T022726Z
LAST-MODIFIED:20260203T023137Z
UID:10001959-1777708800-1777721400@deleoncommunitycalendar.com
SUMMARY:Garden Tours
DESCRIPTION:Every Friday and Saturday morning in May. Self guided tours with refreshments on Saturday. Grab a map from the bar and saunter around\, take in the gardens. Look for markers identifying plants and statues.  Family friendly. More info follow Facebook Higgledy Piggledy Cottage. Please remember it is every Friday and Saturday in the month of May!
URL:https://deleoncommunitycalendar.com/event/garden-tours/2026-05-02/
LOCATION:Higgledy Piggledy Cottage\, 232 Sipe Springs Road\, De Leon\, TX\, 76444\, United States
ATTACH;FMTTYPE=image/jpeg:https://deleoncommunitycalendar.com/wp-content/uploads/2026/02/Green-Orange-Floral-Community-Garden-Club-Flyer.jpeg
END:VEVENT
BEGIN:VEVENT
DTSTART;TZID=America/Chicago:20260502T103000
DTEND;TZID=America/Chicago:20260502T113000
DTSTAMP:20260423T033328
CREATED:20250911T114256Z
LAST-MODIFIED:20250911T114256Z
UID:10000278-1777717800-1777721400@deleoncommunitycalendar.com
SUMMARY:"Any Book Club" at De Leon Library
DESCRIPTION:Bring your new favorite book to the library\, and share what makes it special with fellow book lovers. You can bring any book you like! We encourage everyone to bring a book that they enjoy\, but don’t mind loaning to others. Don’t have your own? Check one out from the library! “Any Book Club” will meet at the De Leon Library on the first Saturday of every month at 10:30 a.m. See you there! \nWhen — First Saturday of Every Month | 10:30 a.m. \nWhere — De Leon City-County Library
URL:https://deleoncommunitycalendar.com/event/any-book-club-at-de-leon-library/2026-05-02/
LOCATION:De Leon Library\, 125 E Reynosa Ave\, De Leon\, TX\, 76444\, United States
END:VEVENT
END:VCALENDAR