BEGIN:VCALENDAR
VERSION:2.0
PRODID:-//De Leon Community Calendar - ECPv6.15.20//NONSGML v1.0//EN
CALSCALE:GREGORIAN
METHOD:PUBLISH
X-ORIGINAL-URL:https://deleoncommunitycalendar.com
X-WR-CALDESC:Events for De Leon Community Calendar
REFRESH-INTERVAL;VALUE=DURATION:PT1H
X-Robots-Tag:noindex
X-PUBLISHED-TTL:PT1H
BEGIN:VTIMEZONE
TZID:America/Chicago
BEGIN:DAYLIGHT
TZOFFSETFROM:-0600
TZOFFSETTO:-0500
TZNAME:CDT
DTSTART:20240310T080000
END:DAYLIGHT
BEGIN:STANDARD
TZOFFSETFROM:-0500
TZOFFSETTO:-0600
TZNAME:CST
DTSTART:20241103T070000
END:STANDARD
BEGIN:DAYLIGHT
TZOFFSETFROM:-0600
TZOFFSETTO:-0500
TZNAME:CDT
DTSTART:20250309T080000
END:DAYLIGHT
BEGIN:STANDARD
TZOFFSETFROM:-0500
TZOFFSETTO:-0600
TZNAME:CST
DTSTART:20251102T070000
END:STANDARD
BEGIN:DAYLIGHT
TZOFFSETFROM:-0600
TZOFFSETTO:-0500
TZNAME:CDT
DTSTART:20260308T080000
END:DAYLIGHT
BEGIN:STANDARD
TZOFFSETFROM:-0500
TZOFFSETTO:-0600
TZNAME:CST
DTSTART:20261101T070000
END:STANDARD
END:VTIMEZONE
BEGIN:VEVENT
DTSTART;TZID=America/Chicago:20251206T160000
DTEND;TZID=America/Chicago:20251206T180000
DTSTAMP:20260423T222102
CREATED:20251109T205025Z
LAST-MODIFIED:20251109T205025Z
UID:10001376-1765036800-1765044000@deleoncommunitycalendar.com
SUMMARY:Christmas Paint & Sip
DESCRIPTION:Christmas Nutcracker Paint & Sip\nWhen: December 6th\n            4:00-6:00PM\nWhere: The Ole 48 Event Center\n              124 Gonzales St\n             De Leon\, Texas 76444\nWhat the session includes:\n            Canvas & All Materials\n      Charcuterie cup & Refreshments
URL:https://deleoncommunitycalendar.com/event/christmas-paint-sip/
LOCATION:Ole 48 Event Center\, 124 Gonzales\, De Leon\, TX\, 76444\, United States
ATTACH;FMTTYPE=image/png:https://deleoncommunitycalendar.com/wp-content/uploads/2025/11/de-leon-christmas-paint-and-sip.png
ORGANIZER;CN="Cassidy Nichols":MAILTO:Casspaige16@gmail.com
END:VEVENT
END:VCALENDAR