BEGIN:VCALENDAR
VERSION:2.0
PRODID:-//De Leon Community Calendar - ECPv6.15.20//NONSGML v1.0//EN
CALSCALE:GREGORIAN
METHOD:PUBLISH
X-WR-CALNAME:De Leon Community Calendar
X-ORIGINAL-URL:https://deleoncommunitycalendar.com
X-WR-CALDESC:Events for De Leon Community Calendar
REFRESH-INTERVAL;VALUE=DURATION:PT1H
X-Robots-Tag:noindex
X-PUBLISHED-TTL:PT1H
BEGIN:VTIMEZONE
TZID:America/Chicago
BEGIN:DAYLIGHT
TZOFFSETFROM:-0600
TZOFFSETTO:-0500
TZNAME:CDT
DTSTART:20240310T080000
END:DAYLIGHT
BEGIN:STANDARD
TZOFFSETFROM:-0500
TZOFFSETTO:-0600
TZNAME:CST
DTSTART:20241103T070000
END:STANDARD
BEGIN:DAYLIGHT
TZOFFSETFROM:-0600
TZOFFSETTO:-0500
TZNAME:CDT
DTSTART:20250309T080000
END:DAYLIGHT
BEGIN:STANDARD
TZOFFSETFROM:-0500
TZOFFSETTO:-0600
TZNAME:CST
DTSTART:20251102T070000
END:STANDARD
BEGIN:DAYLIGHT
TZOFFSETFROM:-0600
TZOFFSETTO:-0500
TZNAME:CDT
DTSTART:20260308T080000
END:DAYLIGHT
BEGIN:STANDARD
TZOFFSETFROM:-0500
TZOFFSETTO:-0600
TZNAME:CST
DTSTART:20261101T070000
END:STANDARD
END:VTIMEZONE
BEGIN:VEVENT
DTSTART;TZID=America/Chicago:20251108T180000
DTEND;TZID=America/Chicago:20251108T200000
DTSTAMP:20260419T222153
CREATED:20251106T223737Z
LAST-MODIFIED:20251106T223737Z
UID:10001375-1762624800-1762632000@deleoncommunitycalendar.com
SUMMARY:De Leon Jr High OAP - The Lion\, the Witch\, and the Wardrobe
DESCRIPTION:De Leon Jr High students will present The Lion\, the Witch\, and  the Wardrobe from the story by C.S. Lewis.
URL:https://deleoncommunitycalendar.com/event/de-leon-jr-high-oap-the-lion-the-witch-and-the-wardrobe/
LOCATION:DHS Cafetorium\, 200 W Manchaca Avenue\, De Leon\, TX\, 76444\, United States
ATTACH;FMTTYPE=image/jpeg:https://deleoncommunitycalendar.com/wp-content/uploads/2025/11/IMG_0981.jpeg
END:VEVENT
END:VCALENDAR