BEGIN:VCALENDAR
VERSION:2.0
PRODID:-//De Leon Community Calendar - ECPv6.15.20//NONSGML v1.0//EN
CALSCALE:GREGORIAN
METHOD:PUBLISH
X-ORIGINAL-URL:https://deleoncommunitycalendar.com
X-WR-CALDESC:Events for De Leon Community Calendar
REFRESH-INTERVAL;VALUE=DURATION:PT1H
X-Robots-Tag:noindex
X-PUBLISHED-TTL:PT1H
BEGIN:VTIMEZONE
TZID:America/Chicago
BEGIN:DAYLIGHT
TZOFFSETFROM:-0600
TZOFFSETTO:-0500
TZNAME:CDT
DTSTART:20280312T080000
END:DAYLIGHT
BEGIN:STANDARD
TZOFFSETFROM:-0500
TZOFFSETTO:-0600
TZNAME:CST
DTSTART:20281105T070000
END:STANDARD
BEGIN:DAYLIGHT
TZOFFSETFROM:-0600
TZOFFSETTO:-0500
TZNAME:CDT
DTSTART:20290311T080000
END:DAYLIGHT
BEGIN:STANDARD
TZOFFSETFROM:-0500
TZOFFSETTO:-0600
TZNAME:CST
DTSTART:20291104T070000
END:STANDARD
BEGIN:DAYLIGHT
TZOFFSETFROM:-0600
TZOFFSETTO:-0500
TZNAME:CDT
DTSTART:20300310T080000
END:DAYLIGHT
BEGIN:STANDARD
TZOFFSETFROM:-0500
TZOFFSETTO:-0600
TZNAME:CST
DTSTART:20301103T070000
END:STANDARD
BEGIN:DAYLIGHT
TZOFFSETFROM:-0600
TZOFFSETTO:-0500
TZNAME:CDT
DTSTART:20310309T080000
END:DAYLIGHT
BEGIN:STANDARD
TZOFFSETFROM:-0500
TZOFFSETTO:-0600
TZNAME:CST
DTSTART:20311102T070000
END:STANDARD
BEGIN:DAYLIGHT
TZOFFSETFROM:-0600
TZOFFSETTO:-0500
TZNAME:CDT
DTSTART:20320314T080000
END:DAYLIGHT
BEGIN:STANDARD
TZOFFSETFROM:-0500
TZOFFSETTO:-0600
TZNAME:CST
DTSTART:20321107T070000
END:STANDARD
END:VTIMEZONE
BEGIN:VEVENT
DTSTART;TZID=America/Chicago:20290423T180000
DTEND;TZID=America/Chicago:20290423T190000
DTSTAMP:20260419T155706
CREATED:20251026T041251Z
LAST-MODIFIED:20260222T185520Z
UID:10002631-1871661600-1871665200@deleoncommunitycalendar.com
SUMMARY:Developing De Leon Today Meeting
DESCRIPTION:Developing De Leon Today Corporation meets on the fourth Monday of each month at 6:00 PM in the De Leon Historical Museum to discuss ways to promote De Leon. The public is encouraged to attend.
URL:https://deleoncommunitycalendar.com/event/developing-de-leon-today-meeting/2029-04-23/
LOCATION:De Leon Area Historical Museum\, 173 North Texas Street\, De Leon\, TX\, 76444\, United States
ATTACH;FMTTYPE=image/png:https://deleoncommunitycalendar.com/wp-content/uploads/2025/10/DDT-Logo-Bobby-cropped.png
END:VEVENT
BEGIN:VEVENT
DTSTART;TZID=America/Chicago:20290528T180000
DTEND;TZID=America/Chicago:20290528T190000
DTSTAMP:20260419T155706
CREATED:20251026T041251Z
LAST-MODIFIED:20260222T185520Z
UID:10002632-1874685600-1874689200@deleoncommunitycalendar.com
SUMMARY:Developing De Leon Today Meeting
DESCRIPTION:Developing De Leon Today Corporation meets on the fourth Monday of each month at 6:00 PM in the De Leon Historical Museum to discuss ways to promote De Leon. The public is encouraged to attend.
URL:https://deleoncommunitycalendar.com/event/developing-de-leon-today-meeting/2029-05-28/
LOCATION:De Leon Area Historical Museum\, 173 North Texas Street\, De Leon\, TX\, 76444\, United States
ATTACH;FMTTYPE=image/png:https://deleoncommunitycalendar.com/wp-content/uploads/2025/10/DDT-Logo-Bobby-cropped.png
END:VEVENT
BEGIN:VEVENT
DTSTART;TZID=America/Chicago:20290625T180000
DTEND;TZID=America/Chicago:20290625T190000
DTSTAMP:20260419T155706
CREATED:20251026T041251Z
LAST-MODIFIED:20260222T185520Z
UID:10002633-1877104800-1877108400@deleoncommunitycalendar.com
SUMMARY:Developing De Leon Today Meeting
DESCRIPTION:Developing De Leon Today Corporation meets on the fourth Monday of each month at 6:00 PM in the De Leon Historical Museum to discuss ways to promote De Leon. The public is encouraged to attend.
URL:https://deleoncommunitycalendar.com/event/developing-de-leon-today-meeting/2029-06-25/
LOCATION:De Leon Area Historical Museum\, 173 North Texas Street\, De Leon\, TX\, 76444\, United States
ATTACH;FMTTYPE=image/png:https://deleoncommunitycalendar.com/wp-content/uploads/2025/10/DDT-Logo-Bobby-cropped.png
END:VEVENT
BEGIN:VEVENT
DTSTART;TZID=America/Chicago:20290723T180000
DTEND;TZID=America/Chicago:20290723T190000
DTSTAMP:20260419T155706
CREATED:20251026T041251Z
LAST-MODIFIED:20260222T185520Z
UID:10002634-1879524000-1879527600@deleoncommunitycalendar.com
SUMMARY:Developing De Leon Today Meeting
DESCRIPTION:Developing De Leon Today Corporation meets on the fourth Monday of each month at 6:00 PM in the De Leon Historical Museum to discuss ways to promote De Leon. The public is encouraged to attend.
URL:https://deleoncommunitycalendar.com/event/developing-de-leon-today-meeting/2029-07-23/
LOCATION:De Leon Area Historical Museum\, 173 North Texas Street\, De Leon\, TX\, 76444\, United States
ATTACH;FMTTYPE=image/png:https://deleoncommunitycalendar.com/wp-content/uploads/2025/10/DDT-Logo-Bobby-cropped.png
END:VEVENT
BEGIN:VEVENT
DTSTART;TZID=America/Chicago:20290827T180000
DTEND;TZID=America/Chicago:20290827T190000
DTSTAMP:20260419T155706
CREATED:20251026T041251Z
LAST-MODIFIED:20260222T185520Z
UID:10002635-1882548000-1882551600@deleoncommunitycalendar.com
SUMMARY:Developing De Leon Today Meeting
DESCRIPTION:Developing De Leon Today Corporation meets on the fourth Monday of each month at 6:00 PM in the De Leon Historical Museum to discuss ways to promote De Leon. The public is encouraged to attend.
URL:https://deleoncommunitycalendar.com/event/developing-de-leon-today-meeting/2029-08-27/
LOCATION:De Leon Area Historical Museum\, 173 North Texas Street\, De Leon\, TX\, 76444\, United States
ATTACH;FMTTYPE=image/png:https://deleoncommunitycalendar.com/wp-content/uploads/2025/10/DDT-Logo-Bobby-cropped.png
END:VEVENT
BEGIN:VEVENT
DTSTART;TZID=America/Chicago:20290924T180000
DTEND;TZID=America/Chicago:20290924T190000
DTSTAMP:20260419T155706
CREATED:20251026T041251Z
LAST-MODIFIED:20260222T185520Z
UID:10002636-1884967200-1884970800@deleoncommunitycalendar.com
SUMMARY:Developing De Leon Today Meeting
DESCRIPTION:Developing De Leon Today Corporation meets on the fourth Monday of each month at 6:00 PM in the De Leon Historical Museum to discuss ways to promote De Leon. The public is encouraged to attend.
URL:https://deleoncommunitycalendar.com/event/developing-de-leon-today-meeting/2029-09-24/
LOCATION:De Leon Area Historical Museum\, 173 North Texas Street\, De Leon\, TX\, 76444\, United States
ATTACH;FMTTYPE=image/png:https://deleoncommunitycalendar.com/wp-content/uploads/2025/10/DDT-Logo-Bobby-cropped.png
END:VEVENT
BEGIN:VEVENT
DTSTART;TZID=America/Chicago:20291022T180000
DTEND;TZID=America/Chicago:20291022T190000
DTSTAMP:20260419T155706
CREATED:20251026T041251Z
LAST-MODIFIED:20260222T185520Z
UID:10002637-1887386400-1887390000@deleoncommunitycalendar.com
SUMMARY:Developing De Leon Today Meeting
DESCRIPTION:Developing De Leon Today Corporation meets on the fourth Monday of each month at 6:00 PM in the De Leon Historical Museum to discuss ways to promote De Leon. The public is encouraged to attend.
URL:https://deleoncommunitycalendar.com/event/developing-de-leon-today-meeting/2029-10-22/
LOCATION:De Leon Area Historical Museum\, 173 North Texas Street\, De Leon\, TX\, 76444\, United States
ATTACH;FMTTYPE=image/png:https://deleoncommunitycalendar.com/wp-content/uploads/2025/10/DDT-Logo-Bobby-cropped.png
END:VEVENT
BEGIN:VEVENT
DTSTART;TZID=America/Chicago:20291126T180000
DTEND;TZID=America/Chicago:20291126T190000
DTSTAMP:20260419T155706
CREATED:20251026T041251Z
LAST-MODIFIED:20260222T185520Z
UID:10002638-1890410400-1890414000@deleoncommunitycalendar.com
SUMMARY:Developing De Leon Today Meeting
DESCRIPTION:Developing De Leon Today Corporation meets on the fourth Monday of each month at 6:00 PM in the De Leon Historical Museum to discuss ways to promote De Leon. The public is encouraged to attend.
URL:https://deleoncommunitycalendar.com/event/developing-de-leon-today-meeting/2029-11-26/
LOCATION:De Leon Area Historical Museum\, 173 North Texas Street\, De Leon\, TX\, 76444\, United States
ATTACH;FMTTYPE=image/png:https://deleoncommunitycalendar.com/wp-content/uploads/2025/10/DDT-Logo-Bobby-cropped.png
END:VEVENT
BEGIN:VEVENT
DTSTART;TZID=America/Chicago:20291224T180000
DTEND;TZID=America/Chicago:20291224T190000
DTSTAMP:20260419T155706
CREATED:20251026T041251Z
LAST-MODIFIED:20260222T185520Z
UID:10002639-1892829600-1892833200@deleoncommunitycalendar.com
SUMMARY:Developing De Leon Today Meeting
DESCRIPTION:Developing De Leon Today Corporation meets on the fourth Monday of each month at 6:00 PM in the De Leon Historical Museum to discuss ways to promote De Leon. The public is encouraged to attend.
URL:https://deleoncommunitycalendar.com/event/developing-de-leon-today-meeting/2029-12-24/
LOCATION:De Leon Area Historical Museum\, 173 North Texas Street\, De Leon\, TX\, 76444\, United States
ATTACH;FMTTYPE=image/png:https://deleoncommunitycalendar.com/wp-content/uploads/2025/10/DDT-Logo-Bobby-cropped.png
END:VEVENT
BEGIN:VEVENT
DTSTART;TZID=America/Chicago:20300128T180000
DTEND;TZID=America/Chicago:20300128T190000
DTSTAMP:20260419T155706
CREATED:20251026T041251Z
LAST-MODIFIED:20260222T185520Z
UID:10002640-1895853600-1895857200@deleoncommunitycalendar.com
SUMMARY:Developing De Leon Today Meeting
DESCRIPTION:Developing De Leon Today Corporation meets on the fourth Monday of each month at 6:00 PM in the De Leon Historical Museum to discuss ways to promote De Leon. The public is encouraged to attend.
URL:https://deleoncommunitycalendar.com/event/developing-de-leon-today-meeting/2030-01-28/
LOCATION:De Leon Area Historical Museum\, 173 North Texas Street\, De Leon\, TX\, 76444\, United States
ATTACH;FMTTYPE=image/png:https://deleoncommunitycalendar.com/wp-content/uploads/2025/10/DDT-Logo-Bobby-cropped.png
END:VEVENT
BEGIN:VEVENT
DTSTART;TZID=America/Chicago:20300225T180000
DTEND;TZID=America/Chicago:20300225T190000
DTSTAMP:20260419T155706
CREATED:20251026T041251Z
LAST-MODIFIED:20260222T185520Z
UID:10002641-1898272800-1898276400@deleoncommunitycalendar.com
SUMMARY:Developing De Leon Today Meeting
DESCRIPTION:Developing De Leon Today Corporation meets on the fourth Monday of each month at 6:00 PM in the De Leon Historical Museum to discuss ways to promote De Leon. The public is encouraged to attend.
URL:https://deleoncommunitycalendar.com/event/developing-de-leon-today-meeting/2030-02-25/
LOCATION:De Leon Area Historical Museum\, 173 North Texas Street\, De Leon\, TX\, 76444\, United States
ATTACH;FMTTYPE=image/png:https://deleoncommunitycalendar.com/wp-content/uploads/2025/10/DDT-Logo-Bobby-cropped.png
END:VEVENT
BEGIN:VEVENT
DTSTART;TZID=America/Chicago:20300325T180000
DTEND;TZID=America/Chicago:20300325T190000
DTSTAMP:20260419T155706
CREATED:20251026T041251Z
LAST-MODIFIED:20260222T185520Z
UID:10002642-1900692000-1900695600@deleoncommunitycalendar.com
SUMMARY:Developing De Leon Today Meeting
DESCRIPTION:Developing De Leon Today Corporation meets on the fourth Monday of each month at 6:00 PM in the De Leon Historical Museum to discuss ways to promote De Leon. The public is encouraged to attend.
URL:https://deleoncommunitycalendar.com/event/developing-de-leon-today-meeting/2030-03-25/
LOCATION:De Leon Area Historical Museum\, 173 North Texas Street\, De Leon\, TX\, 76444\, United States
ATTACH;FMTTYPE=image/png:https://deleoncommunitycalendar.com/wp-content/uploads/2025/10/DDT-Logo-Bobby-cropped.png
END:VEVENT
BEGIN:VEVENT
DTSTART;TZID=America/Chicago:20300422T180000
DTEND;TZID=America/Chicago:20300422T190000
DTSTAMP:20260419T155706
CREATED:20251026T041251Z
LAST-MODIFIED:20260222T185520Z
UID:10002643-1903111200-1903114800@deleoncommunitycalendar.com
SUMMARY:Developing De Leon Today Meeting
DESCRIPTION:Developing De Leon Today Corporation meets on the fourth Monday of each month at 6:00 PM in the De Leon Historical Museum to discuss ways to promote De Leon. The public is encouraged to attend.
URL:https://deleoncommunitycalendar.com/event/developing-de-leon-today-meeting/2030-04-22/
LOCATION:De Leon Area Historical Museum\, 173 North Texas Street\, De Leon\, TX\, 76444\, United States
ATTACH;FMTTYPE=image/png:https://deleoncommunitycalendar.com/wp-content/uploads/2025/10/DDT-Logo-Bobby-cropped.png
END:VEVENT
BEGIN:VEVENT
DTSTART;TZID=America/Chicago:20300527T180000
DTEND;TZID=America/Chicago:20300527T190000
DTSTAMP:20260419T155706
CREATED:20251026T041251Z
LAST-MODIFIED:20260222T185520Z
UID:10002644-1906135200-1906138800@deleoncommunitycalendar.com
SUMMARY:Developing De Leon Today Meeting
DESCRIPTION:Developing De Leon Today Corporation meets on the fourth Monday of each month at 6:00 PM in the De Leon Historical Museum to discuss ways to promote De Leon. The public is encouraged to attend.
URL:https://deleoncommunitycalendar.com/event/developing-de-leon-today-meeting/2030-05-27/
LOCATION:De Leon Area Historical Museum\, 173 North Texas Street\, De Leon\, TX\, 76444\, United States
ATTACH;FMTTYPE=image/png:https://deleoncommunitycalendar.com/wp-content/uploads/2025/10/DDT-Logo-Bobby-cropped.png
END:VEVENT
BEGIN:VEVENT
DTSTART;TZID=America/Chicago:20300624T180000
DTEND;TZID=America/Chicago:20300624T190000
DTSTAMP:20260419T155706
CREATED:20251026T041251Z
LAST-MODIFIED:20260222T185520Z
UID:10002645-1908554400-1908558000@deleoncommunitycalendar.com
SUMMARY:Developing De Leon Today Meeting
DESCRIPTION:Developing De Leon Today Corporation meets on the fourth Monday of each month at 6:00 PM in the De Leon Historical Museum to discuss ways to promote De Leon. The public is encouraged to attend.
URL:https://deleoncommunitycalendar.com/event/developing-de-leon-today-meeting/2030-06-24/
LOCATION:De Leon Area Historical Museum\, 173 North Texas Street\, De Leon\, TX\, 76444\, United States
ATTACH;FMTTYPE=image/png:https://deleoncommunitycalendar.com/wp-content/uploads/2025/10/DDT-Logo-Bobby-cropped.png
END:VEVENT
BEGIN:VEVENT
DTSTART;TZID=America/Chicago:20300722T180000
DTEND;TZID=America/Chicago:20300722T190000
DTSTAMP:20260419T155706
CREATED:20251026T041251Z
LAST-MODIFIED:20260222T185520Z
UID:10002646-1910973600-1910977200@deleoncommunitycalendar.com
SUMMARY:Developing De Leon Today Meeting
DESCRIPTION:Developing De Leon Today Corporation meets on the fourth Monday of each month at 6:00 PM in the De Leon Historical Museum to discuss ways to promote De Leon. The public is encouraged to attend.
URL:https://deleoncommunitycalendar.com/event/developing-de-leon-today-meeting/2030-07-22/
LOCATION:De Leon Area Historical Museum\, 173 North Texas Street\, De Leon\, TX\, 76444\, United States
ATTACH;FMTTYPE=image/png:https://deleoncommunitycalendar.com/wp-content/uploads/2025/10/DDT-Logo-Bobby-cropped.png
END:VEVENT
BEGIN:VEVENT
DTSTART;TZID=America/Chicago:20300826T180000
DTEND;TZID=America/Chicago:20300826T190000
DTSTAMP:20260419T155706
CREATED:20251026T041251Z
LAST-MODIFIED:20260222T185520Z
UID:10002647-1913997600-1914001200@deleoncommunitycalendar.com
SUMMARY:Developing De Leon Today Meeting
DESCRIPTION:Developing De Leon Today Corporation meets on the fourth Monday of each month at 6:00 PM in the De Leon Historical Museum to discuss ways to promote De Leon. The public is encouraged to attend.
URL:https://deleoncommunitycalendar.com/event/developing-de-leon-today-meeting/2030-08-26/
LOCATION:De Leon Area Historical Museum\, 173 North Texas Street\, De Leon\, TX\, 76444\, United States
ATTACH;FMTTYPE=image/png:https://deleoncommunitycalendar.com/wp-content/uploads/2025/10/DDT-Logo-Bobby-cropped.png
END:VEVENT
BEGIN:VEVENT
DTSTART;TZID=America/Chicago:20300923T180000
DTEND;TZID=America/Chicago:20300923T190000
DTSTAMP:20260419T155706
CREATED:20251026T041251Z
LAST-MODIFIED:20260222T185520Z
UID:10002648-1916416800-1916420400@deleoncommunitycalendar.com
SUMMARY:Developing De Leon Today Meeting
DESCRIPTION:Developing De Leon Today Corporation meets on the fourth Monday of each month at 6:00 PM in the De Leon Historical Museum to discuss ways to promote De Leon. The public is encouraged to attend.
URL:https://deleoncommunitycalendar.com/event/developing-de-leon-today-meeting/2030-09-23/
LOCATION:De Leon Area Historical Museum\, 173 North Texas Street\, De Leon\, TX\, 76444\, United States
ATTACH;FMTTYPE=image/png:https://deleoncommunitycalendar.com/wp-content/uploads/2025/10/DDT-Logo-Bobby-cropped.png
END:VEVENT
BEGIN:VEVENT
DTSTART;TZID=America/Chicago:20301028T180000
DTEND;TZID=America/Chicago:20301028T190000
DTSTAMP:20260419T155706
CREATED:20251026T041251Z
LAST-MODIFIED:20260222T185520Z
UID:10002649-1919440800-1919444400@deleoncommunitycalendar.com
SUMMARY:Developing De Leon Today Meeting
DESCRIPTION:Developing De Leon Today Corporation meets on the fourth Monday of each month at 6:00 PM in the De Leon Historical Museum to discuss ways to promote De Leon. The public is encouraged to attend.
URL:https://deleoncommunitycalendar.com/event/developing-de-leon-today-meeting/2030-10-28/
LOCATION:De Leon Area Historical Museum\, 173 North Texas Street\, De Leon\, TX\, 76444\, United States
ATTACH;FMTTYPE=image/png:https://deleoncommunitycalendar.com/wp-content/uploads/2025/10/DDT-Logo-Bobby-cropped.png
END:VEVENT
BEGIN:VEVENT
DTSTART;TZID=America/Chicago:20301125T180000
DTEND;TZID=America/Chicago:20301125T190000
DTSTAMP:20260419T155706
CREATED:20251026T041251Z
LAST-MODIFIED:20260222T185520Z
UID:10002650-1921860000-1921863600@deleoncommunitycalendar.com
SUMMARY:Developing De Leon Today Meeting
DESCRIPTION:Developing De Leon Today Corporation meets on the fourth Monday of each month at 6:00 PM in the De Leon Historical Museum to discuss ways to promote De Leon. The public is encouraged to attend.
URL:https://deleoncommunitycalendar.com/event/developing-de-leon-today-meeting/2030-11-25/
LOCATION:De Leon Area Historical Museum\, 173 North Texas Street\, De Leon\, TX\, 76444\, United States
ATTACH;FMTTYPE=image/png:https://deleoncommunitycalendar.com/wp-content/uploads/2025/10/DDT-Logo-Bobby-cropped.png
END:VEVENT
BEGIN:VEVENT
DTSTART;TZID=America/Chicago:20301223T180000
DTEND;TZID=America/Chicago:20301223T190000
DTSTAMP:20260419T155706
CREATED:20251026T041251Z
LAST-MODIFIED:20260222T185520Z
UID:10002651-1924279200-1924282800@deleoncommunitycalendar.com
SUMMARY:Developing De Leon Today Meeting
DESCRIPTION:Developing De Leon Today Corporation meets on the fourth Monday of each month at 6:00 PM in the De Leon Historical Museum to discuss ways to promote De Leon. The public is encouraged to attend.
URL:https://deleoncommunitycalendar.com/event/developing-de-leon-today-meeting/2030-12-23/
LOCATION:De Leon Area Historical Museum\, 173 North Texas Street\, De Leon\, TX\, 76444\, United States
ATTACH;FMTTYPE=image/png:https://deleoncommunitycalendar.com/wp-content/uploads/2025/10/DDT-Logo-Bobby-cropped.png
END:VEVENT
BEGIN:VEVENT
DTSTART;TZID=America/Chicago:20310127T180000
DTEND;TZID=America/Chicago:20310127T190000
DTSTAMP:20260419T155706
CREATED:20251026T041251Z
LAST-MODIFIED:20260222T185520Z
UID:10002652-1927303200-1927306800@deleoncommunitycalendar.com
SUMMARY:Developing De Leon Today Meeting
DESCRIPTION:Developing De Leon Today Corporation meets on the fourth Monday of each month at 6:00 PM in the De Leon Historical Museum to discuss ways to promote De Leon. The public is encouraged to attend.
URL:https://deleoncommunitycalendar.com/event/developing-de-leon-today-meeting/2031-01-27/
LOCATION:De Leon Area Historical Museum\, 173 North Texas Street\, De Leon\, TX\, 76444\, United States
ATTACH;FMTTYPE=image/png:https://deleoncommunitycalendar.com/wp-content/uploads/2025/10/DDT-Logo-Bobby-cropped.png
END:VEVENT
END:VCALENDAR