BEGIN:VCALENDAR
VERSION:2.0
PRODID:-//De Leon Community Calendar - ECPv6.15.20//NONSGML v1.0//EN
CALSCALE:GREGORIAN
METHOD:PUBLISH
X-WR-CALNAME:De Leon Community Calendar
X-ORIGINAL-URL:https://deleoncommunitycalendar.com
X-WR-CALDESC:Events for De Leon Community Calendar
REFRESH-INTERVAL;VALUE=DURATION:PT1H
X-Robots-Tag:noindex
X-PUBLISHED-TTL:PT1H
BEGIN:VTIMEZONE
TZID:America/Chicago
BEGIN:DAYLIGHT
TZOFFSETFROM:-0600
TZOFFSETTO:-0500
TZNAME:CDT
DTSTART:20240310T080000
END:DAYLIGHT
BEGIN:STANDARD
TZOFFSETFROM:-0500
TZOFFSETTO:-0600
TZNAME:CST
DTSTART:20241103T070000
END:STANDARD
BEGIN:DAYLIGHT
TZOFFSETFROM:-0600
TZOFFSETTO:-0500
TZNAME:CDT
DTSTART:20250309T080000
END:DAYLIGHT
BEGIN:STANDARD
TZOFFSETFROM:-0500
TZOFFSETTO:-0600
TZNAME:CST
DTSTART:20251102T070000
END:STANDARD
BEGIN:DAYLIGHT
TZOFFSETFROM:-0600
TZOFFSETTO:-0500
TZNAME:CDT
DTSTART:20260308T080000
END:DAYLIGHT
BEGIN:STANDARD
TZOFFSETFROM:-0500
TZOFFSETTO:-0600
TZNAME:CST
DTSTART:20261101T070000
END:STANDARD
BEGIN:DAYLIGHT
TZOFFSETFROM:-0600
TZOFFSETTO:-0500
TZNAME:CDT
DTSTART:20270314T080000
END:DAYLIGHT
BEGIN:STANDARD
TZOFFSETFROM:-0500
TZOFFSETTO:-0600
TZNAME:CST
DTSTART:20271107T070000
END:STANDARD
END:VTIMEZONE
BEGIN:VEVENT
DTSTART;TZID=America/Chicago:20260411T170000
DTEND;TZID=America/Chicago:20260411T193000
DTSTAMP:20260423T052849
CREATED:20260328T190712Z
LAST-MODIFIED:20260328T190727Z
UID:10002793-1775926800-1775935800@deleoncommunitycalendar.com
SUMMARY:Fish Fry & Gun Raffle
DESCRIPTION:De Leon Area Historical Society will have a Fish Fry  and Gun Raffle at the De Leon City Auditorium.   Fried fish\, French fries\, Cole Slaw\, drinks and dessert will be served by donation with all proceeds going to the MKT Depot preservation. \nA Mossberg Maverick 88 12 gauge\, security/safety combo rifle will be raffled.  Tickets are $20  with a limit of 100 to be sold.  The rifle will be given away at the fish fry.  Tickets may be purchased at the fish fry\, at the De Leon Historical Museum or from a DAHS Board member.
URL:https://deleoncommunitycalendar.com/event/fish-fry-gun-raffle/
LOCATION:De Leon City Auditorium\, De Leon\, 76444\, United States
ATTACH;FMTTYPE=image/jpeg:https://deleoncommunitycalendar.com/wp-content/uploads/2025/09/fish-fry.jpg
END:VEVENT
BEGIN:VEVENT
DTSTART;TZID=America/Chicago:20260411T070000
DTEND;TZID=America/Chicago:20260411T170000
DTSTAMP:20260423T052849
CREATED:20260319T032536Z
LAST-MODIFIED:20260402T024847Z
UID:10002787-1775890800-1775926800@deleoncommunitycalendar.com
SUMMARY:Community Garage Sale
DESCRIPTION:Explore garage sales at private residences throughout the day and come by the City Hall Auditorium to grab some lunch (or breakfast if you are an early riser) and shop the market and out of town sellers. Make a great morning of it\, come by to see us! \nOne mans junk is another mans treasure!
URL:https://deleoncommunitycalendar.com/event/community-garage-sale/
LOCATION:De Leon City Auditorium\, De Leon\, 76444\, United States
ATTACH;FMTTYPE=image/png:https://deleoncommunitycalendar.com/wp-content/uploads/2026/03/Community-Garage-Sale.png
END:VEVENT
BEGIN:VEVENT
DTSTART;TZID=America/Chicago:20260328T180000
DTEND;TZID=America/Chicago:20260328T220000
DTSTAMP:20260423T052849
CREATED:20260306T034044Z
LAST-MODIFIED:20260306T034044Z
UID:10002778-1774720800-1774735200@deleoncommunitycalendar.com
SUMMARY:Ties and Tiaras
DESCRIPTION:✨🪩 IT’S BACK & it’s going to SHINE even brighter! 🪩✨\nGet ready for our 2nd Annual Ties & Tiaras Family Dance! 👑🤵‍♂️💃\nMark your calendars for March 28th at De Leon City Hall because we’re turning up the music\, the sparkle\, and the memories from 6–10 PM!\nThink:\n✨ Twirling dresses\n✨ Sharp ties\n✨ A full meal\n✨ Dessert bar\n✨ Photo booth fun\n✨ And a dance floor full of smiles\nThis is a night for families to slow down\, dress up\, and make memories our kids will never forget. ❤️\n🎟 Tickets are just $10\n👨‍👩‍👧‍👦 Families of 4+ cap at $40\nContact a Scout or Ashley @ 254-433-0818 for more info or feel free to message our page!\nPencil this in your book today!! We can’t wait to see you all there! Rain or shine\, cold or hot\, we’ll boogy all night long!
URL:https://deleoncommunitycalendar.com/event/ties-and-tiaras/
LOCATION:De Leon City Auditorium\, De Leon\, 76444\, United States
ATTACH;FMTTYPE=image/jpeg:https://deleoncommunitycalendar.com/wp-content/uploads/2026/03/ties-tiarras.jpg
END:VEVENT
BEGIN:VEVENT
DTSTART;TZID=America/Chicago:20260221T080000
DTEND;TZID=America/Chicago:20260221T160000
DTSTAMP:20260423T052849
CREATED:20260109T125737Z
LAST-MODIFIED:20260109T125737Z
UID:10001895-1771660800-1771689600@deleoncommunitycalendar.com
SUMMARY:De Leon Lions 2026 Arrowhead Show
DESCRIPTION:The annual arrowhead show is sponsored by the De Leon Lions Club. This is one of the better shows of the year. 40 + tables\, $5 admission.
URL:https://deleoncommunitycalendar.com/event/de-leon-lions-2026-arrowhead-show/
LOCATION:De Leon City Auditorium\, De Leon\, 76444\, United States
ATTACH;FMTTYPE=image/png:https://deleoncommunitycalendar.com/wp-content/uploads/2026/01/2026-Arrowhead-Show-authentic.png
END:VEVENT
BEGIN:VEVENT
DTSTART;TZID=America/Chicago:20251213T160000
DTEND;TZID=America/Chicago:20251213T200000
DTSTAMP:20260423T052849
CREATED:20251202T043559Z
LAST-MODIFIED:20251202T043559Z
UID:10001389-1765641600-1765656000@deleoncommunitycalendar.com
SUMMARY:Country Christmas
DESCRIPTION:It’s time!! Sign up now to be a vendor for De Leon Chamber of Commerce’s Country Christmas\, Saturday\, December 13\, 2025. Vendors will begin setting up their booths at 1:00 PM\, so come early and stay late.\nThis is in conjunction with our Christmas Parade which will begin at 7:00. Immediately following the parade Santa and Mrs. Claus will be in the City Auditorium for pictures. We will also have a “Movie on the Lawn”. (Stay tuned for more info about the movie.)
URL:https://deleoncommunitycalendar.com/event/country-christmas/
LOCATION:De Leon City Auditorium\, De Leon\, 76444\, United States
ATTACH;FMTTYPE=image/jpeg:https://deleoncommunitycalendar.com/wp-content/uploads/2025/12/chamber-scaled.jpg
ORGANIZER;CN="De Leon Chamber of Commerce and Agriculture":MAILTO:Deleonchamberofcommerce@gmail.com
END:VEVENT
BEGIN:VEVENT
DTSTART;TZID=America/Chicago:20251025T100000
DTEND;TZID=America/Chicago:20251025T120000
DTSTAMP:20260423T052849
CREATED:20250830T005241Z
LAST-MODIFIED:20250914T124056Z
UID:10000001-1761386400-1761393600@deleoncommunitycalendar.com
SUMMARY:Tin Can Picnic
DESCRIPTION:It will be a day of fun — helping preserve the memory of the railroad years on the Texas Central and later\, the MKT. Guest speakers will be Steve Goen\, author and photographer of trains all over Texas and Corrender Taylor\, railroad historian and photographer with Abilene Preservation League along with other local individuals with railroad connections.The afternoon will include tours of the De Leon Area Historical Museum\, Terrill Antique Car Museum and the MKT depot being preserved.There will be no charge for attendance.
URL:https://deleoncommunitycalendar.com/event/tin-can-picnic/
LOCATION:De Leon City Auditorium\, De Leon\, 76444\, United States
ATTACH;FMTTYPE=image/jpeg:https://deleoncommunitycalendar.com/wp-content/uploads/2025/08/IMG_0959.jpeg
END:VEVENT
BEGIN:VEVENT
DTSTART;TZID=America/Chicago:20251011T160000
DTEND;TZID=America/Chicago:20251011T200000
DTSTAMP:20260423T052849
CREATED:20250929T020820Z
LAST-MODIFIED:20251228T024736Z
UID:10000342-1760198400-1760212800@deleoncommunitycalendar.com
SUMMARY:De Leon  Evening Market
DESCRIPTION:The De Leon Market is held every second Saturday
URL:https://deleoncommunitycalendar.com/event/de-leon-market-2/
LOCATION:De Leon City Auditorium\, De Leon\, 76444\, United States
ATTACH;FMTTYPE=image/jpeg:https://deleoncommunitycalendar.com/wp-content/uploads/2025/09/Market-Day-Logo-A-Resized.jpg
END:VEVENT
BEGIN:VEVENT
DTSTART;TZID=America/Chicago:20250927T170000
DTEND;TZID=America/Chicago:20250927T193000
DTSTAMP:20260423T052849
CREATED:20250913T022338Z
LAST-MODIFIED:20250913T031854Z
UID:10000771-1758992400-1759001400@deleoncommunitycalendar.com
SUMMARY:Fish Fry
DESCRIPTION:Fish\, Fries\, Hushpuppies\, Coleslaw\, Drink and Dessert will be served by the DeLeon Area Historical Society at the DeLeon City Auditorium from\n5 p.m. to 7:30 p.m.  All proceeds go to benefit the preservation of the DeLeon MKT depot.
URL:https://deleoncommunitycalendar.com/event/fish-fry/
LOCATION:De Leon City Auditorium\, De Leon\, 76444\, United States
ATTACH;FMTTYPE=image/jpeg:https://deleoncommunitycalendar.com/wp-content/uploads/2025/09/fish-fry.jpg
END:VEVENT
BEGIN:VEVENT
DTSTART;TZID=America/Chicago:20250913T090000
DTEND;TZID=America/Chicago:20250913T130000
DTSTAMP:20260423T052849
CREATED:20250913T031538Z
LAST-MODIFIED:20250913T031538Z
UID:10000770-1757754000-1757768400@deleoncommunitycalendar.com
SUMMARY:De Leon Library Book Sale!
DESCRIPTION:Market Day is back and De Leon Library will be there! Our book sale will take place in the City Auditorium and the De Leon Library. Individual books are sold by donation! Take what you want\, pay what you can. Want to stock up? Fill a bag with books for just $5! Help us create space for our new books and programs by donating and rescuing a book this month!  \nWhen — Saturday\, September 13th | 9:00 am – 1:00 pm. \nWhere — De Leon City Auditorium & De Leon City-County Library
URL:https://deleoncommunitycalendar.com/event/de-leon-library-book-sale/
LOCATION:De Leon City-County Library\, 125 E Reynosa Ave\, De Leon\, TX\, 76444\, United States
ATTACH;FMTTYPE=image/png:https://deleoncommunitycalendar.com/wp-content/uploads/2025/09/Book-Sale-2.png
ORGANIZER;CN="De Leon Library":MAILTO:library@cityofdeleon.org
END:VEVENT
BEGIN:VEVENT
DTSTART;TZID=America/Chicago:20250913T090000
DTEND;TZID=America/Chicago:20250913T130000
DTSTAMP:20260423T052849
CREATED:20250911T213558Z
LAST-MODIFIED:20250911T213558Z
UID:10000332-1757754000-1757768400@deleoncommunitycalendar.com
SUMMARY:De Leon Market
DESCRIPTION:The De Leon Market is held every second Saturday
URL:https://deleoncommunitycalendar.com/event/de-leon-market/
LOCATION:De Leon City Auditorium\, De Leon\, 76444\, United States
ATTACH;FMTTYPE=image/jpeg:https://deleoncommunitycalendar.com/wp-content/uploads/2025/09/Market-Day-Logo-A-Resized.jpg
END:VEVENT
END:VCALENDAR