BEGIN:VCALENDAR
VERSION:2.0
PRODID:-//De Leon Community Calendar - ECPv6.15.20//NONSGML v1.0//EN
CALSCALE:GREGORIAN
METHOD:PUBLISH
X-ORIGINAL-URL:https://deleoncommunitycalendar.com
X-WR-CALDESC:Events for De Leon Community Calendar
REFRESH-INTERVAL;VALUE=DURATION:PT1H
X-Robots-Tag:noindex
X-PUBLISHED-TTL:PT1H
BEGIN:VTIMEZONE
TZID:America/Chicago
BEGIN:DAYLIGHT
TZOFFSETFROM:-0600
TZOFFSETTO:-0500
TZNAME:CDT
DTSTART:20240310T080000
END:DAYLIGHT
BEGIN:STANDARD
TZOFFSETFROM:-0500
TZOFFSETTO:-0600
TZNAME:CST
DTSTART:20241103T070000
END:STANDARD
BEGIN:DAYLIGHT
TZOFFSETFROM:-0600
TZOFFSETTO:-0500
TZNAME:CDT
DTSTART:20250309T080000
END:DAYLIGHT
BEGIN:STANDARD
TZOFFSETFROM:-0500
TZOFFSETTO:-0600
TZNAME:CST
DTSTART:20251102T070000
END:STANDARD
BEGIN:DAYLIGHT
TZOFFSETFROM:-0600
TZOFFSETTO:-0500
TZNAME:CDT
DTSTART:20260308T080000
END:DAYLIGHT
BEGIN:STANDARD
TZOFFSETFROM:-0500
TZOFFSETTO:-0600
TZNAME:CST
DTSTART:20261101T070000
END:STANDARD
END:VTIMEZONE
BEGIN:VEVENT
DTSTART;VALUE=DATE:20251205
DTEND;VALUE=DATE:20251207
DTSTAMP:20260424T123100
CREATED:20251202T041520Z
LAST-MODIFIED:20251202T041520Z
UID:10001386-1764892800-1765065599@deleoncommunitycalendar.com
SUMMARY:Stockman's Mercantile Grand Opening
DESCRIPTION:STOCKMAN’S MERCANTILE — GRAND OPENING WEEKEND!\n📍 De Leon\, Texas\n🗓️ Soft Opening: Friday\, December 5th (9AM – 6PM)\n🗓️ Grand Opening Celebration:\nSaturday\, December 6th (9AM – 6PM) \nWe are beyond excited to welcome you to the official Grand Opening of Stockman’s Mercantile — your new hometown destination for western wear\, boutique fashion\, accessories\, gifts\, and more!\nLocated right next door to Stockman Seed & Fertilizer\, Inc.\, our new store brings you a bigger\, better shopping experience with the same family values and small-town service you love. ❤️\nWHAT YOU’LL FIND AT STOCKMAN MERCANTILE:\n• Western wear & boutique styles for men\, women\, and kids\n• Accessories\, gifts\, and exciting new brands\n• A fresh\, inviting space full of new arrivals\n• Promotions and surprises!\n✨ SATURDAY SPECIAL GUESTS & ACTIVITIES:\n🎙️ 92.1 Hank FM — Live on-site from 10 AM–12 PM\n☕ Lil Hoss Coffee — Selling coffee and drinks from 8 AM–2 PM\n🌮 Taqueria Maldonado’s — Delicious food on-site from 8 AM–2 PM\n❤️ COMMUNITY FOOD DRIVE — SUPPORT DE LEON FOOD PANTRY\nHelp us give back during our Grand Opening weekend!\nBring 5 canned goods and receive a 20% OFF coupon good for any regular-price item in the store. VALID only for December 5-6th.\nLet’s fill the pantry shelves together!\n✨ WEEKEND HIGHLIGHTS:\n✔️ Soft Opening on Friday\n✔️ Grand Opening Celebration on Saturday\nGIVEAWAYS EVERY HOUR\, EVERY PURCHASE=ONE ENTRY\n✔️ Exclusive deals & giveaways\n✔️ New arrivals & new brands\n✔️ Family-friendly fun\n✔️ Food Drive for De Leon Food Pantry\nJoin us as we open the doors to the next chapter of our family business — right here in De Leon\, Texas.
URL:https://deleoncommunitycalendar.com/event/stockmans-mercantile-grand-opening/
LOCATION:Stockman’s Mercantile\, 800 Navarro Street\, De Leon\, TX\, 76444\, United States
ATTACH;FMTTYPE=image/jpeg:https://deleoncommunitycalendar.com/wp-content/uploads/2025/12/stockman-Grand-Opening.jpg
END:VEVENT
END:VCALENDAR