BEGIN:VCALENDAR
VERSION:2.0
PRODID:-//De Leon Community Calendar - ECPv6.15.20//NONSGML v1.0//EN
CALSCALE:GREGORIAN
METHOD:PUBLISH
X-ORIGINAL-URL:https://deleoncommunitycalendar.com
X-WR-CALDESC:Events for De Leon Community Calendar
REFRESH-INTERVAL;VALUE=DURATION:PT1H
X-Robots-Tag:noindex
X-PUBLISHED-TTL:PT1H
BEGIN:VTIMEZONE
TZID:America/Chicago
BEGIN:DAYLIGHT
TZOFFSETFROM:-0600
TZOFFSETTO:-0500
TZNAME:CDT
DTSTART:20240310T080000
END:DAYLIGHT
BEGIN:STANDARD
TZOFFSETFROM:-0500
TZOFFSETTO:-0600
TZNAME:CST
DTSTART:20241103T070000
END:STANDARD
BEGIN:DAYLIGHT
TZOFFSETFROM:-0600
TZOFFSETTO:-0500
TZNAME:CDT
DTSTART:20250309T080000
END:DAYLIGHT
BEGIN:STANDARD
TZOFFSETFROM:-0500
TZOFFSETTO:-0600
TZNAME:CST
DTSTART:20251102T070000
END:STANDARD
BEGIN:DAYLIGHT
TZOFFSETFROM:-0600
TZOFFSETTO:-0500
TZNAME:CDT
DTSTART:20260308T080000
END:DAYLIGHT
BEGIN:STANDARD
TZOFFSETFROM:-0500
TZOFFSETTO:-0600
TZNAME:CST
DTSTART:20261101T070000
END:STANDARD
END:VTIMEZONE
BEGIN:VEVENT
DTSTART;TZID=America/Chicago:20251101T130000
DTEND;TZID=America/Chicago:20251101T170000
DTSTAMP:20260419T204908
CREATED:20251016T105533Z
LAST-MODIFIED:20251016T105533Z
UID:10000919-1762002000-1762016400@deleoncommunitycalendar.com
SUMMARY:Farm Day
DESCRIPTION:Hayrides\, farm tours\, Zip line\, Ninja course\, arrow practice\, lasso practice\,\nswings\, corn hole\, s’mores\, meat and eggs for sale.
URL:https://deleoncommunitycalendar.com/event/farm-day/
LOCATION:Tate Place Farm\, 2800 Hwy 587 (Sipe Springs Hwy)\, De Leon\, TX\, 76444\, United States
ATTACH;FMTTYPE=image/png:https://deleoncommunitycalendar.com/wp-content/uploads/2025/10/e71484c0574f2f16912ec5ec1124533879c6ea370ee913ec18224dc79de40577-1.png
ORGANIZER;CN="Jimmy and Valerie Cadenhead":MAILTO:jimmy.cadenhead@gmail.com
END:VEVENT
END:VCALENDAR